BEGIN:VCALENDAR
VERSION:2.0
PRODID:-//EELK Lääne-Nigula kogudus - ECPv6.15.20//NONSGML v1.0//EN
CALSCALE:GREGORIAN
METHOD:PUBLISH
X-WR-CALNAME:EELK Lääne-Nigula kogudus
X-ORIGINAL-URL:https://laane-nigula.eelk.ee
X-WR-CALDESC:Events for EELK Lääne-Nigula kogudus
REFRESH-INTERVAL;VALUE=DURATION:PT1H
X-Robots-Tag:noindex
X-PUBLISHED-TTL:PT1H
BEGIN:VTIMEZONE
TZID:Europe/Tallinn
BEGIN:DAYLIGHT
TZOFFSETFROM:+0200
TZOFFSETTO:+0300
TZNAME:EEST
DTSTART:20220327T010000
END:DAYLIGHT
BEGIN:STANDARD
TZOFFSETFROM:+0300
TZOFFSETTO:+0200
TZNAME:EET
DTSTART:20221030T010000
END:STANDARD
BEGIN:DAYLIGHT
TZOFFSETFROM:+0200
TZOFFSETTO:+0300
TZNAME:EEST
DTSTART:20230326T010000
END:DAYLIGHT
BEGIN:STANDARD
TZOFFSETFROM:+0300
TZOFFSETTO:+0200
TZNAME:EET
DTSTART:20231029T010000
END:STANDARD
BEGIN:DAYLIGHT
TZOFFSETFROM:+0200
TZOFFSETTO:+0300
TZNAME:EEST
DTSTART:20240331T010000
END:DAYLIGHT
BEGIN:STANDARD
TZOFFSETFROM:+0300
TZOFFSETTO:+0200
TZNAME:EET
DTSTART:20241027T010000
END:STANDARD
END:VTIMEZONE
BEGIN:VEVENT
DTSTART;TZID=Europe/Tallinn:20230726T100000
DTEND;TZID=Europe/Tallinn:20230726T160000
DTSTAMP:20260421T210711
CREATED:20230601T103156Z
LAST-MODIFIED:20230601T103156Z
UID:876-1690365600-1690387200@laane-nigula.eelk.ee
SUMMARY:Annetusmüük
DESCRIPTION:
URL:https://laane-nigula.eelk.ee/syndmus/annetusmuuk-51/
CATEGORIES:Annetusmüük
END:VEVENT
BEGIN:VEVENT
DTSTART;TZID=Europe/Tallinn:20230723T120000
DTEND;TZID=Europe/Tallinn:20230723T133000
DTSTAMP:20260421T210711
CREATED:20230601T100839Z
LAST-MODIFIED:20230601T101518Z
UID:778-1690113600-1690119000@laane-nigula.eelk.ee
SUMMARY:Jumalateenistus armulauaga
DESCRIPTION:Peale jumalateenistus koguduse väljasõit Randvere eestpalvekogudusele külla. \nJumalateenistus Randveres algab 14.30.
URL:https://laane-nigula.eelk.ee/syndmus/jumalateenistus-armulauaga-19/
CATEGORIES:Jumalateenistus
END:VEVENT
BEGIN:VEVENT
DTSTART;TZID=Europe/Tallinn:20230723T110000
DTEND;TZID=Europe/Tallinn:20230723T160000
DTSTAMP:20260421T210711
CREATED:20230601T102742Z
LAST-MODIFIED:20230601T102742Z
UID:856-1690110000-1690128000@laane-nigula.eelk.ee
SUMMARY:Teelistekirik
DESCRIPTION:
URL:https://laane-nigula.eelk.ee/syndmus/teelistekirik-31/
CATEGORIES:Teeliste kirik
END:VEVENT
BEGIN:VEVENT
DTSTART;TZID=Europe/Tallinn:20230722T130000
DTEND;TZID=Europe/Tallinn:20230722T160000
DTSTAMP:20260421T210711
CREATED:20230601T102443Z
LAST-MODIFIED:20230601T102443Z
UID:840-1690030800-1690041600@laane-nigula.eelk.ee
SUMMARY:Teelistekirik
DESCRIPTION:
URL:https://laane-nigula.eelk.ee/syndmus/teelistekirik-23/
CATEGORIES:Teeliste kirik
END:VEVENT
BEGIN:VEVENT
DTSTART;TZID=Europe/Tallinn:20230722T100000
DTEND;TZID=Europe/Tallinn:20230722T140000
DTSTAMP:20260421T210711
CREATED:20230601T103958Z
LAST-MODIFIED:20230601T103958Z
UID:912-1690020000-1690034400@laane-nigula.eelk.ee
SUMMARY:Annetusmüük
DESCRIPTION:
URL:https://laane-nigula.eelk.ee/syndmus/annetusmuuk-69/
CATEGORIES:Annetusmüük
END:VEVENT
BEGIN:VEVENT
DTSTART;TZID=Europe/Tallinn:20230721T130000
DTEND;TZID=Europe/Tallinn:20230721T160000
DTSTAMP:20260421T210711
CREATED:20230601T102206Z
LAST-MODIFIED:20230601T102206Z
UID:822-1689944400-1689955200@laane-nigula.eelk.ee
SUMMARY:Teelistekirik
DESCRIPTION:
URL:https://laane-nigula.eelk.ee/syndmus/teelistekirik-14/
CATEGORIES:Teeliste kirik
END:VEVENT
BEGIN:VEVENT
DTSTART;TZID=Europe/Tallinn:20230720T180000
DTEND;TZID=Europe/Tallinn:20230720T190000
DTSTAMP:20260421T210711
CREATED:20230703T085359Z
LAST-MODIFIED:20230703T085439Z
UID:936-1689876000-1689879600@laane-nigula.eelk.ee
SUMMARY:Muusikaõhtu meeshäälele ja orelile
DESCRIPTION:
URL:https://laane-nigula.eelk.ee/syndmus/muusikaohtu-meeshaalele-ja-orelile/
CATEGORIES:Kontsert
ATTACH;FMTTYPE=image/jpeg:https://laane-nigula.eelk.ee/wp-content/uploads/2023/07/Laane_Nigula_20_07_2023_page-0001.jpeg
END:VEVENT
BEGIN:VEVENT
DTSTART;TZID=Europe/Tallinn:20230720T100000
DTEND;TZID=Europe/Tallinn:20230720T140000
DTSTAMP:20260421T210711
CREATED:20230601T103736Z
LAST-MODIFIED:20230601T103736Z
UID:892-1689847200-1689861600@laane-nigula.eelk.ee
SUMMARY:Annetusmüük
DESCRIPTION:
URL:https://laane-nigula.eelk.ee/syndmus/annetusmuuk-59/
CATEGORIES:Annetusmüük
END:VEVENT
BEGIN:VEVENT
DTSTART;TZID=Europe/Tallinn:20230720T093000
DTEND;TZID=Europe/Tallinn:20230720T100000
DTSTAMP:20260421T210711
CREATED:20230601T101044Z
LAST-MODIFIED:20230601T101044Z
UID:787-1689845400-1689847200@laane-nigula.eelk.ee
SUMMARY:Hommikupalvus kogudusemajas
DESCRIPTION:
URL:https://laane-nigula.eelk.ee/syndmus/hommikupalvus-kogudusemajas-25/
CATEGORIES:Palvus
END:VEVENT
BEGIN:VEVENT
DTSTART;TZID=Europe/Tallinn:20230719T100000
DTEND;TZID=Europe/Tallinn:20230719T160000
DTSTAMP:20260421T210711
CREATED:20230601T103145Z
LAST-MODIFIED:20230601T103145Z
UID:874-1689760800-1689782400@laane-nigula.eelk.ee
SUMMARY:Annetusmüük
DESCRIPTION:
URL:https://laane-nigula.eelk.ee/syndmus/annetusmuuk-50/
CATEGORIES:Annetusmüük
END:VEVENT
BEGIN:VEVENT
DTSTART;TZID=Europe/Tallinn:20230716T120000
DTEND;TZID=Europe/Tallinn:20230716T133000
DTSTAMP:20260421T210711
CREATED:20230601T100805Z
LAST-MODIFIED:20230601T100805Z
UID:776-1689508800-1689514200@laane-nigula.eelk.ee
SUMMARY:Jumalateenistus armulauaga
DESCRIPTION:
URL:https://laane-nigula.eelk.ee/syndmus/jumalateenistus-armulauaga-18/
CATEGORIES:Jumalateenistus
END:VEVENT
BEGIN:VEVENT
DTSTART;TZID=Europe/Tallinn:20230716T110000
DTEND;TZID=Europe/Tallinn:20230716T160000
DTSTAMP:20260421T210711
CREATED:20230601T102815Z
LAST-MODIFIED:20230601T102815Z
UID:858-1689505200-1689523200@laane-nigula.eelk.ee
SUMMARY:Teelistekirik
DESCRIPTION:
URL:https://laane-nigula.eelk.ee/syndmus/teelistekirik-32/
CATEGORIES:Teeliste kirik
END:VEVENT
BEGIN:VEVENT
DTSTART;TZID=Europe/Tallinn:20230715T130000
DTEND;TZID=Europe/Tallinn:20230715T160000
DTSTAMP:20260421T210711
CREATED:20230601T102430Z
LAST-MODIFIED:20230601T102430Z
UID:838-1689426000-1689436800@laane-nigula.eelk.ee
SUMMARY:Teelistekirik
DESCRIPTION:
URL:https://laane-nigula.eelk.ee/syndmus/teelistekirik-22/
CATEGORIES:Teeliste kirik
END:VEVENT
BEGIN:VEVENT
DTSTART;TZID=Europe/Tallinn:20230715T100000
DTEND;TZID=Europe/Tallinn:20230715T140000
DTSTAMP:20260421T210711
CREATED:20230601T103947Z
LAST-MODIFIED:20230601T103947Z
UID:910-1689415200-1689429600@laane-nigula.eelk.ee
SUMMARY:Annetusmüük
DESCRIPTION:
URL:https://laane-nigula.eelk.ee/syndmus/annetusmuuk-68/
CATEGORIES:Annetusmüük
END:VEVENT
BEGIN:VEVENT
DTSTART;TZID=Europe/Tallinn:20230714T130000
DTEND;TZID=Europe/Tallinn:20230714T160000
DTSTAMP:20260421T210711
CREATED:20230601T102151Z
LAST-MODIFIED:20230601T102151Z
UID:820-1689339600-1689350400@laane-nigula.eelk.ee
SUMMARY:Teelistekirik
DESCRIPTION:
URL:https://laane-nigula.eelk.ee/syndmus/teelistekirik-9/
CATEGORIES:Teeliste kirik
END:VEVENT
BEGIN:VEVENT
DTSTART;TZID=Europe/Tallinn:20230713T100000
DTEND;TZID=Europe/Tallinn:20230713T140000
DTSTAMP:20260421T210711
CREATED:20230601T103723Z
LAST-MODIFIED:20230601T103723Z
UID:890-1689242400-1689256800@laane-nigula.eelk.ee
SUMMARY:Annetusmüük
DESCRIPTION:
URL:https://laane-nigula.eelk.ee/syndmus/annetusmuuk-58/
CATEGORIES:Annetusmüük
END:VEVENT
BEGIN:VEVENT
DTSTART;TZID=Europe/Tallinn:20230713T093000
DTEND;TZID=Europe/Tallinn:20230713T100000
DTSTAMP:20260421T210711
CREATED:20230601T101029Z
LAST-MODIFIED:20230601T101029Z
UID:785-1689240600-1689242400@laane-nigula.eelk.ee
SUMMARY:Hommikupalvus kogudusemajas
DESCRIPTION:
URL:https://laane-nigula.eelk.ee/syndmus/hommikupalvus-kogudusemajas-24/
CATEGORIES:Palvus
END:VEVENT
BEGIN:VEVENT
DTSTART;TZID=Europe/Tallinn:20230712T100000
DTEND;TZID=Europe/Tallinn:20230712T160000
DTSTAMP:20260421T210711
CREATED:20230601T103134Z
LAST-MODIFIED:20230601T103134Z
UID:872-1689156000-1689177600@laane-nigula.eelk.ee
SUMMARY:Annetusmüük
DESCRIPTION:
URL:https://laane-nigula.eelk.ee/syndmus/annetusmuuk-49/
CATEGORIES:Annetusmüük
END:VEVENT
BEGIN:VEVENT
DTSTART;TZID=Europe/Tallinn:20230709T120000
DTEND;TZID=Europe/Tallinn:20230709T133000
DTSTAMP:20260421T210711
CREATED:20230601T100739Z
LAST-MODIFIED:20230601T100739Z
UID:774-1688904000-1688909400@laane-nigula.eelk.ee
SUMMARY:Jumalateenistus armulauaga
DESCRIPTION:
URL:https://laane-nigula.eelk.ee/syndmus/jumalateenistus-armulauaga-17/
CATEGORIES:Jumalateenistus
END:VEVENT
BEGIN:VEVENT
DTSTART;TZID=Europe/Tallinn:20230709T110000
DTEND;TZID=Europe/Tallinn:20230709T160000
DTSTAMP:20260421T210711
CREATED:20230601T102730Z
LAST-MODIFIED:20230601T102730Z
UID:854-1688900400-1688918400@laane-nigula.eelk.ee
SUMMARY:Teelistekirik
DESCRIPTION:
URL:https://laane-nigula.eelk.ee/syndmus/teelistekirik-30/
CATEGORIES:Teeliste kirik
END:VEVENT
BEGIN:VEVENT
DTSTART;TZID=Europe/Tallinn:20230708T130000
DTEND;TZID=Europe/Tallinn:20230708T160000
DTSTAMP:20260421T210711
CREATED:20230601T102417Z
LAST-MODIFIED:20230601T102417Z
UID:836-1688821200-1688832000@laane-nigula.eelk.ee
SUMMARY:Teelistekirik
DESCRIPTION:
URL:https://laane-nigula.eelk.ee/syndmus/teelistekirik-21/
CATEGORIES:Teeliste kirik
END:VEVENT
BEGIN:VEVENT
DTSTART;TZID=Europe/Tallinn:20230708T100000
DTEND;TZID=Europe/Tallinn:20230708T140000
DTSTAMP:20260421T210711
CREATED:20230601T103935Z
LAST-MODIFIED:20230601T103935Z
UID:908-1688810400-1688824800@laane-nigula.eelk.ee
SUMMARY:Annetusmüük
DESCRIPTION:
URL:https://laane-nigula.eelk.ee/syndmus/annetusmuuk-67/
CATEGORIES:Annetusmüük
END:VEVENT
BEGIN:VEVENT
DTSTART;TZID=Europe/Tallinn:20230707T130000
DTEND;TZID=Europe/Tallinn:20230707T160000
DTSTAMP:20260421T210711
CREATED:20230601T102126Z
LAST-MODIFIED:20230601T102126Z
UID:818-1688734800-1688745600@laane-nigula.eelk.ee
SUMMARY:Teelistekirik
DESCRIPTION:
URL:https://laane-nigula.eelk.ee/syndmus/teelistekirik-4/
CATEGORIES:Teeliste kirik
END:VEVENT
BEGIN:VEVENT
DTSTART;TZID=Europe/Tallinn:20230706T100000
DTEND;TZID=Europe/Tallinn:20230706T140000
DTSTAMP:20260421T210711
CREATED:20230601T103712Z
LAST-MODIFIED:20230601T103712Z
UID:888-1688637600-1688652000@laane-nigula.eelk.ee
SUMMARY:Annetusmüük
DESCRIPTION:
URL:https://laane-nigula.eelk.ee/syndmus/annetusmuuk-57/
CATEGORIES:Annetusmüük
END:VEVENT
BEGIN:VEVENT
DTSTART;TZID=Europe/Tallinn:20230706T093000
DTEND;TZID=Europe/Tallinn:20230706T100000
DTSTAMP:20260421T210711
CREATED:20230601T101014Z
LAST-MODIFIED:20230601T101014Z
UID:783-1688635800-1688637600@laane-nigula.eelk.ee
SUMMARY:Hommikupalvus kogudusemajas
DESCRIPTION:
URL:https://laane-nigula.eelk.ee/syndmus/hommikupalvus-kogudusemajas-23/
CATEGORIES:Palvus
END:VEVENT
BEGIN:VEVENT
DTSTART;TZID=Europe/Tallinn:20230705T100000
DTEND;TZID=Europe/Tallinn:20230705T160000
DTSTAMP:20260421T210711
CREATED:20230601T103120Z
LAST-MODIFIED:20230601T103120Z
UID:870-1688551200-1688572800@laane-nigula.eelk.ee
SUMMARY:Annetusmüük
DESCRIPTION:
URL:https://laane-nigula.eelk.ee/syndmus/annetusmuuk-47/
CATEGORIES:Annetusmüük
END:VEVENT
BEGIN:VEVENT
DTSTART;TZID=Europe/Tallinn:20230702T120000
DTEND;TZID=Europe/Tallinn:20230702T133000
DTSTAMP:20260421T210711
CREATED:20230601T100725Z
LAST-MODIFIED:20230601T100725Z
UID:772-1688299200-1688304600@laane-nigula.eelk.ee
SUMMARY:Jumalateenistus armulauaga
DESCRIPTION:
URL:https://laane-nigula.eelk.ee/syndmus/jumalateenistus-armulauaga-16/
CATEGORIES:Jumalateenistus
END:VEVENT
BEGIN:VEVENT
DTSTART;TZID=Europe/Tallinn:20230702T110000
DTEND;TZID=Europe/Tallinn:20230702T160000
DTSTAMP:20260421T210711
CREATED:20230601T102718Z
LAST-MODIFIED:20230601T102718Z
UID:852-1688295600-1688313600@laane-nigula.eelk.ee
SUMMARY:Teelistekirik
DESCRIPTION:
URL:https://laane-nigula.eelk.ee/syndmus/teelistekirik-29/
CATEGORIES:Teeliste kirik
END:VEVENT
BEGIN:VEVENT
DTSTART;TZID=Europe/Tallinn:20230701T130000
DTEND;TZID=Europe/Tallinn:20230701T160000
DTSTAMP:20260421T210711
CREATED:20230601T102405Z
LAST-MODIFIED:20230601T102405Z
UID:834-1688216400-1688227200@laane-nigula.eelk.ee
SUMMARY:Teelistekirik
DESCRIPTION:
URL:https://laane-nigula.eelk.ee/syndmus/teelistekirik-20/
CATEGORIES:Teeliste kirik
END:VEVENT
BEGIN:VEVENT
DTSTART;TZID=Europe/Tallinn:20230701T100000
DTEND;TZID=Europe/Tallinn:20230701T140000
DTSTAMP:20260421T210711
CREATED:20230601T103924Z
LAST-MODIFIED:20230601T103924Z
UID:906-1688205600-1688220000@laane-nigula.eelk.ee
SUMMARY:Annetusmüük
DESCRIPTION:
URL:https://laane-nigula.eelk.ee/syndmus/annetusmuuk-66/
CATEGORIES:Annetusmüük
END:VEVENT
END:VCALENDAR