BEGIN:VCALENDAR
VERSION:2.0
PRODID:-//EELK Lääne-Nigula kogudus - ECPv6.15.20//NONSGML v1.0//EN
CALSCALE:GREGORIAN
METHOD:PUBLISH
X-WR-CALNAME:EELK Lääne-Nigula kogudus
X-ORIGINAL-URL:https://laane-nigula.eelk.ee
X-WR-CALDESC:Events for EELK Lääne-Nigula kogudus
REFRESH-INTERVAL;VALUE=DURATION:PT1H
X-Robots-Tag:noindex
X-PUBLISHED-TTL:PT1H
BEGIN:VTIMEZONE
TZID:Europe/Tallinn
BEGIN:DAYLIGHT
TZOFFSETFROM:+0200
TZOFFSETTO:+0300
TZNAME:EEST
DTSTART:20220327T010000
END:DAYLIGHT
BEGIN:STANDARD
TZOFFSETFROM:+0300
TZOFFSETTO:+0200
TZNAME:EET
DTSTART:20221030T010000
END:STANDARD
BEGIN:DAYLIGHT
TZOFFSETFROM:+0200
TZOFFSETTO:+0300
TZNAME:EEST
DTSTART:20230326T010000
END:DAYLIGHT
BEGIN:STANDARD
TZOFFSETFROM:+0300
TZOFFSETTO:+0200
TZNAME:EET
DTSTART:20231029T010000
END:STANDARD
BEGIN:DAYLIGHT
TZOFFSETFROM:+0200
TZOFFSETTO:+0300
TZNAME:EEST
DTSTART:20240331T010000
END:DAYLIGHT
BEGIN:STANDARD
TZOFFSETFROM:+0300
TZOFFSETTO:+0200
TZNAME:EET
DTSTART:20241027T010000
END:STANDARD
END:VTIMEZONE
BEGIN:VEVENT
DTSTART;TZID=Europe/Tallinn:20230812T100000
DTEND;TZID=Europe/Tallinn:20230812T140000
DTSTAMP:20260421T182147
CREATED:20230601T104028Z
LAST-MODIFIED:20230601T104028Z
UID:918-1691834400-1691848800@laane-nigula.eelk.ee
SUMMARY:Annetusmüük
DESCRIPTION:
URL:https://laane-nigula.eelk.ee/syndmus/annetusmuuk-72/
CATEGORIES:Annetusmüük
END:VEVENT
BEGIN:VEVENT
DTSTART;TZID=Europe/Tallinn:20230811T130000
DTEND;TZID=Europe/Tallinn:20230811T160000
DTSTAMP:20260421T182147
CREATED:20230601T102303Z
LAST-MODIFIED:20230601T102303Z
UID:828-1691758800-1691769600@laane-nigula.eelk.ee
SUMMARY:Teelistekirik
DESCRIPTION:
URL:https://laane-nigula.eelk.ee/syndmus/teelistekirik-17/
CATEGORIES:Teeliste kirik
END:VEVENT
BEGIN:VEVENT
DTSTART;TZID=Europe/Tallinn:20230810T100000
DTEND;TZID=Europe/Tallinn:20230810T140000
DTSTAMP:20260421T182147
CREATED:20230601T103808Z
LAST-MODIFIED:20230601T103808Z
UID:898-1691661600-1691676000@laane-nigula.eelk.ee
SUMMARY:Annetusmüük
DESCRIPTION:
URL:https://laane-nigula.eelk.ee/syndmus/annetusmuuk-62/
CATEGORIES:Annetusmüük
END:VEVENT
BEGIN:VEVENT
DTSTART;TZID=Europe/Tallinn:20230810T093000
DTEND;TZID=Europe/Tallinn:20230810T100000
DTSTAMP:20260421T182147
CREATED:20230601T101946Z
LAST-MODIFIED:20230601T101946Z
UID:810-1691659800-1691661600@laane-nigula.eelk.ee
SUMMARY:Hommikupalvus kogudusemajas
DESCRIPTION:
URL:https://laane-nigula.eelk.ee/syndmus/hommikupalvus-kogudusemajas-28/
CATEGORIES:Palvus
END:VEVENT
BEGIN:VEVENT
DTSTART;TZID=Europe/Tallinn:20230809T100000
DTEND;TZID=Europe/Tallinn:20230809T160000
DTSTAMP:20260421T182147
CREATED:20230601T103458Z
LAST-MODIFIED:20230601T103633Z
UID:880-1691575200-1691596800@laane-nigula.eelk.ee
SUMMARY:Annetusmüük
DESCRIPTION:
URL:https://laane-nigula.eelk.ee/syndmus/annetusmuuk-53/
CATEGORIES:Annetusmüük
END:VEVENT
BEGIN:VEVENT
DTSTART;TZID=Europe/Tallinn:20230806T120000
DTEND;TZID=Europe/Tallinn:20230806T133000
DTSTAMP:20260421T182147
CREATED:20230601T101748Z
LAST-MODIFIED:20230601T101748Z
UID:800-1691323200-1691328600@laane-nigula.eelk.ee
SUMMARY:Jumalateenistus armulauaga
DESCRIPTION:
URL:https://laane-nigula.eelk.ee/syndmus/jumalateenistus-armulauaga-22/
CATEGORIES:Jumalateenistus
END:VEVENT
BEGIN:VEVENT
DTSTART;TZID=Europe/Tallinn:20230806T110000
DTEND;TZID=Europe/Tallinn:20230806T160000
DTSTAMP:20260421T182147
CREATED:20230601T102952Z
LAST-MODIFIED:20230601T102952Z
UID:862-1691319600-1691337600@laane-nigula.eelk.ee
SUMMARY:Teelistekirik
DESCRIPTION:
URL:https://laane-nigula.eelk.ee/syndmus/teelistekirik-34/
CATEGORIES:Teeliste kirik
END:VEVENT
BEGIN:VEVENT
DTSTART;TZID=Europe/Tallinn:20230805T130000
DTEND;TZID=Europe/Tallinn:20230805T160000
DTSTAMP:20260421T182147
CREATED:20230601T102548Z
LAST-MODIFIED:20230601T102548Z
UID:844-1691240400-1691251200@laane-nigula.eelk.ee
SUMMARY:Teelistekirik
DESCRIPTION:
URL:https://laane-nigula.eelk.ee/syndmus/teelistekirik-25/
CATEGORIES:Teeliste kirik
END:VEVENT
BEGIN:VEVENT
DTSTART;TZID=Europe/Tallinn:20230805T110000
DTEND;TZID=Europe/Tallinn:20230805T200000
DTSTAMP:20260421T182147
CREATED:20230708T170903Z
LAST-MODIFIED:20230708T170903Z
UID:940-1691233200-1691265600@laane-nigula.eelk.ee
SUMMARY:Piiblipäev Pikaveres
DESCRIPTION:
URL:https://laane-nigula.eelk.ee/syndmus/piiblipaev-pikaveres/
CATEGORIES:Muu
ATTACH;FMTTYPE=image/png:https://laane-nigula.eelk.ee/wp-content/uploads/2023/07/Laane-praostkonna-piiblipaev_2023_v4.png
END:VEVENT
BEGIN:VEVENT
DTSTART;TZID=Europe/Tallinn:20230805T110000
DTEND;TZID=Europe/Tallinn:20230805T200000
DTSTAMP:20260421T182147
CREATED:20230601T101610Z
LAST-MODIFIED:20230601T101613Z
UID:795-1691233200-1691265600@laane-nigula.eelk.ee
SUMMARY:Pikavere palvemajas PIIBLIPÄEV
DESCRIPTION:
URL:https://laane-nigula.eelk.ee/syndmus/pikavere-palvemajas-piiblipaev/
CATEGORIES:Muu
END:VEVENT
BEGIN:VEVENT
DTSTART;TZID=Europe/Tallinn:20230805T100000
DTEND;TZID=Europe/Tallinn:20230805T140000
DTSTAMP:20260421T182147
CREATED:20230601T104019Z
LAST-MODIFIED:20230601T104019Z
UID:916-1691229600-1691244000@laane-nigula.eelk.ee
SUMMARY:Annetusmüük
DESCRIPTION:
URL:https://laane-nigula.eelk.ee/syndmus/annetusmuuk-71/
CATEGORIES:Annetusmüük
END:VEVENT
BEGIN:VEVENT
DTSTART;TZID=Europe/Tallinn:20230804T130000
DTEND;TZID=Europe/Tallinn:20230804T160000
DTSTAMP:20260421T182147
CREATED:20230601T102251Z
LAST-MODIFIED:20230601T102251Z
UID:826-1691154000-1691164800@laane-nigula.eelk.ee
SUMMARY:Teelistekirik
DESCRIPTION:
URL:https://laane-nigula.eelk.ee/syndmus/teelistekirik-16/
CATEGORIES:Teeliste kirik
END:VEVENT
BEGIN:VEVENT
DTSTART;TZID=Europe/Tallinn:20230803T100000
DTEND;TZID=Europe/Tallinn:20230803T160000
DTSTAMP:20260421T182147
CREATED:20230601T103758Z
LAST-MODIFIED:20230601T103758Z
UID:896-1691056800-1691078400@laane-nigula.eelk.ee
SUMMARY:Annetusmüük
DESCRIPTION:
URL:https://laane-nigula.eelk.ee/syndmus/annetusmuuk-61/
CATEGORIES:Annetusmüük
END:VEVENT
BEGIN:VEVENT
DTSTART;TZID=Europe/Tallinn:20230803T093000
DTEND;TZID=Europe/Tallinn:20230803T103000
DTSTAMP:20260421T182147
CREATED:20230601T101932Z
LAST-MODIFIED:20230601T101932Z
UID:808-1691055000-1691058600@laane-nigula.eelk.ee
SUMMARY:Hommikupalvus kogudusemajas
DESCRIPTION:
URL:https://laane-nigula.eelk.ee/syndmus/hommikupalvus-kogudusemajas-27/
CATEGORIES:Palvus
END:VEVENT
BEGIN:VEVENT
DTSTART;TZID=Europe/Tallinn:20230802T100000
DTEND;TZID=Europe/Tallinn:20230802T160000
DTSTAMP:20260421T182147
CREATED:20230601T103447Z
LAST-MODIFIED:20230601T103643Z
UID:878-1690970400-1690992000@laane-nigula.eelk.ee
SUMMARY:Annetusmüük
DESCRIPTION:
URL:https://laane-nigula.eelk.ee/syndmus/annetusmuuk-52/
CATEGORIES:Annetusmüük
END:VEVENT
BEGIN:VEVENT
DTSTART;TZID=Europe/Tallinn:20230730T120000
DTEND;TZID=Europe/Tallinn:20230730T133000
DTSTAMP:20260421T182147
CREATED:20230616T125759Z
LAST-MODIFIED:20230616T125759Z
UID:925-1690718400-1690723800@laane-nigula.eelk.ee
SUMMARY:Kuld- ja hõbeleer
DESCRIPTION:
URL:https://laane-nigula.eelk.ee/syndmus/kuld-ja-hobeleer/
CATEGORIES:Muu
END:VEVENT
BEGIN:VEVENT
DTSTART;TZID=Europe/Tallinn:20230730T120000
DTEND;TZID=Europe/Tallinn:20230730T133000
DTSTAMP:20260421T182147
CREATED:20230601T100859Z
LAST-MODIFIED:20230601T101502Z
UID:780-1690718400-1690723800@laane-nigula.eelk.ee
SUMMARY:Jumalateenistus armulauaga
DESCRIPTION:
URL:https://laane-nigula.eelk.ee/syndmus/jumalateenistus-armulauaga-20/
CATEGORIES:Jumalateenistus
END:VEVENT
BEGIN:VEVENT
DTSTART;TZID=Europe/Tallinn:20230730T110000
DTEND;TZID=Europe/Tallinn:20230730T160000
DTSTAMP:20260421T182147
CREATED:20230601T102940Z
LAST-MODIFIED:20230601T102940Z
UID:860-1690714800-1690732800@laane-nigula.eelk.ee
SUMMARY:Teelistekirik
DESCRIPTION:
URL:https://laane-nigula.eelk.ee/syndmus/teelistekirik-33/
CATEGORIES:Teeliste kirik
END:VEVENT
BEGIN:VEVENT
DTSTART;TZID=Europe/Tallinn:20230729T130000
DTEND;TZID=Europe/Tallinn:20230729T160000
DTSTAMP:20260421T182147
CREATED:20230601T102502Z
LAST-MODIFIED:20230601T102502Z
UID:842-1690635600-1690646400@laane-nigula.eelk.ee
SUMMARY:Teelistekirik
DESCRIPTION:
URL:https://laane-nigula.eelk.ee/syndmus/teelistekirik-24/
CATEGORIES:Teeliste kirik
END:VEVENT
BEGIN:VEVENT
DTSTART;TZID=Europe/Tallinn:20230729T100000
DTEND;TZID=Europe/Tallinn:20230729T140000
DTSTAMP:20260421T182147
CREATED:20230601T104008Z
LAST-MODIFIED:20230601T104008Z
UID:914-1690624800-1690639200@laane-nigula.eelk.ee
SUMMARY:Annetusmüük
DESCRIPTION:
URL:https://laane-nigula.eelk.ee/syndmus/annetusmuuk-70/
CATEGORIES:Annetusmüük
END:VEVENT
BEGIN:VEVENT
DTSTART;TZID=Europe/Tallinn:20230728T120000
DTEND;TZID=Europe/Tallinn:20230728T160000
DTSTAMP:20260421T182147
CREATED:20230601T102230Z
LAST-MODIFIED:20230601T102230Z
UID:824-1690545600-1690560000@laane-nigula.eelk.ee
SUMMARY:Teelistekirik
DESCRIPTION:
URL:https://laane-nigula.eelk.ee/syndmus/teelistekirik-15/
CATEGORIES:Teeliste kirik
END:VEVENT
BEGIN:VEVENT
DTSTART;VALUE=DATE:20230728
DTEND;VALUE=DATE:20230731
DTSTAMP:20260421T182147
CREATED:20230601T101217Z
LAST-MODIFIED:20230601T101433Z
UID:791-1690502400-1690761599@laane-nigula.eelk.ee
SUMMARY:Äksi pastoraadis lastetöötegijate suvepäevad
DESCRIPTION:
URL:https://laane-nigula.eelk.ee/syndmus/aksi-pastoraadis-lastetootegijate-suvepaevad/
CATEGORIES:Muu
END:VEVENT
BEGIN:VEVENT
DTSTART;TZID=Europe/Tallinn:20230727T100000
DTEND;TZID=Europe/Tallinn:20230727T140000
DTSTAMP:20260421T182147
CREATED:20230601T103746Z
LAST-MODIFIED:20230601T103746Z
UID:894-1690452000-1690466400@laane-nigula.eelk.ee
SUMMARY:Annetusmüük
DESCRIPTION:
URL:https://laane-nigula.eelk.ee/syndmus/annetusmuuk-60/
CATEGORIES:Annetusmüük
END:VEVENT
BEGIN:VEVENT
DTSTART;TZID=Europe/Tallinn:20230727T093000
DTEND;TZID=Europe/Tallinn:20230727T100000
DTSTAMP:20260421T182147
CREATED:20230601T101059Z
LAST-MODIFIED:20230601T101059Z
UID:789-1690450200-1690452000@laane-nigula.eelk.ee
SUMMARY:Hommikupalvus kogudusemajas
DESCRIPTION:
URL:https://laane-nigula.eelk.ee/syndmus/hommikupalvus-kogudusemajas-26/
CATEGORIES:Palvus
END:VEVENT
BEGIN:VEVENT
DTSTART;TZID=Europe/Tallinn:20230726T100000
DTEND;TZID=Europe/Tallinn:20230726T160000
DTSTAMP:20260421T182147
CREATED:20230601T103156Z
LAST-MODIFIED:20230601T103156Z
UID:876-1690365600-1690387200@laane-nigula.eelk.ee
SUMMARY:Annetusmüük
DESCRIPTION:
URL:https://laane-nigula.eelk.ee/syndmus/annetusmuuk-51/
CATEGORIES:Annetusmüük
END:VEVENT
BEGIN:VEVENT
DTSTART;TZID=Europe/Tallinn:20230723T120000
DTEND;TZID=Europe/Tallinn:20230723T133000
DTSTAMP:20260421T182147
CREATED:20230601T100839Z
LAST-MODIFIED:20230601T101518Z
UID:778-1690113600-1690119000@laane-nigula.eelk.ee
SUMMARY:Jumalateenistus armulauaga
DESCRIPTION:Peale jumalateenistus koguduse väljasõit Randvere eestpalvekogudusele külla. \nJumalateenistus Randveres algab 14.30.
URL:https://laane-nigula.eelk.ee/syndmus/jumalateenistus-armulauaga-19/
CATEGORIES:Jumalateenistus
END:VEVENT
BEGIN:VEVENT
DTSTART;TZID=Europe/Tallinn:20230723T110000
DTEND;TZID=Europe/Tallinn:20230723T160000
DTSTAMP:20260421T182147
CREATED:20230601T102742Z
LAST-MODIFIED:20230601T102742Z
UID:856-1690110000-1690128000@laane-nigula.eelk.ee
SUMMARY:Teelistekirik
DESCRIPTION:
URL:https://laane-nigula.eelk.ee/syndmus/teelistekirik-31/
CATEGORIES:Teeliste kirik
END:VEVENT
BEGIN:VEVENT
DTSTART;TZID=Europe/Tallinn:20230722T130000
DTEND;TZID=Europe/Tallinn:20230722T160000
DTSTAMP:20260421T182147
CREATED:20230601T102443Z
LAST-MODIFIED:20230601T102443Z
UID:840-1690030800-1690041600@laane-nigula.eelk.ee
SUMMARY:Teelistekirik
DESCRIPTION:
URL:https://laane-nigula.eelk.ee/syndmus/teelistekirik-23/
CATEGORIES:Teeliste kirik
END:VEVENT
BEGIN:VEVENT
DTSTART;TZID=Europe/Tallinn:20230722T100000
DTEND;TZID=Europe/Tallinn:20230722T140000
DTSTAMP:20260421T182147
CREATED:20230601T103958Z
LAST-MODIFIED:20230601T103958Z
UID:912-1690020000-1690034400@laane-nigula.eelk.ee
SUMMARY:Annetusmüük
DESCRIPTION:
URL:https://laane-nigula.eelk.ee/syndmus/annetusmuuk-69/
CATEGORIES:Annetusmüük
END:VEVENT
BEGIN:VEVENT
DTSTART;TZID=Europe/Tallinn:20230721T130000
DTEND;TZID=Europe/Tallinn:20230721T160000
DTSTAMP:20260421T182147
CREATED:20230601T102206Z
LAST-MODIFIED:20230601T102206Z
UID:822-1689944400-1689955200@laane-nigula.eelk.ee
SUMMARY:Teelistekirik
DESCRIPTION:
URL:https://laane-nigula.eelk.ee/syndmus/teelistekirik-14/
CATEGORIES:Teeliste kirik
END:VEVENT
END:VCALENDAR