BEGIN:VCALENDAR
VERSION:2.0
PRODID:-//EELK Lääne-Nigula kogudus - ECPv6.15.20//NONSGML v1.0//EN
CALSCALE:GREGORIAN
METHOD:PUBLISH
X-WR-CALNAME:EELK Lääne-Nigula kogudus
X-ORIGINAL-URL:https://laane-nigula.eelk.ee
X-WR-CALDESC:Events for EELK Lääne-Nigula kogudus
REFRESH-INTERVAL;VALUE=DURATION:PT1H
X-Robots-Tag:noindex
X-PUBLISHED-TTL:PT1H
BEGIN:VTIMEZONE
TZID:Europe/Tallinn
BEGIN:DAYLIGHT
TZOFFSETFROM:+0200
TZOFFSETTO:+0300
TZNAME:EEST
DTSTART:20220327T010000
END:DAYLIGHT
BEGIN:STANDARD
TZOFFSETFROM:+0300
TZOFFSETTO:+0200
TZNAME:EET
DTSTART:20221030T010000
END:STANDARD
BEGIN:DAYLIGHT
TZOFFSETFROM:+0200
TZOFFSETTO:+0300
TZNAME:EEST
DTSTART:20230326T010000
END:DAYLIGHT
BEGIN:STANDARD
TZOFFSETFROM:+0300
TZOFFSETTO:+0200
TZNAME:EET
DTSTART:20231029T010000
END:STANDARD
BEGIN:DAYLIGHT
TZOFFSETFROM:+0200
TZOFFSETTO:+0300
TZNAME:EEST
DTSTART:20240331T010000
END:DAYLIGHT
BEGIN:STANDARD
TZOFFSETFROM:+0300
TZOFFSETTO:+0200
TZNAME:EET
DTSTART:20241027T010000
END:STANDARD
END:VTIMEZONE
BEGIN:VEVENT
DTSTART;TZID=Europe/Tallinn:20230831T093000
DTEND;TZID=Europe/Tallinn:20230831T100000
DTSTAMP:20260421T154854
CREATED:20230601T102043Z
LAST-MODIFIED:20230601T102043Z
UID:816-1693474200-1693476000@laane-nigula.eelk.ee
SUMMARY:Hommikupalvus kogudusemajas
DESCRIPTION:
URL:https://laane-nigula.eelk.ee/syndmus/hommikupalvus-kogudusemajas-31/
CATEGORIES:Palvus
END:VEVENT
BEGIN:VEVENT
DTSTART;TZID=Europe/Tallinn:20230830T100000
DTEND;TZID=Europe/Tallinn:20230830T160000
DTSTAMP:20260421T154854
CREATED:20230601T103536Z
LAST-MODIFIED:20230601T103536Z
UID:886-1693389600-1693411200@laane-nigula.eelk.ee
SUMMARY:Annetusmüük
DESCRIPTION:
URL:https://laane-nigula.eelk.ee/syndmus/annetusmuuk-56/
CATEGORIES:Annetusmüük
END:VEVENT
BEGIN:VEVENT
DTSTART;TZID=Europe/Tallinn:20230827T120000
DTEND;TZID=Europe/Tallinn:20230827T133000
DTSTAMP:20260421T154854
CREATED:20230601T101826Z
LAST-MODIFIED:20230601T101826Z
UID:804-1693137600-1693143000@laane-nigula.eelk.ee
SUMMARY:Jumalateenistus armulauaga
DESCRIPTION:
URL:https://laane-nigula.eelk.ee/syndmus/jumalateenistus-armulauaga-24/
CATEGORIES:Jumalateenistus
END:VEVENT
BEGIN:VEVENT
DTSTART;TZID=Europe/Tallinn:20230827T110000
DTEND;TZID=Europe/Tallinn:20230827T160000
DTSTAMP:20260421T154854
CREATED:20230601T103018Z
LAST-MODIFIED:20230601T103018Z
UID:866-1693134000-1693152000@laane-nigula.eelk.ee
SUMMARY:Teelistekirik
DESCRIPTION:
URL:https://laane-nigula.eelk.ee/syndmus/teelistekirik-36/
CATEGORIES:Teeliste kirik
END:VEVENT
BEGIN:VEVENT
DTSTART;TZID=Europe/Tallinn:20230826T130000
DTEND;TZID=Europe/Tallinn:20230826T160000
DTSTAMP:20260421T154854
CREATED:20230601T102632Z
LAST-MODIFIED:20230601T102632Z
UID:850-1693054800-1693065600@laane-nigula.eelk.ee
SUMMARY:Teelistekirik
DESCRIPTION:
URL:https://laane-nigula.eelk.ee/syndmus/teelistekirik-28/
CATEGORIES:Teeliste kirik
END:VEVENT
BEGIN:VEVENT
DTSTART;TZID=Europe/Tallinn:20230826T100000
DTEND;TZID=Europe/Tallinn:20230826T140000
DTSTAMP:20260421T154854
CREATED:20230601T104049Z
LAST-MODIFIED:20230601T104049Z
UID:922-1693044000-1693058400@laane-nigula.eelk.ee
SUMMARY:Annetusmüük
DESCRIPTION:
URL:https://laane-nigula.eelk.ee/syndmus/annetusmuuk-74/
CATEGORIES:Annetusmüük
END:VEVENT
BEGIN:VEVENT
DTSTART;TZID=Europe/Tallinn:20230825T180000
DTEND;TZID=Europe/Tallinn:20230825T200000
DTSTAMP:20260421T154854
CREATED:20230601T101904Z
LAST-MODIFIED:20230601T101904Z
UID:806-1692986400-1692993600@laane-nigula.eelk.ee
SUMMARY:Töötegijate nõupidamine
DESCRIPTION:
URL:https://laane-nigula.eelk.ee/syndmus/tootegijate-noupidamine-2/
CATEGORIES:Muu
END:VEVENT
BEGIN:VEVENT
DTSTART;TZID=Europe/Tallinn:20230825T130000
DTEND;TZID=Europe/Tallinn:20230825T160000
DTSTAMP:20260421T154854
CREATED:20230601T102330Z
LAST-MODIFIED:20230601T102330Z
UID:832-1692968400-1692979200@laane-nigula.eelk.ee
SUMMARY:Teelistekirik
DESCRIPTION:
URL:https://laane-nigula.eelk.ee/syndmus/teelistekirik-19/
CATEGORIES:Teeliste kirik
END:VEVENT
BEGIN:VEVENT
DTSTART;TZID=Europe/Tallinn:20230824T100000
DTEND;TZID=Europe/Tallinn:20230824T140000
DTSTAMP:20260421T154854
CREATED:20230601T103831Z
LAST-MODIFIED:20230601T103831Z
UID:902-1692871200-1692885600@laane-nigula.eelk.ee
SUMMARY:Annetusmüük
DESCRIPTION:
URL:https://laane-nigula.eelk.ee/syndmus/annetusmuuk-64/
CATEGORIES:Annetusmüük
END:VEVENT
BEGIN:VEVENT
DTSTART;TZID=Europe/Tallinn:20230824T093000
DTEND;TZID=Europe/Tallinn:20230824T100000
DTSTAMP:20260421T154854
CREATED:20230601T102031Z
LAST-MODIFIED:20230601T102031Z
UID:814-1692869400-1692871200@laane-nigula.eelk.ee
SUMMARY:Hommikupalvus kogudusemajas
DESCRIPTION:
URL:https://laane-nigula.eelk.ee/syndmus/hommikupalvus-kogudusemajas-30/
CATEGORIES:Palvus
END:VEVENT
BEGIN:VEVENT
DTSTART;TZID=Europe/Tallinn:20230823T100000
DTEND;TZID=Europe/Tallinn:20230823T160000
DTSTAMP:20260421T154854
CREATED:20230601T103525Z
LAST-MODIFIED:20230601T103525Z
UID:884-1692784800-1692806400@laane-nigula.eelk.ee
SUMMARY:Annetusmüük
DESCRIPTION:
URL:https://laane-nigula.eelk.ee/syndmus/annetusmuuk-55/
CATEGORIES:Annetusmüük
END:VEVENT
BEGIN:VEVENT
DTSTART;TZID=Europe/Tallinn:20230820T120000
DTEND;TZID=Europe/Tallinn:20230820T133000
DTSTAMP:20260421T154854
CREATED:20230601T101657Z
LAST-MODIFIED:20230601T101657Z
UID:798-1692532800-1692538200@laane-nigula.eelk.ee
SUMMARY:Jumalateenistus armulauaga
DESCRIPTION:TAASISESEISVUMISPÄEV \nKülalised Randvere eestpalvekogudusest. \nKirikukohv
URL:https://laane-nigula.eelk.ee/syndmus/jumalateenistus-armulauaga-21/
CATEGORIES:Jumalateenistus
END:VEVENT
BEGIN:VEVENT
DTSTART;TZID=Europe/Tallinn:20230820T113000
DTEND;TZID=Europe/Tallinn:20230820T120000
DTSTAMP:20260421T154854
CREATED:20230817T001910Z
LAST-MODIFIED:20230817T001910Z
UID:949-1692531000-1692532800@laane-nigula.eelk.ee
SUMMARY:EV iseseisvuse taastamise palvus
DESCRIPTION:
URL:https://laane-nigula.eelk.ee/syndmus/ev-iseseisvuse-taastamise-palvus/
CATEGORIES:Palvus
ATTACH;FMTTYPE=image/png:https://laane-nigula.eelk.ee/wp-content/uploads/2023/08/IMG_3725.png
END:VEVENT
BEGIN:VEVENT
DTSTART;TZID=Europe/Tallinn:20230820T110000
DTEND;TZID=Europe/Tallinn:20230820T160000
DTSTAMP:20260421T154854
CREATED:20230601T103007Z
LAST-MODIFIED:20230601T103007Z
UID:864-1692529200-1692547200@laane-nigula.eelk.ee
SUMMARY:Teelistekirik
DESCRIPTION:
URL:https://laane-nigula.eelk.ee/syndmus/teelistekirik-35/
CATEGORIES:Teeliste kirik
END:VEVENT
BEGIN:VEVENT
DTSTART;TZID=Europe/Tallinn:20230819T130000
DTEND;TZID=Europe/Tallinn:20230819T160000
DTSTAMP:20260421T154854
CREATED:20230601T102616Z
LAST-MODIFIED:20230601T102616Z
UID:848-1692450000-1692460800@laane-nigula.eelk.ee
SUMMARY:Teelistekirik
DESCRIPTION:
URL:https://laane-nigula.eelk.ee/syndmus/teelistekirik-27/
CATEGORIES:Teeliste kirik
END:VEVENT
BEGIN:VEVENT
DTSTART;TZID=Europe/Tallinn:20230819T100000
DTEND;TZID=Europe/Tallinn:20230819T140000
DTSTAMP:20260421T154854
CREATED:20230601T104039Z
LAST-MODIFIED:20230601T104039Z
UID:920-1692439200-1692453600@laane-nigula.eelk.ee
SUMMARY:Annetusmüük
DESCRIPTION:
URL:https://laane-nigula.eelk.ee/syndmus/annetusmuuk-73/
CATEGORIES:Annetusmüük
END:VEVENT
BEGIN:VEVENT
DTSTART;TZID=Europe/Tallinn:20230818T130000
DTEND;TZID=Europe/Tallinn:20230818T160000
DTSTAMP:20260421T154854
CREATED:20230601T102316Z
LAST-MODIFIED:20230601T102316Z
UID:830-1692363600-1692374400@laane-nigula.eelk.ee
SUMMARY:Teelistekirik
DESCRIPTION:
URL:https://laane-nigula.eelk.ee/syndmus/teelistekirik-18/
CATEGORIES:Teeliste kirik
END:VEVENT
BEGIN:VEVENT
DTSTART;TZID=Europe/Tallinn:20230817T100000
DTEND;TZID=Europe/Tallinn:20230817T140000
DTSTAMP:20260421T154854
CREATED:20230601T103820Z
LAST-MODIFIED:20230601T103820Z
UID:900-1692266400-1692280800@laane-nigula.eelk.ee
SUMMARY:Annetusmüük
DESCRIPTION:
URL:https://laane-nigula.eelk.ee/syndmus/annetusmuuk-63/
CATEGORIES:Annetusmüük
END:VEVENT
BEGIN:VEVENT
DTSTART;TZID=Europe/Tallinn:20230817T093000
DTEND;TZID=Europe/Tallinn:20230817T100000
DTSTAMP:20260421T154854
CREATED:20230601T102002Z
LAST-MODIFIED:20230601T102002Z
UID:812-1692264600-1692266400@laane-nigula.eelk.ee
SUMMARY:Hommikupalvus kogudusemajas
DESCRIPTION:
URL:https://laane-nigula.eelk.ee/syndmus/hommikupalvus-kogudusemajas-29/
CATEGORIES:Palvus
END:VEVENT
BEGIN:VEVENT
DTSTART;TZID=Europe/Tallinn:20230816T180000
DTEND;TZID=Europe/Tallinn:20230816T200000
DTSTAMP:20260421T154854
CREATED:20230802T075716Z
LAST-MODIFIED:20230802T075926Z
UID:945-1692208800-1692216000@laane-nigula.eelk.ee
SUMMARY:Piiblitund
DESCRIPTION:PIIBLITUND 16. augustil kell 18.00 kogudusemajas.\nKülaline: JUKKA PAANANEN\nTeema: Enese läbikatsumine\n„Jumal paneb suurelistele vastu\, aga alandlikele annab armu!“\n1 Pt 5 : 5b
URL:https://laane-nigula.eelk.ee/syndmus/piiblitund-3/
END:VEVENT
BEGIN:VEVENT
DTSTART;TZID=Europe/Tallinn:20230816T100000
DTEND;TZID=Europe/Tallinn:20230816T160000
DTSTAMP:20260421T154854
CREATED:20230601T103510Z
LAST-MODIFIED:20230601T103623Z
UID:882-1692180000-1692201600@laane-nigula.eelk.ee
SUMMARY:Annetusmüük
DESCRIPTION:
URL:https://laane-nigula.eelk.ee/syndmus/annetusmuuk-54/
CATEGORIES:Annetusmüük
END:VEVENT
BEGIN:VEVENT
DTSTART;TZID=Europe/Tallinn:20230813T130000
DTEND;TZID=Europe/Tallinn:20230813T160000
DTSTAMP:20260421T154854
CREATED:20230601T103042Z
LAST-MODIFIED:20230601T103042Z
UID:868-1691931600-1691942400@laane-nigula.eelk.ee
SUMMARY:Teelistekirik
DESCRIPTION:
URL:https://laane-nigula.eelk.ee/syndmus/teelistekirik-37/
CATEGORIES:Teeliste kirik
END:VEVENT
BEGIN:VEVENT
DTSTART;TZID=Europe/Tallinn:20230813T120000
DTEND;TZID=Europe/Tallinn:20230813T133000
DTSTAMP:20260421T154854
CREATED:20230601T101804Z
LAST-MODIFIED:20230601T101804Z
UID:802-1691928000-1691933400@laane-nigula.eelk.ee
SUMMARY:Jumalateenistus armulauaga
DESCRIPTION:
URL:https://laane-nigula.eelk.ee/syndmus/jumalateenistus-armulauaga-23/
CATEGORIES:Jumalateenistus
END:VEVENT
BEGIN:VEVENT
DTSTART;TZID=Europe/Tallinn:20230812T130000
DTEND;TZID=Europe/Tallinn:20230812T160000
DTSTAMP:20260421T154854
CREATED:20230601T102603Z
LAST-MODIFIED:20230601T102603Z
UID:846-1691845200-1691856000@laane-nigula.eelk.ee
SUMMARY:Teelistekirik
DESCRIPTION:
URL:https://laane-nigula.eelk.ee/syndmus/teelistekirik-26/
CATEGORIES:Teeliste kirik
END:VEVENT
BEGIN:VEVENT
DTSTART;TZID=Europe/Tallinn:20230812T100000
DTEND;TZID=Europe/Tallinn:20230812T140000
DTSTAMP:20260421T154854
CREATED:20230601T104028Z
LAST-MODIFIED:20230601T104028Z
UID:918-1691834400-1691848800@laane-nigula.eelk.ee
SUMMARY:Annetusmüük
DESCRIPTION:
URL:https://laane-nigula.eelk.ee/syndmus/annetusmuuk-72/
CATEGORIES:Annetusmüük
END:VEVENT
BEGIN:VEVENT
DTSTART;TZID=Europe/Tallinn:20230811T130000
DTEND;TZID=Europe/Tallinn:20230811T160000
DTSTAMP:20260421T154854
CREATED:20230601T102303Z
LAST-MODIFIED:20230601T102303Z
UID:828-1691758800-1691769600@laane-nigula.eelk.ee
SUMMARY:Teelistekirik
DESCRIPTION:
URL:https://laane-nigula.eelk.ee/syndmus/teelistekirik-17/
CATEGORIES:Teeliste kirik
END:VEVENT
BEGIN:VEVENT
DTSTART;TZID=Europe/Tallinn:20230810T100000
DTEND;TZID=Europe/Tallinn:20230810T140000
DTSTAMP:20260421T154854
CREATED:20230601T103808Z
LAST-MODIFIED:20230601T103808Z
UID:898-1691661600-1691676000@laane-nigula.eelk.ee
SUMMARY:Annetusmüük
DESCRIPTION:
URL:https://laane-nigula.eelk.ee/syndmus/annetusmuuk-62/
CATEGORIES:Annetusmüük
END:VEVENT
BEGIN:VEVENT
DTSTART;TZID=Europe/Tallinn:20230810T093000
DTEND;TZID=Europe/Tallinn:20230810T100000
DTSTAMP:20260421T154854
CREATED:20230601T101946Z
LAST-MODIFIED:20230601T101946Z
UID:810-1691659800-1691661600@laane-nigula.eelk.ee
SUMMARY:Hommikupalvus kogudusemajas
DESCRIPTION:
URL:https://laane-nigula.eelk.ee/syndmus/hommikupalvus-kogudusemajas-28/
CATEGORIES:Palvus
END:VEVENT
BEGIN:VEVENT
DTSTART;TZID=Europe/Tallinn:20230809T100000
DTEND;TZID=Europe/Tallinn:20230809T160000
DTSTAMP:20260421T154854
CREATED:20230601T103458Z
LAST-MODIFIED:20230601T103633Z
UID:880-1691575200-1691596800@laane-nigula.eelk.ee
SUMMARY:Annetusmüük
DESCRIPTION:
URL:https://laane-nigula.eelk.ee/syndmus/annetusmuuk-53/
CATEGORIES:Annetusmüük
END:VEVENT
BEGIN:VEVENT
DTSTART;TZID=Europe/Tallinn:20230806T120000
DTEND;TZID=Europe/Tallinn:20230806T133000
DTSTAMP:20260421T154854
CREATED:20230601T101748Z
LAST-MODIFIED:20230601T101748Z
UID:800-1691323200-1691328600@laane-nigula.eelk.ee
SUMMARY:Jumalateenistus armulauaga
DESCRIPTION:
URL:https://laane-nigula.eelk.ee/syndmus/jumalateenistus-armulauaga-22/
CATEGORIES:Jumalateenistus
END:VEVENT
END:VCALENDAR