BEGIN:VCALENDAR
VERSION:2.0
PRODID:-//EELK Lääne-Nigula kogudus - ECPv6.15.20//NONSGML v1.0//EN
CALSCALE:GREGORIAN
METHOD:PUBLISH
X-WR-CALNAME:EELK Lääne-Nigula kogudus
X-ORIGINAL-URL:https://laane-nigula.eelk.ee
X-WR-CALDESC:Events for EELK Lääne-Nigula kogudus
REFRESH-INTERVAL;VALUE=DURATION:PT1H
X-Robots-Tag:noindex
X-PUBLISHED-TTL:PT1H
BEGIN:VTIMEZONE
TZID:Europe/Tallinn
BEGIN:DAYLIGHT
TZOFFSETFROM:+0200
TZOFFSETTO:+0300
TZNAME:EEST
DTSTART:20220327T010000
END:DAYLIGHT
BEGIN:STANDARD
TZOFFSETFROM:+0300
TZOFFSETTO:+0200
TZNAME:EET
DTSTART:20221030T010000
END:STANDARD
BEGIN:DAYLIGHT
TZOFFSETFROM:+0200
TZOFFSETTO:+0300
TZNAME:EEST
DTSTART:20230326T010000
END:DAYLIGHT
BEGIN:STANDARD
TZOFFSETFROM:+0300
TZOFFSETTO:+0200
TZNAME:EET
DTSTART:20231029T010000
END:STANDARD
BEGIN:DAYLIGHT
TZOFFSETFROM:+0200
TZOFFSETTO:+0300
TZNAME:EEST
DTSTART:20240331T010000
END:DAYLIGHT
BEGIN:STANDARD
TZOFFSETFROM:+0300
TZOFFSETTO:+0200
TZNAME:EET
DTSTART:20241027T010000
END:STANDARD
END:VTIMEZONE
BEGIN:VEVENT
DTSTART;TZID=Europe/Tallinn:20231008T120000
DTEND;TZID=Europe/Tallinn:20231008T133000
DTSTAMP:20260421T120849
CREATED:20231005T104829Z
LAST-MODIFIED:20231005T104847Z
UID:1067-1696766400-1696771800@laane-nigula.eelk.ee
SUMMARY:Jumalateenistus armulauaga
DESCRIPTION:Lõikustänupüha kirikukohv
URL:https://laane-nigula.eelk.ee/syndmus/jumalateenistus-armulauaga-30/
CATEGORIES:Jumalateenistus
END:VEVENT
BEGIN:VEVENT
DTSTART;TZID=Europe/Tallinn:20231008T120000
DTEND;TZID=Europe/Tallinn:20231008T130000
DTSTAMP:20260421T120849
CREATED:20231005T105756Z
LAST-MODIFIED:20231005T105756Z
UID:1088-1696766400-1696770000@laane-nigula.eelk.ee
SUMMARY:Pühapäevakool lastele
DESCRIPTION:
URL:https://laane-nigula.eelk.ee/syndmus/puhapaevakool-lastele-2/
CATEGORIES:Lastetöö
END:VEVENT
BEGIN:VEVENT
DTSTART;TZID=Europe/Tallinn:20231007T100000
DTEND;TZID=Europe/Tallinn:20231007T140000
DTSTAMP:20260421T120849
CREATED:20231005T104613Z
LAST-MODIFIED:20231005T104613Z
UID:1057-1696672800-1696687200@laane-nigula.eelk.ee
SUMMARY:Annetusmüük
DESCRIPTION:
URL:https://laane-nigula.eelk.ee/syndmus/annetusmuuk-96/
CATEGORIES:Annetusmüük
END:VEVENT
BEGIN:VEVENT
DTSTART;TZID=Europe/Tallinn:20231005T100000
DTEND;TZID=Europe/Tallinn:20231005T140000
DTSTAMP:20260421T120849
CREATED:20231005T104201Z
LAST-MODIFIED:20231005T104201Z
UID:1049-1696500000-1696514400@laane-nigula.eelk.ee
SUMMARY:Annetusmüük
DESCRIPTION:
URL:https://laane-nigula.eelk.ee/syndmus/annetusmuuk-92/
CATEGORIES:Annetusmüük
END:VEVENT
BEGIN:VEVENT
DTSTART;TZID=Europe/Tallinn:20231005T093000
DTEND;TZID=Europe/Tallinn:20231005T100000
DTSTAMP:20260421T120849
CREATED:20231005T105531Z
LAST-MODIFIED:20231005T105531Z
UID:1080-1696498200-1696500000@laane-nigula.eelk.ee
SUMMARY:Hommikupalvus kogudusemajas
DESCRIPTION:
URL:https://laane-nigula.eelk.ee/syndmus/hommikupalvus-kogudusemajas-36/
CATEGORIES:Palvus
END:VEVENT
BEGIN:VEVENT
DTSTART;TZID=Europe/Tallinn:20231004T100000
DTEND;TZID=Europe/Tallinn:20231004T160000
DTSTAMP:20260421T120849
CREATED:20231005T104040Z
LAST-MODIFIED:20231005T104238Z
UID:1041-1696413600-1696435200@laane-nigula.eelk.ee
SUMMARY:Annetusmüük
DESCRIPTION:
URL:https://laane-nigula.eelk.ee/syndmus/annetusmuuk-88/
CATEGORIES:Annetusmüük
END:VEVENT
BEGIN:VEVENT
DTSTART;TZID=Europe/Tallinn:20231002T183000
DTEND;TZID=Europe/Tallinn:20231002T200000
DTSTAMP:20260421T120849
CREATED:20230920T062353Z
LAST-MODIFIED:20230920T062353Z
UID:1028-1696271400-1696276800@laane-nigula.eelk.ee
SUMMARY:Sügisene leerikool
DESCRIPTION:Kohtumine toimub aadressil https://meet.google.com/bmx-wiow-uha \nLisainfo plakatil
URL:https://laane-nigula.eelk.ee/syndmus/sugisene-leerikool/
CATEGORIES:Leerikool
ATTACH;FMTTYPE=image/jpeg:https://laane-nigula.eelk.ee/wp-content/uploads/2023/09/Leerikool-sugis-2023.jpeg
END:VEVENT
BEGIN:VEVENT
DTSTART;TZID=Europe/Tallinn:20231002T183000
DTEND;TZID=Europe/Tallinn:20231002T193000
DTSTAMP:20260421T120849
CREATED:20231005T105451Z
LAST-MODIFIED:20231005T105451Z
UID:1078-1696271400-1696275000@laane-nigula.eelk.ee
SUMMARY:Sügisese leerikooli algus (veebis)
DESCRIPTION:
URL:https://laane-nigula.eelk.ee/syndmus/sugisese-leerikooli-algus-veebis/
CATEGORIES:Leerikool
END:VEVENT
BEGIN:VEVENT
DTSTART;TZID=Europe/Tallinn:20231001T120000
DTEND;TZID=Europe/Tallinn:20231001T133000
DTSTAMP:20260421T120849
CREATED:20231005T104746Z
LAST-MODIFIED:20231005T104746Z
UID:1065-1696161600-1696167000@laane-nigula.eelk.ee
SUMMARY:Jumalateenistus armulauaga
DESCRIPTION:
URL:https://laane-nigula.eelk.ee/syndmus/jumalateenistus-armulauaga-29/
CATEGORIES:Jumalateenistus
END:VEVENT
BEGIN:VEVENT
DTSTART;TZID=Europe/Tallinn:20230930T100000
DTEND;TZID=Europe/Tallinn:20230930T140000
DTSTAMP:20260421T120849
CREATED:20230830T183233Z
LAST-MODIFIED:20230830T183233Z
UID:982-1696068000-1696082400@laane-nigula.eelk.ee
SUMMARY:Annetusmüük
DESCRIPTION:
URL:https://laane-nigula.eelk.ee/syndmus/annetusmuuk-87/
CATEGORIES:Annetusmüük
END:VEVENT
BEGIN:VEVENT
DTSTART;TZID=Europe/Tallinn:20230929T180000
DTEND;TZID=Europe/Tallinn:20230929T200000
DTSTAMP:20260421T120849
CREATED:20230830T183920Z
LAST-MODIFIED:20230830T183920Z
UID:1007-1696010400-1696017600@laane-nigula.eelk.ee
SUMMARY:Töötegijate nõupidamine
DESCRIPTION:
URL:https://laane-nigula.eelk.ee/syndmus/tootegijate-noupidamine-3/
CATEGORIES:Muu
END:VEVENT
BEGIN:VEVENT
DTSTART;TZID=Europe/Tallinn:20230929T163000
DTEND;TZID=Europe/Tallinn:20230929T163000
DTSTAMP:20260421T120849
CREATED:20230830T183850Z
LAST-MODIFIED:20230830T183850Z
UID:1005-1696005000-1696005000@laane-nigula.eelk.ee
SUMMARY:Saun
DESCRIPTION:
URL:https://laane-nigula.eelk.ee/syndmus/saun/
CATEGORIES:Muu
END:VEVENT
BEGIN:VEVENT
DTSTART;TZID=Europe/Tallinn:20230928T100000
DTEND;TZID=Europe/Tallinn:20230928T140000
DTSTAMP:20260421T120849
CREATED:20230830T183124Z
LAST-MODIFIED:20230830T183124Z
UID:972-1695895200-1695909600@laane-nigula.eelk.ee
SUMMARY:Annetusmüük
DESCRIPTION:
URL:https://laane-nigula.eelk.ee/syndmus/annetusmuuk-82/
CATEGORIES:Annetusmüük
END:VEVENT
BEGIN:VEVENT
DTSTART;TZID=Europe/Tallinn:20230928T093000
DTEND;TZID=Europe/Tallinn:20230928T100000
DTSTAMP:20260421T120849
CREATED:20230830T183718Z
LAST-MODIFIED:20230830T183718Z
UID:999-1695893400-1695895200@laane-nigula.eelk.ee
SUMMARY:Hommikupalvus kogudusemajas
DESCRIPTION:
URL:https://laane-nigula.eelk.ee/syndmus/hommikupalvus-kogudusemajas-35/
CATEGORIES:Annetusmüük
END:VEVENT
BEGIN:VEVENT
DTSTART;TZID=Europe/Tallinn:20230927T100000
DTEND;TZID=Europe/Tallinn:20230927T160000
DTSTAMP:20260421T120849
CREATED:20230830T183024Z
LAST-MODIFIED:20230830T183024Z
UID:964-1695808800-1695830400@laane-nigula.eelk.ee
SUMMARY:Annetusmüük
DESCRIPTION:
URL:https://laane-nigula.eelk.ee/syndmus/annetusmuuk-78/
CATEGORIES:Annetusmüük
END:VEVENT
BEGIN:VEVENT
DTSTART;TZID=Europe/Tallinn:20230924T140000
DTEND;TZID=Europe/Tallinn:20230924T170000
DTSTAMP:20260421T120849
CREATED:20230830T182819Z
LAST-MODIFIED:20230830T182819Z
UID:955-1695564000-1695574800@laane-nigula.eelk.ee
SUMMARY:Jalgrattamatk "Kirik tuleb külla"
DESCRIPTION:
URL:https://laane-nigula.eelk.ee/syndmus/jalgrattamatk-kirik-tuleb-kulla/
CATEGORIES:Muu
ATTACH;FMTTYPE=image/jpeg:https://laane-nigula.eelk.ee/wp-content/uploads/2023/08/unnamed.jpg
END:VEVENT
BEGIN:VEVENT
DTSTART;TZID=Europe/Tallinn:20230924T120000
DTEND;TZID=Europe/Tallinn:20230924T133000
DTSTAMP:20260421T120849
CREATED:20230830T183455Z
LAST-MODIFIED:20230830T183528Z
UID:990-1695556800-1695562200@laane-nigula.eelk.ee
SUMMARY:Jumalateenistus armulauaga
DESCRIPTION:13.30 Ühine supisöömine\n14.00 Jalgrattamatk „ Kirik tuleb külla küladesse Jalukse\, Uugla\, Koela“
URL:https://laane-nigula.eelk.ee/syndmus/jumalateenistus-armulauaga-28/
CATEGORIES:Annetusmüük
END:VEVENT
BEGIN:VEVENT
DTSTART;TZID=Europe/Tallinn:20230923T100000
DTEND;TZID=Europe/Tallinn:20230923T140000
DTSTAMP:20260421T120849
CREATED:20230830T183219Z
LAST-MODIFIED:20230830T183219Z
UID:980-1695463200-1695477600@laane-nigula.eelk.ee
SUMMARY:Annetusmüük
DESCRIPTION:
URL:https://laane-nigula.eelk.ee/syndmus/annetusmuuk-86/
CATEGORIES:Annetusmüük
END:VEVENT
BEGIN:VEVENT
DTSTART;TZID=Europe/Tallinn:20230921T100000
DTEND;TZID=Europe/Tallinn:20230921T140000
DTSTAMP:20260421T120849
CREATED:20230830T183111Z
LAST-MODIFIED:20230830T183111Z
UID:970-1695290400-1695304800@laane-nigula.eelk.ee
SUMMARY:Annetusmüük
DESCRIPTION:
URL:https://laane-nigula.eelk.ee/syndmus/annetusmuuk-81/
CATEGORIES:Annetusmüük
END:VEVENT
BEGIN:VEVENT
DTSTART;TZID=Europe/Tallinn:20230921T093000
DTEND;TZID=Europe/Tallinn:20230921T100000
DTSTAMP:20260421T120849
CREATED:20230830T183703Z
LAST-MODIFIED:20230830T183703Z
UID:997-1695288600-1695290400@laane-nigula.eelk.ee
SUMMARY:Hommikupalvus kogudusemajas
DESCRIPTION:
URL:https://laane-nigula.eelk.ee/syndmus/hommikupalvus-kogudusemajas-34/
CATEGORIES:Palvus
END:VEVENT
BEGIN:VEVENT
DTSTART;TZID=Europe/Tallinn:20230920T100000
DTEND;TZID=Europe/Tallinn:20230920T160000
DTSTAMP:20260421T120849
CREATED:20230830T183008Z
LAST-MODIFIED:20230830T183008Z
UID:962-1695204000-1695225600@laane-nigula.eelk.ee
SUMMARY:Annetusmüük
DESCRIPTION:
URL:https://laane-nigula.eelk.ee/syndmus/annetusmuuk-77/
CATEGORIES:Annetusmüük
END:VEVENT
BEGIN:VEVENT
DTSTART;TZID=Europe/Tallinn:20230917T120000
DTEND;TZID=Europe/Tallinn:20230917T133000
DTSTAMP:20260421T120849
CREATED:20230830T183441Z
LAST-MODIFIED:20230830T183441Z
UID:988-1694952000-1694957400@laane-nigula.eelk.ee
SUMMARY:Jumalateenistus armulauaga
DESCRIPTION:
URL:https://laane-nigula.eelk.ee/syndmus/jumalateenistus-armulauaga-27/
CATEGORIES:Annetusmüük
END:VEVENT
BEGIN:VEVENT
DTSTART;TZID=Europe/Tallinn:20230916T100000
DTEND;TZID=Europe/Tallinn:20230916T140000
DTSTAMP:20260421T120849
CREATED:20230830T183823Z
LAST-MODIFIED:20240412T181500Z
UID:1003-1694858400-1694872800@laane-nigula.eelk.ee
SUMMARY:Maailmakoristuspäev
DESCRIPTION:TALGUPÄEV KIRIKAIAS \nMaailmakoristuspäev toimub sel aastal 16. septembril\, teema „ Kalmistud“. \nLääne – Nigula  kirikaias toimub  laupäeval\, 16.09  kl.  10.00 – 14.00 \, pärast talusupp kõigile. \n„See on nii: kes kasinasti külvab\, see ka lõikab kasinasti\, ja kes rohkesti külvab\, see ka lõikab rohkesti.“         2Kr 9 : 6 \nTööd on: \nOhtlikud puud kirikaias \nVõimalusel  ja vajalike töövahendite olemasolul saame ohtliku puu maha võtta. Vajalikud köied saed\, traktor\, ronimis- või heitmisoskus. \nTrimmerdamine \nMaaküttekontuuri  paigaldatud piirkonnad vajavad korrastust. Võimalusel võtta trimmer kaasa! Tasandamist ja kivikoristust. Maa on vihmade ja vajumise tõttu väga pehme\, väikese traktoriga võib või ATV. \nLillepeenar kogudusemaja ees \nVajab korrastust\, kellel võimalik\, siis sooviksime sinna istutada püsililli\, mis oleks kaunis kogu suve ja annaks võimaluse kaunistada kirikualtarit suve läbi. Oleme väga tänulikud\, kui tel leidub koduaias lilletaimi\, mis kaunistaksid kogudusepeenart. \nToalilled kiriku orelikorrusele \nTänu maaküttele säilitame stabiilse temperatuuri kirikus. Orel vajab niiskust ja kuni 15 kraadi sooja püsivalt. Sooviksime sinna ümber paigutada toalilli\, mis tagaksid vajaliku niiskustasakaalu ja kaunistaksid ka kirikut talv läbi. Kellel on kodust võtta kaasa istutatud taimi oleme väga tänulikud. \nPuude lõhkumine \nMeil on kuuri juures puud\, mis vajaksid lõhkumist ja kuuri paigutamist. Vajalikke töövahendeid meil ei ole. (puulõhkumismasin) \nEhitusalane nõu \nPlaanime teha korda kabeli oma jõududega. Selleks on tarvis koostada muinsuskaitsele plaan vajalikest töödest ja materjalidest\, töömahust jne. \nMaha langenud puud koguduse metsas \nTormi ja tuulte tagajärjel on ka palju tuulemurdu\, võimalusel saagida ja vedada kuuri juurde. \nOotame väga rohket osavõttu ja palume anda teada\, kes milliste vajalike töövahenditega saab keegi panustada. Võimalik kütte kompenseerimine. Andke teada osalusest tel. 51987082 või laane-nigula@eelk.ee \nSaame paika panna päevaplaani ja töökorralduse. Teeme koos oma kogudusemaa ja kirikaia korda! \n  \nTäname teid! \nJumala õnnistust ja hoidmist teie! \nKohtume 16. septembril kell 10.00!
URL:https://laane-nigula.eelk.ee/syndmus/maailmakoristuspaev/
CATEGORIES:Talgupäev
ATTACH;FMTTYPE=image/jpeg:https://laane-nigula.eelk.ee/wp-content/uploads/2023/08/unnamed-1.jpg
END:VEVENT
BEGIN:VEVENT
DTSTART;TZID=Europe/Tallinn:20230916T100000
DTEND;TZID=Europe/Tallinn:20230916T140000
DTSTAMP:20260421T120849
CREATED:20230830T183204Z
LAST-MODIFIED:20230830T183204Z
UID:978-1694858400-1694872800@laane-nigula.eelk.ee
SUMMARY:Annetusmüük
DESCRIPTION:
URL:https://laane-nigula.eelk.ee/syndmus/annetusmuuk-85/
CATEGORIES:Annetusmüük
END:VEVENT
BEGIN:VEVENT
DTSTART;TZID=Europe/Tallinn:20230914T100000
DTEND;TZID=Europe/Tallinn:20230914T140000
DTSTAMP:20260421T120849
CREATED:20230830T183056Z
LAST-MODIFIED:20230830T183056Z
UID:968-1694685600-1694700000@laane-nigula.eelk.ee
SUMMARY:Annetusmüük
DESCRIPTION:
URL:https://laane-nigula.eelk.ee/syndmus/annetusmuuk-80/
CATEGORIES:Annetusmüük
END:VEVENT
BEGIN:VEVENT
DTSTART;TZID=Europe/Tallinn:20230914T093000
DTEND;TZID=Europe/Tallinn:20230914T100000
DTSTAMP:20260421T120849
CREATED:20230830T183631Z
LAST-MODIFIED:20230830T183631Z
UID:995-1694683800-1694685600@laane-nigula.eelk.ee
SUMMARY:Hommikupalvus kogudusemajas
DESCRIPTION:
URL:https://laane-nigula.eelk.ee/syndmus/hommikupalvus-kogudusemajas-33/
CATEGORIES:Palvus
END:VEVENT
BEGIN:VEVENT
DTSTART;TZID=Europe/Tallinn:20230913T100000
DTEND;TZID=Europe/Tallinn:20230913T160000
DTSTAMP:20260421T120849
CREATED:20230830T182953Z
LAST-MODIFIED:20230830T182953Z
UID:960-1694599200-1694620800@laane-nigula.eelk.ee
SUMMARY:Annetusmüük
DESCRIPTION:
URL:https://laane-nigula.eelk.ee/syndmus/annetusmuuk-76/
CATEGORIES:Annetusmüük
END:VEVENT
BEGIN:VEVENT
DTSTART;TZID=Europe/Tallinn:20230910T120000
DTEND;TZID=Europe/Tallinn:20230910T133000
DTSTAMP:20260421T120849
CREATED:20230830T183420Z
LAST-MODIFIED:20230907T105336Z
UID:986-1694347200-1694352600@laane-nigula.eelk.ee
SUMMARY:Jumalateenistus armulauaga
DESCRIPTION:Jutlustab Ken Helmes
URL:https://laane-nigula.eelk.ee/syndmus/jumalateenistus-armulauaga-26/
CATEGORIES:Jumalateenistus
END:VEVENT
BEGIN:VEVENT
DTSTART;TZID=Europe/Tallinn:20230909T100000
DTEND;TZID=Europe/Tallinn:20230909T140000
DTSTAMP:20260421T120849
CREATED:20230830T183152Z
LAST-MODIFIED:20230830T183152Z
UID:976-1694253600-1694268000@laane-nigula.eelk.ee
SUMMARY:Annetusmüük
DESCRIPTION:
URL:https://laane-nigula.eelk.ee/syndmus/annetusmuuk-84/
CATEGORIES:Annetusmüük
END:VEVENT
BEGIN:VEVENT
DTSTART;TZID=Europe/Tallinn:20230907T110000
DTEND;TZID=Europe/Tallinn:20230907T110000
DTSTAMP:20260421T120849
CREATED:20230830T183753Z
LAST-MODIFIED:20230830T183753Z
UID:1001-1694084400-1694084400@laane-nigula.eelk.ee
SUMMARY:Ümarlaud vallaga
DESCRIPTION:
URL:https://laane-nigula.eelk.ee/syndmus/umarlaud-vallaga-3/
CATEGORIES:Muu
END:VEVENT
END:VCALENDAR