BEGIN:VCALENDAR
VERSION:2.0
PRODID:-//EELK Lääne-Nigula kogudus - ECPv6.15.20//NONSGML v1.0//EN
CALSCALE:GREGORIAN
METHOD:PUBLISH
X-WR-CALNAME:EELK Lääne-Nigula kogudus
X-ORIGINAL-URL:https://laane-nigula.eelk.ee
X-WR-CALDESC:Events for EELK Lääne-Nigula kogudus
REFRESH-INTERVAL;VALUE=DURATION:PT1H
X-Robots-Tag:noindex
X-PUBLISHED-TTL:PT1H
BEGIN:VTIMEZONE
TZID:Europe/Tallinn
BEGIN:DAYLIGHT
TZOFFSETFROM:+0200
TZOFFSETTO:+0300
TZNAME:EEST
DTSTART:20220327T010000
END:DAYLIGHT
BEGIN:STANDARD
TZOFFSETFROM:+0300
TZOFFSETTO:+0200
TZNAME:EET
DTSTART:20221030T010000
END:STANDARD
BEGIN:DAYLIGHT
TZOFFSETFROM:+0200
TZOFFSETTO:+0300
TZNAME:EEST
DTSTART:20230326T010000
END:DAYLIGHT
BEGIN:STANDARD
TZOFFSETFROM:+0300
TZOFFSETTO:+0200
TZNAME:EET
DTSTART:20231029T010000
END:STANDARD
BEGIN:DAYLIGHT
TZOFFSETFROM:+0200
TZOFFSETTO:+0300
TZNAME:EEST
DTSTART:20240331T010000
END:DAYLIGHT
BEGIN:STANDARD
TZOFFSETFROM:+0300
TZOFFSETTO:+0200
TZNAME:EET
DTSTART:20241027T010000
END:STANDARD
BEGIN:DAYLIGHT
TZOFFSETFROM:+0200
TZOFFSETTO:+0300
TZNAME:EEST
DTSTART:20250330T010000
END:DAYLIGHT
BEGIN:STANDARD
TZOFFSETFROM:+0300
TZOFFSETTO:+0200
TZNAME:EET
DTSTART:20251026T010000
END:STANDARD
END:VTIMEZONE
BEGIN:VEVENT
DTSTART;TZID=Europe/Tallinn:20231224T160000
DTEND;TZID=Europe/Tallinn:20231224T173000
DTSTAMP:20260421T035225
CREATED:20231029T103004Z
LAST-MODIFIED:20231029T103004Z
UID:1158-1703433600-1703439000@laane-nigula.eelk.ee
SUMMARY:Jõuluõhtu jumalateenistus
DESCRIPTION:
URL:https://laane-nigula.eelk.ee/syndmus/jouluohtu-jumalateenistus/
CATEGORIES:Jumalateenistus
END:VEVENT
BEGIN:VEVENT
DTSTART;TZID=Europe/Tallinn:20231221T083000
DTEND;TZID=Europe/Tallinn:20231221T090000
DTSTAMP:20260421T035225
CREATED:20231029T102515Z
LAST-MODIFIED:20231029T102522Z
UID:1139-1703147400-1703149200@laane-nigula.eelk.ee
SUMMARY:Hommikupalvus
DESCRIPTION:
URL:https://laane-nigula.eelk.ee/syndmus/hommikupalvus-8/
CATEGORIES:Palvus
END:VEVENT
BEGIN:VEVENT
DTSTART;TZID=Europe/Tallinn:20231219T230000
DTEND;TZID=Europe/Tallinn:20231219T230000
DTSTAMP:20260421T035225
CREATED:20231029T104626Z
LAST-MODIFIED:20231029T104626Z
UID:1206-1703026800-1703026800@laane-nigula.eelk.ee
SUMMARY:Oru Kooli advendihommik kirikus
DESCRIPTION:
URL:https://laane-nigula.eelk.ee/syndmus/oru-kooli-advendihommik-kirikus/
CATEGORIES:Muu
END:VEVENT
BEGIN:VEVENT
DTSTART;TZID=Europe/Tallinn:20231217T110000
DTEND;TZID=Europe/Tallinn:20231217T123000
DTSTAMP:20260421T035225
CREATED:20231029T102851Z
LAST-MODIFIED:20231029T102918Z
UID:1154-1702810800-1702816200@laane-nigula.eelk.ee
SUMMARY:Jumalateenistus armulauaga. 3. advent
DESCRIPTION:Esineb „DOXA“\nJÕULULÕUNA KOGUDUSELIIKMETELE
URL:https://laane-nigula.eelk.ee/syndmus/jumalateenistus-armulauaga-40/
CATEGORIES:Jumalateenistus
END:VEVENT
BEGIN:VEVENT
DTSTART;TZID=Europe/Tallinn:20231217T100000
DTEND;TZID=Europe/Tallinn:20231217T113000
DTSTAMP:20260421T035225
CREATED:20231029T104535Z
LAST-MODIFIED:20231205T071726Z
UID:1204-1702807200-1702812600@laane-nigula.eelk.ee
SUMMARY:Jõulupidu pühapäevakooli lastele
DESCRIPTION:
URL:https://laane-nigula.eelk.ee/syndmus/joulupidu-puhapaevakooli-lastele/
CATEGORIES:Lastetöö
END:VEVENT
BEGIN:VEVENT
DTSTART;TZID=Europe/Tallinn:20231217T070000
DTEND;TZID=Europe/Tallinn:20240110T160000
DTSTAMP:20260421T035225
CREATED:20231029T104940Z
LAST-MODIFIED:20231029T104940Z
UID:1218-1702796400-1704902400@laane-nigula.eelk.ee
SUMMARY:Annetusmüügi jõulupuhkus 17.12-10.01.24
DESCRIPTION:
URL:https://laane-nigula.eelk.ee/syndmus/annetusmuugi-joulupuhkus-17-12-10-01-24/
CATEGORIES:Annetusmüük
END:VEVENT
BEGIN:VEVENT
DTSTART;TZID=Europe/Tallinn:20231216T090000
DTEND;TZID=Europe/Tallinn:20231216T130000
DTSTAMP:20260421T035225
CREATED:20231029T105923Z
LAST-MODIFIED:20231029T105923Z
UID:1248-1702717200-1702731600@laane-nigula.eelk.ee
SUMMARY:Annetusmüük
DESCRIPTION:
URL:https://laane-nigula.eelk.ee/syndmus/annetusmuuk-119/
CATEGORIES:Annetusmüük
END:VEVENT
BEGIN:VEVENT
DTSTART;TZID=Europe/Tallinn:20231214T090000
DTEND;TZID=Europe/Tallinn:20231214T130000
DTSTAMP:20260421T035225
CREATED:20231029T105852Z
LAST-MODIFIED:20231029T105852Z
UID:1244-1702544400-1702558800@laane-nigula.eelk.ee
SUMMARY:Annetusmüük
DESCRIPTION:
URL:https://laane-nigula.eelk.ee/syndmus/annetusmuuk-117/
CATEGORIES:Annetusmüük
END:VEVENT
BEGIN:VEVENT
DTSTART;TZID=Europe/Tallinn:20231214T083000
DTEND;TZID=Europe/Tallinn:20231214T090000
DTSTAMP:20260421T035225
CREATED:20231029T102311Z
LAST-MODIFIED:20231029T102311Z
UID:1137-1702542600-1702544400@laane-nigula.eelk.ee
SUMMARY:Hommikupalvus
DESCRIPTION:
URL:https://laane-nigula.eelk.ee/syndmus/hommikupalvus-7/
CATEGORIES:Palvus
END:VEVENT
BEGIN:VEVENT
DTSTART;TZID=Europe/Tallinn:20231213T090000
DTEND;TZID=Europe/Tallinn:20231213T150000
DTSTAMP:20260421T035225
CREATED:20231029T105039Z
LAST-MODIFIED:20231029T105039Z
UID:1220-1702458000-1702479600@laane-nigula.eelk.ee
SUMMARY:Annetusmüük
DESCRIPTION:
URL:https://laane-nigula.eelk.ee/syndmus/annetusmuuk-105/
CATEGORIES:Annetusmüük
END:VEVENT
BEGIN:VEVENT
DTSTART;TZID=Europe/Tallinn:20231210T130000
DTEND;TZID=Europe/Tallinn:20231210T150000
DTSTAMP:20260421T035225
CREATED:20231130T074332Z
LAST-MODIFIED:20231130T074500Z
UID:1267-1702213200-1702220400@laane-nigula.eelk.ee
SUMMARY:Advendikontsert ansamblilt "Eluallikas"
DESCRIPTION:10. detsembril kell 14.00 toimub Lääne-Nigula kirikus advendi kontsert-palvus\, kus esineb ansambel “Eluallikas”. \nOlete oodatud! \nVabaannetus
URL:https://laane-nigula.eelk.ee/syndmus/advendikontsert-ansamblilt-eluallikas/
CATEGORIES:Kontsert
ATTACH;FMTTYPE=image/jpeg:https://laane-nigula.eelk.ee/wp-content/uploads/2023/11/Advendikontsert-10.12.2023-e1701326693546.jpeg
END:VEVENT
BEGIN:VEVENT
DTSTART;TZID=Europe/Tallinn:20231210T110000
DTEND;TZID=Europe/Tallinn:20231210T123000
DTSTAMP:20260421T035225
CREATED:20231029T102833Z
LAST-MODIFIED:20231029T103408Z
UID:1152-1702206000-1702211400@laane-nigula.eelk.ee
SUMMARY:Jumalateenistus armulauaga. 2. advent
DESCRIPTION:
URL:https://laane-nigula.eelk.ee/syndmus/jumalateenistus-armulauaga-39/
CATEGORIES:Jumalateenistus
END:VEVENT
BEGIN:VEVENT
DTSTART;TZID=Europe/Tallinn:20231210T110000
DTEND;TZID=Europe/Tallinn:20231210T120000
DTSTAMP:20260421T035225
CREATED:20231029T103812Z
LAST-MODIFIED:20231029T103812Z
UID:1186-1702206000-1702209600@laane-nigula.eelk.ee
SUMMARY:Pühapäevakool lastele
DESCRIPTION:
URL:https://laane-nigula.eelk.ee/syndmus/puhapaevakool-lastele-10/
CATEGORIES:Lastetöö
END:VEVENT
BEGIN:VEVENT
DTSTART;TZID=Europe/Tallinn:20231209T090000
DTEND;TZID=Europe/Tallinn:20231209T130000
DTSTAMP:20260421T035225
CREATED:20231029T105907Z
LAST-MODIFIED:20231029T105907Z
UID:1246-1702112400-1702126800@laane-nigula.eelk.ee
SUMMARY:Annetusmüük
DESCRIPTION:
URL:https://laane-nigula.eelk.ee/syndmus/annetusmuuk-118/
CATEGORIES:Annetusmüük
END:VEVENT
BEGIN:VEVENT
DTSTART;TZID=Europe/Tallinn:20231208T180000
DTEND;TZID=Europe/Tallinn:20231208T200000
DTSTAMP:20260421T035225
CREATED:20231029T104216Z
LAST-MODIFIED:20231029T104216Z
UID:1198-1702058400-1702065600@laane-nigula.eelk.ee
SUMMARY:Noorteõhtu Checkpoint
DESCRIPTION:
URL:https://laane-nigula.eelk.ee/syndmus/noorteohtu-checkpoint-3/
CATEGORIES:Noortetöö
END:VEVENT
BEGIN:VEVENT
DTSTART;TZID=Europe/Tallinn:20231207T150000
DTEND;TZID=Europe/Tallinn:20231207T160000
DTSTAMP:20260421T035225
CREATED:20231029T103610Z
LAST-MODIFIED:20231029T103610Z
UID:1174-1701961200-1701964800@laane-nigula.eelk.ee
SUMMARY:Kogudusekool
DESCRIPTION:
URL:https://laane-nigula.eelk.ee/syndmus/kogudusekool-5/
CATEGORIES:Kogudusekool
END:VEVENT
BEGIN:VEVENT
DTSTART;TZID=Europe/Tallinn:20231207T100000
DTEND;TZID=Europe/Tallinn:20231207T110000
DTSTAMP:20260421T035225
CREATED:20231029T104331Z
LAST-MODIFIED:20231029T104331Z
UID:1200-1701943200-1701946800@laane-nigula.eelk.ee
SUMMARY:Ümarlaud vallaga
DESCRIPTION:
URL:https://laane-nigula.eelk.ee/syndmus/umarlaud-vallaga-4/
CATEGORIES:Muu
END:VEVENT
BEGIN:VEVENT
DTSTART;TZID=Europe/Tallinn:20231207T090000
DTEND;TZID=Europe/Tallinn:20231207T130000
DTSTAMP:20260421T035225
CREATED:20231029T105837Z
LAST-MODIFIED:20231029T105837Z
UID:1242-1701939600-1701954000@laane-nigula.eelk.ee
SUMMARY:Annetusmüük
DESCRIPTION:
URL:https://laane-nigula.eelk.ee/syndmus/annetusmuuk-116/
CATEGORIES:Annetusmüük
END:VEVENT
BEGIN:VEVENT
DTSTART;TZID=Europe/Tallinn:20231207T083000
DTEND;TZID=Europe/Tallinn:20231207T090000
DTSTAMP:20260421T035225
CREATED:20231029T102245Z
LAST-MODIFIED:20231029T102245Z
UID:1135-1701937800-1701939600@laane-nigula.eelk.ee
SUMMARY:Hommikupalvus
DESCRIPTION:
URL:https://laane-nigula.eelk.ee/syndmus/hommikupalvus-6/
CATEGORIES:Palvus
END:VEVENT
BEGIN:VEVENT
DTSTART;TZID=Europe/Tallinn:20231206T090000
DTEND;TZID=Europe/Tallinn:20231206T150000
DTSTAMP:20260421T035225
CREATED:20231029T105054Z
LAST-MODIFIED:20231029T105054Z
UID:1222-1701853200-1701874800@laane-nigula.eelk.ee
SUMMARY:Annetusmüük
DESCRIPTION:
URL:https://laane-nigula.eelk.ee/syndmus/annetusmuuk-106/
CATEGORIES:Annetusmüük
END:VEVENT
BEGIN:VEVENT
DTSTART;TZID=Europe/Tallinn:20231203T110000
DTEND;TZID=Europe/Tallinn:20231203T123000
DTSTAMP:20260421T035225
CREATED:20231029T102745Z
LAST-MODIFIED:20231029T103334Z
UID:1149-1701601200-1701606600@laane-nigula.eelk.ee
SUMMARY:Jumalateenistus armulauaga. 1. advent
DESCRIPTION:Advendiküünla süütamine
URL:https://laane-nigula.eelk.ee/syndmus/jumalateenistus-armulauaga-38/
CATEGORIES:Jumalateenistus
END:VEVENT
BEGIN:VEVENT
DTSTART;TZID=Europe/Tallinn:20231203T110000
DTEND;TZID=Europe/Tallinn:20231203T120000
DTSTAMP:20260421T035225
CREATED:20231029T103748Z
LAST-MODIFIED:20231029T103748Z
UID:1184-1701601200-1701604800@laane-nigula.eelk.ee
SUMMARY:Pühapäevakool lastele
DESCRIPTION:
URL:https://laane-nigula.eelk.ee/syndmus/puhapaevakool-lastele-9/
CATEGORIES:Lastetöö
END:VEVENT
BEGIN:VEVENT
DTSTART;TZID=Europe/Tallinn:20231202T090000
DTEND;TZID=Europe/Tallinn:20231202T130000
DTSTAMP:20260421T035225
CREATED:20231029T105935Z
LAST-MODIFIED:20231029T105935Z
UID:1250-1701507600-1701522000@laane-nigula.eelk.ee
SUMMARY:Annetusmüük
DESCRIPTION:
URL:https://laane-nigula.eelk.ee/syndmus/annetusmuuk-120/
CATEGORIES:Annetusmüük
END:VEVENT
BEGIN:VEVENT
DTSTART;TZID=Europe/Tallinn:20231130T170000
DTEND;TZID=Europe/Tallinn:20231130T190000
DTSTAMP:20260421T035225
CREATED:20231029T104047Z
LAST-MODIFIED:20231029T104047Z
UID:1194-1701363600-1701370800@laane-nigula.eelk.ee
SUMMARY:Töötegijate nõupidamine
DESCRIPTION:
URL:https://laane-nigula.eelk.ee/syndmus/tootegijate-noupidamine-5/
CATEGORIES:Muu
END:VEVENT
BEGIN:VEVENT
DTSTART;TZID=Europe/Tallinn:20231130T150000
DTEND;TZID=Europe/Tallinn:20231130T160000
DTSTAMP:20260421T035225
CREATED:20231029T103547Z
LAST-MODIFIED:20231029T103547Z
UID:1172-1701356400-1701360000@laane-nigula.eelk.ee
SUMMARY:Kogudusekool
DESCRIPTION:
URL:https://laane-nigula.eelk.ee/syndmus/kogudusekool-4/
CATEGORIES:Kogudusekool
END:VEVENT
BEGIN:VEVENT
DTSTART;TZID=Europe/Tallinn:20231130T100000
DTEND;TZID=Europe/Tallinn:20231130T113000
DTSTAMP:20260421T035225
CREATED:20231029T103954Z
LAST-MODIFIED:20231029T103954Z
UID:1192-1701338400-1701343800@laane-nigula.eelk.ee
SUMMARY:Jumalateenistus Oru Hooldekodus
DESCRIPTION:
URL:https://laane-nigula.eelk.ee/syndmus/jumalateenistus-oru-hooldekodus-3/
CATEGORIES:Jumalateenistus
END:VEVENT
BEGIN:VEVENT
DTSTART;TZID=Europe/Tallinn:20231130T090000
DTEND;TZID=Europe/Tallinn:20231130T130000
DTSTAMP:20260421T035225
CREATED:20231029T105752Z
LAST-MODIFIED:20231029T105752Z
UID:1240-1701334800-1701349200@laane-nigula.eelk.ee
SUMMARY:Annetusmüük
DESCRIPTION:
URL:https://laane-nigula.eelk.ee/syndmus/annetusmuuk-115/
CATEGORIES:Annetusmüük
END:VEVENT
BEGIN:VEVENT
DTSTART;TZID=Europe/Tallinn:20231130T083000
DTEND;TZID=Europe/Tallinn:20231130T090000
DTSTAMP:20260421T035225
CREATED:20231029T102056Z
LAST-MODIFIED:20231029T102056Z
UID:1131-1701333000-1701334800@laane-nigula.eelk.ee
SUMMARY:Hommikupalvus
DESCRIPTION:
URL:https://laane-nigula.eelk.ee/syndmus/hommikupalvus-4/
CATEGORIES:Palvus
END:VEVENT
BEGIN:VEVENT
DTSTART;TZID=Europe/Tallinn:20231129T090000
DTEND;TZID=Europe/Tallinn:20231129T150000
DTSTAMP:20260421T035225
CREATED:20231029T104845Z
LAST-MODIFIED:20231029T104845Z
UID:1216-1701248400-1701270000@laane-nigula.eelk.ee
SUMMARY:Annetusmüük
DESCRIPTION:
URL:https://laane-nigula.eelk.ee/syndmus/annetusmuuk-104/
CATEGORIES:Annetusmüük
END:VEVENT
BEGIN:VEVENT
DTSTART;TZID=Europe/Tallinn:20231126T110000
DTEND;TZID=Europe/Tallinn:20231126T123000
DTSTAMP:20260421T035225
CREATED:20231029T102715Z
LAST-MODIFIED:20231029T102715Z
UID:1147-1700996400-1701001800@laane-nigula.eelk.ee
SUMMARY:Jumalateenistus armulauaga
DESCRIPTION:Igavikupühapäev
URL:https://laane-nigula.eelk.ee/syndmus/jumalateenistus-armulauaga-37/
CATEGORIES:Jumalateenistus
END:VEVENT
END:VCALENDAR