BEGIN:VCALENDAR
VERSION:2.0
PRODID:-//EELK Lääne-Nigula kogudus - ECPv6.15.20//NONSGML v1.0//EN
CALSCALE:GREGORIAN
METHOD:PUBLISH
X-WR-CALNAME:EELK Lääne-Nigula kogudus
X-ORIGINAL-URL:https://laane-nigula.eelk.ee
X-WR-CALDESC:Events for EELK Lääne-Nigula kogudus
REFRESH-INTERVAL;VALUE=DURATION:PT1H
X-Robots-Tag:noindex
X-PUBLISHED-TTL:PT1H
BEGIN:VTIMEZONE
TZID:Europe/Tallinn
BEGIN:DAYLIGHT
TZOFFSETFROM:+0200
TZOFFSETTO:+0300
TZNAME:EEST
DTSTART:20220327T010000
END:DAYLIGHT
BEGIN:STANDARD
TZOFFSETFROM:+0300
TZOFFSETTO:+0200
TZNAME:EET
DTSTART:20221030T010000
END:STANDARD
BEGIN:DAYLIGHT
TZOFFSETFROM:+0200
TZOFFSETTO:+0300
TZNAME:EEST
DTSTART:20230326T010000
END:DAYLIGHT
BEGIN:STANDARD
TZOFFSETFROM:+0300
TZOFFSETTO:+0200
TZNAME:EET
DTSTART:20231029T010000
END:STANDARD
BEGIN:DAYLIGHT
TZOFFSETFROM:+0200
TZOFFSETTO:+0300
TZNAME:EEST
DTSTART:20240331T010000
END:DAYLIGHT
BEGIN:STANDARD
TZOFFSETFROM:+0300
TZOFFSETTO:+0200
TZNAME:EET
DTSTART:20241027T010000
END:STANDARD
BEGIN:DAYLIGHT
TZOFFSETFROM:+0200
TZOFFSETTO:+0300
TZNAME:EEST
DTSTART:20250330T010000
END:DAYLIGHT
BEGIN:STANDARD
TZOFFSETFROM:+0300
TZOFFSETTO:+0200
TZNAME:EET
DTSTART:20251026T010000
END:STANDARD
END:VTIMEZONE
BEGIN:VEVENT
DTSTART;TZID=Europe/Tallinn:20240125T150000
DTEND;TZID=Europe/Tallinn:20240125T160000
DTSTAMP:20260421T012750
CREATED:20231228T122036Z
LAST-MODIFIED:20231228T122036Z
UID:1474-1706194800-1706198400@laane-nigula.eelk.ee
SUMMARY:Kogudusekool „Luukas jutustab Jeesusest“
DESCRIPTION:
URL:https://laane-nigula.eelk.ee/syndmus/kogudusekool-luukas-jutustab-jeesusest-2/
CATEGORIES:Kogudusekool
END:VEVENT
BEGIN:VEVENT
DTSTART;TZID=Europe/Tallinn:20240125T090000
DTEND;TZID=Europe/Tallinn:20240125T130000
DTSTAMP:20260421T012750
CREATED:20231228T120001Z
LAST-MODIFIED:20240120T091928Z
UID:1397-1706173200-1706187600@laane-nigula.eelk.ee
SUMMARY:Annetusmüük SULETUD
DESCRIPTION:
URL:https://laane-nigula.eelk.ee/syndmus/annetusmuuk-121/
CATEGORIES:Annetusmüük
END:VEVENT
BEGIN:VEVENT
DTSTART;TZID=Europe/Tallinn:20240125T083000
DTEND;TZID=Europe/Tallinn:20240125T090000
DTSTAMP:20260421T012750
CREATED:20231228T114657Z
LAST-MODIFIED:20231228T114657Z
UID:1354-1706171400-1706173200@laane-nigula.eelk.ee
SUMMARY:Hommikupalvus kogudusemajas
DESCRIPTION:
URL:https://laane-nigula.eelk.ee/syndmus/hommikupalvus-kogudusemajas-42/
CATEGORIES:Palvus
END:VEVENT
BEGIN:VEVENT
DTSTART;TZID=Europe/Tallinn:20240124T090000
DTEND;TZID=Europe/Tallinn:20240124T150000
DTSTAMP:20260421T012750
CREATED:20231228T120030Z
LAST-MODIFIED:20240120T091916Z
UID:1399-1706086800-1706108400@laane-nigula.eelk.ee
SUMMARY:Annetusmüük SULETUD
DESCRIPTION:
URL:https://laane-nigula.eelk.ee/syndmus/annetusmuuk-122/
CATEGORIES:Annetusmüük
END:VEVENT
BEGIN:VEVENT
DTSTART;TZID=Europe/Tallinn:20240121T110000
DTEND;TZID=Europe/Tallinn:20240121T123000
DTSTAMP:20260421T012750
CREATED:20231228T121014Z
LAST-MODIFIED:20231228T121014Z
UID:1453-1705834800-1705840200@laane-nigula.eelk.ee
SUMMARY:Pühapäevakool lastele
DESCRIPTION:
URL:https://laane-nigula.eelk.ee/syndmus/puhapaevakool-lastele-12/
CATEGORIES:Lastetöö
END:VEVENT
BEGIN:VEVENT
DTSTART;TZID=Europe/Tallinn:20240121T110000
DTEND;TZID=Europe/Tallinn:20240121T123000
DTSTAMP:20260421T012750
CREATED:20231228T113749Z
LAST-MODIFIED:20231228T113749Z
UID:1324-1705834800-1705840200@laane-nigula.eelk.ee
SUMMARY:Jumalateenistus armulauaga
DESCRIPTION:
URL:https://laane-nigula.eelk.ee/syndmus/jumalateenistus-armulauaga-43/
CATEGORIES:Jumalateenistus
END:VEVENT
BEGIN:VEVENT
DTSTART;TZID=Europe/Tallinn:20240120T090000
DTEND;TZID=Europe/Tallinn:20240120T130000
DTSTAMP:20260421T012750
CREATED:20231228T115647Z
LAST-MODIFIED:20240120T091810Z
UID:1388-1705741200-1705755600@laane-nigula.eelk.ee
SUMMARY:Annetusmüük SULETUD
DESCRIPTION:
URL:https://laane-nigula.eelk.ee/syndmus/avatud-annetusmuuk-7/
CATEGORIES:Annetusmüük
END:VEVENT
BEGIN:VEVENT
DTSTART;TZID=Europe/Tallinn:20240118T090000
DTEND;TZID=Europe/Tallinn:20240118T130000
DTSTAMP:20260421T012750
CREATED:20231228T115621Z
LAST-MODIFIED:20231228T115917Z
UID:1386-1705568400-1705582800@laane-nigula.eelk.ee
SUMMARY:Annetusmüük
DESCRIPTION:
URL:https://laane-nigula.eelk.ee/syndmus/avatud-annetusmuuk-6/
CATEGORIES:Annetusmüük
END:VEVENT
BEGIN:VEVENT
DTSTART;TZID=Europe/Tallinn:20240118T083000
DTEND;TZID=Europe/Tallinn:20240118T090000
DTSTAMP:20260421T012750
CREATED:20231228T114640Z
LAST-MODIFIED:20231228T114640Z
UID:1352-1705566600-1705568400@laane-nigula.eelk.ee
SUMMARY:Hommikupalvus kogudusemajas
DESCRIPTION:
URL:https://laane-nigula.eelk.ee/syndmus/hommikupalvus-kogudusemajas-41/
CATEGORIES:Palvus
END:VEVENT
BEGIN:VEVENT
DTSTART;TZID=Europe/Tallinn:20240117T090000
DTEND;TZID=Europe/Tallinn:20240117T150000
DTSTAMP:20260421T012750
CREATED:20231228T115559Z
LAST-MODIFIED:20231228T115911Z
UID:1384-1705482000-1705503600@laane-nigula.eelk.ee
SUMMARY:Annetusmüük
DESCRIPTION:
URL:https://laane-nigula.eelk.ee/syndmus/avatud-annetusmuuk-5/
CATEGORIES:Annetusmüük
END:VEVENT
BEGIN:VEVENT
DTSTART;TZID=Europe/Tallinn:20240114T110000
DTEND;TZID=Europe/Tallinn:20240114T123000
DTSTAMP:20260421T012750
CREATED:20231228T120958Z
LAST-MODIFIED:20231228T120958Z
UID:1451-1705230000-1705235400@laane-nigula.eelk.ee
SUMMARY:Pühapäevakool lastele
DESCRIPTION:
URL:https://laane-nigula.eelk.ee/syndmus/puhapaevakool-lastele-11/
CATEGORIES:Lastetöö
END:VEVENT
BEGIN:VEVENT
DTSTART;TZID=Europe/Tallinn:20240114T110000
DTEND;TZID=Europe/Tallinn:20240114T123000
DTSTAMP:20260421T012750
CREATED:20231228T113716Z
LAST-MODIFIED:20231228T113716Z
UID:1322-1705230000-1705235400@laane-nigula.eelk.ee
SUMMARY:Jumalateenistus armulauaga
DESCRIPTION:
URL:https://laane-nigula.eelk.ee/syndmus/jumalateenistus-armulauaga-42/
CATEGORIES:Jumalateenistus
END:VEVENT
BEGIN:VEVENT
DTSTART;TZID=Europe/Tallinn:20240113T090000
DTEND;TZID=Europe/Tallinn:20240113T130000
DTSTAMP:20260421T012750
CREATED:20231228T115537Z
LAST-MODIFIED:20231228T115906Z
UID:1382-1705136400-1705150800@laane-nigula.eelk.ee
SUMMARY:Annetusmüük
DESCRIPTION:
URL:https://laane-nigula.eelk.ee/syndmus/avatud-annetusmuuk-4/
CATEGORIES:Annetusmüük
END:VEVENT
BEGIN:VEVENT
DTSTART;TZID=Europe/Tallinn:20240111T163000
DTEND;TZID=Europe/Tallinn:20240111T173000
DTSTAMP:20260421T012750
CREATED:20231228T120823Z
LAST-MODIFIED:20231228T122827Z
UID:1447-1704990600-1704994200@laane-nigula.eelk.ee
SUMMARY:Misjonitoimkonna koosolek
DESCRIPTION:
URL:https://laane-nigula.eelk.ee/syndmus/misjoni-toimkonna-koosolek-2/
CATEGORIES:Misjonitoimkond
END:VEVENT
BEGIN:VEVENT
DTSTART;TZID=Europe/Tallinn:20240111T090000
DTEND;TZID=Europe/Tallinn:20240111T130000
DTSTAMP:20260421T012750
CREATED:20231228T115339Z
LAST-MODIFIED:20231228T115859Z
UID:1380-1704963600-1704978000@laane-nigula.eelk.ee
SUMMARY:Annetusmüük
DESCRIPTION:
URL:https://laane-nigula.eelk.ee/syndmus/avatud-annetusmuuk-3/
CATEGORIES:Annetusmüük
END:VEVENT
BEGIN:VEVENT
DTSTART;TZID=Europe/Tallinn:20240111T083000
DTEND;TZID=Europe/Tallinn:20240111T090000
DTSTAMP:20260421T012750
CREATED:20231228T114436Z
LAST-MODIFIED:20231228T114540Z
UID:1350-1704961800-1704963600@laane-nigula.eelk.ee
SUMMARY:Hommikupalvus kogudusemajas
DESCRIPTION:
URL:https://laane-nigula.eelk.ee/syndmus/hommikupalvus-kogudusemajas-40/
CATEGORIES:Palvus
END:VEVENT
BEGIN:VEVENT
DTSTART;TZID=Europe/Tallinn:20240110T090000
DTEND;TZID=Europe/Tallinn:20240110T150000
DTSTAMP:20260421T012750
CREATED:20231228T115313Z
LAST-MODIFIED:20231228T115851Z
UID:1377-1704877200-1704898800@laane-nigula.eelk.ee
SUMMARY:Annetusmüük
DESCRIPTION:
URL:https://laane-nigula.eelk.ee/syndmus/avatud-annetusmuuk-2/
CATEGORIES:Annetusmüük
END:VEVENT
BEGIN:VEVENT
DTSTART;TZID=Europe/Tallinn:20240109T170000
DTEND;TZID=Europe/Tallinn:20240109T190000
DTSTAMP:20260421T012750
CREATED:20231228T114401Z
LAST-MODIFIED:20231228T114401Z
UID:1348-1704819600-1704826800@laane-nigula.eelk.ee
SUMMARY:Juhatuse koosolek
DESCRIPTION:
URL:https://laane-nigula.eelk.ee/syndmus/juhatuse-koosolek-2/
CATEGORIES:Juhatus
END:VEVENT
BEGIN:VEVENT
DTSTART;TZID=Europe/Tallinn:20240107T110000
DTEND;TZID=Europe/Tallinn:20240107T123000
DTSTAMP:20260421T012750
CREATED:20231228T113655Z
LAST-MODIFIED:20231228T113655Z
UID:1320-1704625200-1704630600@laane-nigula.eelk.ee
SUMMARY:Jumalateenistus armulauaga
DESCRIPTION:
URL:https://laane-nigula.eelk.ee/syndmus/jumalateenistus-armulauaga-41/
CATEGORIES:Jumalateenistus
END:VEVENT
BEGIN:VEVENT
DTSTART;TZID=Europe/Tallinn:20240103T093000
DTEND;TZID=Europe/Tallinn:20240103T100000
DTSTAMP:20260421T012750
CREATED:20231228T113619Z
LAST-MODIFIED:20231228T113619Z
UID:1318-1704274200-1704276000@laane-nigula.eelk.ee
SUMMARY:Vabadussõjas võidelnute mälestuspäev
DESCRIPTION:Palvus ausamba juures
URL:https://laane-nigula.eelk.ee/syndmus/vabadussojas-voidelnute-malestuspaev/
END:VEVENT
BEGIN:VEVENT
DTSTART;TZID=Europe/Tallinn:20240103T093000
DTEND;TZID=Europe/Tallinn:20240103T100000
DTSTAMP:20260421T012750
CREATED:20231228T113543Z
LAST-MODIFIED:20231228T113543Z
UID:1316-1704274200-1704276000@laane-nigula.eelk.ee
SUMMARY:Kirikukell
DESCRIPTION:
URL:https://laane-nigula.eelk.ee/syndmus/kirikukell/
CATEGORIES:Muu
END:VEVENT
BEGIN:VEVENT
DTSTART;TZID=Europe/Tallinn:20240101T110000
DTEND;TZID=Europe/Tallinn:20240101T123000
DTSTAMP:20260421T012750
CREATED:20231029T103304Z
LAST-MODIFIED:20231029T103304Z
UID:1164-1704106800-1704112200@laane-nigula.eelk.ee
SUMMARY:Uue aasta jumalateenistus armulauaga
DESCRIPTION:Vaba mikrofon
URL:https://laane-nigula.eelk.ee/syndmus/uue-aasta-jumalateenistus-armulauaga/
CATEGORIES:Jumalateenistus
END:VEVENT
BEGIN:VEVENT
DTSTART;TZID=Europe/Tallinn:20231231T160000
DTEND;TZID=Europe/Tallinn:20231231T173000
DTSTAMP:20260421T012750
CREATED:20231029T103147Z
LAST-MODIFIED:20231029T103147Z
UID:1162-1704038400-1704043800@laane-nigula.eelk.ee
SUMMARY:Vana–aastaõhtu jumalateenistus
DESCRIPTION:
URL:https://laane-nigula.eelk.ee/syndmus/vana-aastaohtu-jumalateenistus/
CATEGORIES:Jumalateenistus
END:VEVENT
BEGIN:VEVENT
DTSTART;TZID=Europe/Tallinn:20231225T110000
DTEND;TZID=Europe/Tallinn:20231225T123000
DTSTAMP:20260421T012750
CREATED:20231029T103029Z
LAST-MODIFIED:20231029T103029Z
UID:1160-1703502000-1703507400@laane-nigula.eelk.ee
SUMMARY:1. Jõulupüha jumalateenistus armulauaga
DESCRIPTION:
URL:https://laane-nigula.eelk.ee/syndmus/1-joulupuha-jumalateenistus-armulauaga/
CATEGORIES:Jumalateenistus
END:VEVENT
BEGIN:VEVENT
DTSTART;TZID=Europe/Tallinn:20231224T160000
DTEND;TZID=Europe/Tallinn:20231224T173000
DTSTAMP:20260421T012750
CREATED:20231029T103004Z
LAST-MODIFIED:20231029T103004Z
UID:1158-1703433600-1703439000@laane-nigula.eelk.ee
SUMMARY:Jõuluõhtu jumalateenistus
DESCRIPTION:
URL:https://laane-nigula.eelk.ee/syndmus/jouluohtu-jumalateenistus/
CATEGORIES:Jumalateenistus
END:VEVENT
BEGIN:VEVENT
DTSTART;TZID=Europe/Tallinn:20231221T083000
DTEND;TZID=Europe/Tallinn:20231221T090000
DTSTAMP:20260421T012750
CREATED:20231029T102515Z
LAST-MODIFIED:20231029T102522Z
UID:1139-1703147400-1703149200@laane-nigula.eelk.ee
SUMMARY:Hommikupalvus
DESCRIPTION:
URL:https://laane-nigula.eelk.ee/syndmus/hommikupalvus-8/
CATEGORIES:Palvus
END:VEVENT
BEGIN:VEVENT
DTSTART;TZID=Europe/Tallinn:20231219T230000
DTEND;TZID=Europe/Tallinn:20231219T230000
DTSTAMP:20260421T012750
CREATED:20231029T104626Z
LAST-MODIFIED:20231029T104626Z
UID:1206-1703026800-1703026800@laane-nigula.eelk.ee
SUMMARY:Oru Kooli advendihommik kirikus
DESCRIPTION:
URL:https://laane-nigula.eelk.ee/syndmus/oru-kooli-advendihommik-kirikus/
CATEGORIES:Muu
END:VEVENT
BEGIN:VEVENT
DTSTART;TZID=Europe/Tallinn:20231217T110000
DTEND;TZID=Europe/Tallinn:20231217T123000
DTSTAMP:20260421T012750
CREATED:20231029T102851Z
LAST-MODIFIED:20231029T102918Z
UID:1154-1702810800-1702816200@laane-nigula.eelk.ee
SUMMARY:Jumalateenistus armulauaga. 3. advent
DESCRIPTION:Esineb „DOXA“\nJÕULULÕUNA KOGUDUSELIIKMETELE
URL:https://laane-nigula.eelk.ee/syndmus/jumalateenistus-armulauaga-40/
CATEGORIES:Jumalateenistus
END:VEVENT
BEGIN:VEVENT
DTSTART;TZID=Europe/Tallinn:20231217T100000
DTEND;TZID=Europe/Tallinn:20231217T113000
DTSTAMP:20260421T012750
CREATED:20231029T104535Z
LAST-MODIFIED:20231205T071726Z
UID:1204-1702807200-1702812600@laane-nigula.eelk.ee
SUMMARY:Jõulupidu pühapäevakooli lastele
DESCRIPTION:
URL:https://laane-nigula.eelk.ee/syndmus/joulupidu-puhapaevakooli-lastele/
CATEGORIES:Lastetöö
END:VEVENT
BEGIN:VEVENT
DTSTART;TZID=Europe/Tallinn:20231217T070000
DTEND;TZID=Europe/Tallinn:20240110T160000
DTSTAMP:20260421T012750
CREATED:20231029T104940Z
LAST-MODIFIED:20231029T104940Z
UID:1218-1702796400-1704902400@laane-nigula.eelk.ee
SUMMARY:Annetusmüügi jõulupuhkus 17.12-10.01.24
DESCRIPTION:
URL:https://laane-nigula.eelk.ee/syndmus/annetusmuugi-joulupuhkus-17-12-10-01-24/
CATEGORIES:Annetusmüük
END:VEVENT
END:VCALENDAR