BEGIN:VCALENDAR
VERSION:2.0
PRODID:-//EELK Lääne-Nigula kogudus - ECPv6.15.20//NONSGML v1.0//EN
CALSCALE:GREGORIAN
METHOD:PUBLISH
X-WR-CALNAME:EELK Lääne-Nigula kogudus
X-ORIGINAL-URL:https://laane-nigula.eelk.ee
X-WR-CALDESC:Events for EELK Lääne-Nigula kogudus
REFRESH-INTERVAL;VALUE=DURATION:PT1H
X-Robots-Tag:noindex
X-PUBLISHED-TTL:PT1H
BEGIN:VTIMEZONE
TZID:Europe/Tallinn
BEGIN:DAYLIGHT
TZOFFSETFROM:+0200
TZOFFSETTO:+0300
TZNAME:EEST
DTSTART:20230326T010000
END:DAYLIGHT
BEGIN:STANDARD
TZOFFSETFROM:+0300
TZOFFSETTO:+0200
TZNAME:EET
DTSTART:20231029T010000
END:STANDARD
BEGIN:DAYLIGHT
TZOFFSETFROM:+0200
TZOFFSETTO:+0300
TZNAME:EEST
DTSTART:20240331T010000
END:DAYLIGHT
BEGIN:STANDARD
TZOFFSETFROM:+0300
TZOFFSETTO:+0200
TZNAME:EET
DTSTART:20241027T010000
END:STANDARD
BEGIN:DAYLIGHT
TZOFFSETFROM:+0200
TZOFFSETTO:+0300
TZNAME:EEST
DTSTART:20250330T010000
END:DAYLIGHT
BEGIN:STANDARD
TZOFFSETFROM:+0300
TZOFFSETTO:+0200
TZNAME:EET
DTSTART:20251026T010000
END:STANDARD
END:VTIMEZONE
BEGIN:VEVENT
DTSTART;TZID=Europe/Tallinn:20240321T170000
DTEND;TZID=Europe/Tallinn:20240321T190000
DTSTAMP:20260420T191252
CREATED:20240301T184042Z
LAST-MODIFIED:20240301T184042Z
UID:1559-1711040400-1711047600@laane-nigula.eelk.ee
SUMMARY:Töötegijate nõupidamine
DESCRIPTION:
URL:https://laane-nigula.eelk.ee/syndmus/tootegijate-noupidamine-7/
CATEGORIES:Muu
END:VEVENT
BEGIN:VEVENT
DTSTART;TZID=Europe/Tallinn:20240321T150000
DTEND;TZID=Europe/Tallinn:20240321T160000
DTSTAMP:20260420T191252
CREATED:20231228T122145Z
LAST-MODIFIED:20240301T184010Z
UID:1482-1711033200-1711036800@laane-nigula.eelk.ee
SUMMARY:Kogudusekool
DESCRIPTION:
URL:https://laane-nigula.eelk.ee/syndmus/kogudusekool-luukas-jutustab-jeesusest-6/
CATEGORIES:Kogudusekool
END:VEVENT
BEGIN:VEVENT
DTSTART;TZID=Europe/Tallinn:20240321T090000
DTEND;TZID=Europe/Tallinn:20240321T130000
DTSTAMP:20260420T191252
CREATED:20231228T120735Z
LAST-MODIFIED:20231228T120735Z
UID:1443-1711011600-1711026000@laane-nigula.eelk.ee
SUMMARY:Annetusmüük
DESCRIPTION:
URL:https://laane-nigula.eelk.ee/syndmus/annetusmuuk-144/
CATEGORIES:Annetusmüük
END:VEVENT
BEGIN:VEVENT
DTSTART;TZID=Europe/Tallinn:20240321T083000
DTEND;TZID=Europe/Tallinn:20240321T090000
DTSTAMP:20260420T191252
CREATED:20231228T115125Z
LAST-MODIFIED:20231228T115125Z
UID:1371-1711009800-1711011600@laane-nigula.eelk.ee
SUMMARY:Hommikupalvus kogudusemajas
DESCRIPTION:
URL:https://laane-nigula.eelk.ee/syndmus/hommikupalvus-kogudusemajas-50/
CATEGORIES:Palvus
END:VEVENT
BEGIN:VEVENT
DTSTART;TZID=Europe/Tallinn:20240320T090000
DTEND;TZID=Europe/Tallinn:20240320T150000
DTSTAMP:20260420T191252
CREATED:20231228T120723Z
LAST-MODIFIED:20231228T120723Z
UID:1441-1710925200-1710946800@laane-nigula.eelk.ee
SUMMARY:Annetusmüük
DESCRIPTION:
URL:https://laane-nigula.eelk.ee/syndmus/annetusmuuk-143/
CATEGORIES:Annetusmüük
END:VEVENT
BEGIN:VEVENT
DTSTART;TZID=Europe/Tallinn:20240317T110000
DTEND;TZID=Europe/Tallinn:20240317T123000
DTSTAMP:20260420T191252
CREATED:20231228T121906Z
LAST-MODIFIED:20231228T121906Z
UID:1469-1710673200-1710678600@laane-nigula.eelk.ee
SUMMARY:Pühapäevakool lastele
DESCRIPTION:
URL:https://laane-nigula.eelk.ee/syndmus/puhapaevakool-lastele-20/
CATEGORIES:Lastetöö
END:VEVENT
BEGIN:VEVENT
DTSTART;TZID=Europe/Tallinn:20240317T110000
DTEND;TZID=Europe/Tallinn:20240317T123000
DTSTAMP:20260420T191252
CREATED:20231228T114105Z
LAST-MODIFIED:20231228T114105Z
UID:1340-1710673200-1710678600@laane-nigula.eelk.ee
SUMMARY:Jumalateenistus armulauaga
DESCRIPTION:
URL:https://laane-nigula.eelk.ee/syndmus/jumalateenistus-armulauaga-51/
CATEGORIES:Jumalateenistus
END:VEVENT
BEGIN:VEVENT
DTSTART;TZID=Europe/Tallinn:20240316T090000
DTEND;TZID=Europe/Tallinn:20240316T130000
DTSTAMP:20260420T191252
CREATED:20231228T120705Z
LAST-MODIFIED:20231228T120705Z
UID:1439-1710579600-1710594000@laane-nigula.eelk.ee
SUMMARY:Annetusmüük
DESCRIPTION:
URL:https://laane-nigula.eelk.ee/syndmus/annetusmuuk-142/
CATEGORIES:Annetusmüük
END:VEVENT
BEGIN:VEVENT
DTSTART;TZID=Europe/Tallinn:20240314T090000
DTEND;TZID=Europe/Tallinn:20240314T130000
DTSTAMP:20260420T191252
CREATED:20231228T120650Z
LAST-MODIFIED:20231228T120650Z
UID:1437-1710406800-1710421200@laane-nigula.eelk.ee
SUMMARY:Annetusmüük
DESCRIPTION:
URL:https://laane-nigula.eelk.ee/syndmus/annetusmuuk-141/
CATEGORIES:Annetusmüük
END:VEVENT
BEGIN:VEVENT
DTSTART;TZID=Europe/Tallinn:20240314T083000
DTEND;TZID=Europe/Tallinn:20240314T090000
DTSTAMP:20260420T191252
CREATED:20231228T115000Z
LAST-MODIFIED:20231228T115000Z
UID:1368-1710405000-1710406800@laane-nigula.eelk.ee
SUMMARY:Hommikupalvus kogudusemajas
DESCRIPTION:
URL:https://laane-nigula.eelk.ee/syndmus/hommikupalvus-kogudusemajas-49/
CATEGORIES:Palvus
END:VEVENT
BEGIN:VEVENT
DTSTART;TZID=Europe/Tallinn:20240313T090000
DTEND;TZID=Europe/Tallinn:20240313T150000
DTSTAMP:20260420T191252
CREATED:20231228T120638Z
LAST-MODIFIED:20231228T120638Z
UID:1435-1710320400-1710342000@laane-nigula.eelk.ee
SUMMARY:Annetusmüük
DESCRIPTION:
URL:https://laane-nigula.eelk.ee/syndmus/annetusmuuk-140/
CATEGORIES:Annetusmüük
END:VEVENT
BEGIN:VEVENT
DTSTART;TZID=Europe/Tallinn:20240312T100000
DTEND;TZID=Europe/Tallinn:20240312T160000
DTSTAMP:20260420T191252
CREATED:20240301T183916Z
LAST-MODIFIED:20240301T183916Z
UID:1556-1710237600-1710259200@laane-nigula.eelk.ee
SUMMARY:Praostkonna konverents Haapsalus
DESCRIPTION:
URL:https://laane-nigula.eelk.ee/syndmus/praostkonna-konverents-haapsalus/
CATEGORIES:Muu
END:VEVENT
BEGIN:VEVENT
DTSTART;TZID=Europe/Tallinn:20240310T110000
DTEND;TZID=Europe/Tallinn:20240310T123000
DTSTAMP:20260420T191252
CREATED:20231228T121838Z
LAST-MODIFIED:20231228T121848Z
UID:1467-1710068400-1710073800@laane-nigula.eelk.ee
SUMMARY:Pühapäevakool lastele
DESCRIPTION:
URL:https://laane-nigula.eelk.ee/syndmus/puhapaevakool-lastele-19/
CATEGORIES:Lastetöö
END:VEVENT
BEGIN:VEVENT
DTSTART;TZID=Europe/Tallinn:20240310T110000
DTEND;TZID=Europe/Tallinn:20240310T123000
DTSTAMP:20260420T191252
CREATED:20231228T114037Z
LAST-MODIFIED:20231228T114037Z
UID:1338-1710068400-1710073800@laane-nigula.eelk.ee
SUMMARY:Jumalateenistus armulauaga
DESCRIPTION:
URL:https://laane-nigula.eelk.ee/syndmus/jumalateenistus-armulauaga-50/
CATEGORIES:Jumalateenistus
END:VEVENT
BEGIN:VEVENT
DTSTART;TZID=Europe/Tallinn:20240309T090000
DTEND;TZID=Europe/Tallinn:20240309T130000
DTSTAMP:20260420T191252
CREATED:20231228T120621Z
LAST-MODIFIED:20231228T120621Z
UID:1433-1709974800-1709989200@laane-nigula.eelk.ee
SUMMARY:Annetusmüük
DESCRIPTION:
URL:https://laane-nigula.eelk.ee/syndmus/annetusmuuk-139/
CATEGORIES:Annetusmüük
END:VEVENT
BEGIN:VEVENT
DTSTART;TZID=Europe/Tallinn:20240307T170000
DTEND;TZID=Europe/Tallinn:20240307T190000
DTSTAMP:20260420T191252
CREATED:20240301T183821Z
LAST-MODIFIED:20240301T183821Z
UID:1554-1709830800-1709838000@laane-nigula.eelk.ee
SUMMARY:Juhatuse koosolek veebis
DESCRIPTION:
URL:https://laane-nigula.eelk.ee/syndmus/juhatuse-koosolek-veebis-2/
CATEGORIES:Juhatus
END:VEVENT
BEGIN:VEVENT
DTSTART;TZID=Europe/Tallinn:20240307T150000
DTEND;TZID=Europe/Tallinn:20240307T160000
DTSTAMP:20260420T191252
CREATED:20231228T122128Z
LAST-MODIFIED:20231228T122128Z
UID:1480-1709823600-1709827200@laane-nigula.eelk.ee
SUMMARY:Kogudusekool „Luukas jutustab Jeesusest“
DESCRIPTION:
URL:https://laane-nigula.eelk.ee/syndmus/kogudusekool-luukas-jutustab-jeesusest-5/
CATEGORIES:Kogudusekool
END:VEVENT
BEGIN:VEVENT
DTSTART;TZID=Europe/Tallinn:20240307T120000
DTEND;TZID=Europe/Tallinn:20240307T133000
DTSTAMP:20260420T191252
CREATED:20240301T183743Z
LAST-MODIFIED:20240301T183743Z
UID:1552-1709812800-1709818200@laane-nigula.eelk.ee
SUMMARY:Koosolek. Teema: koguduse metsatükk
DESCRIPTION:
URL:https://laane-nigula.eelk.ee/syndmus/koosolek-teema-koguduse-metsatukk/
CATEGORIES:Muu
END:VEVENT
BEGIN:VEVENT
DTSTART;TZID=Europe/Tallinn:20240307T100000
DTEND;TZID=Europe/Tallinn:20240307T110000
DTSTAMP:20260420T191252
CREATED:20231228T122342Z
LAST-MODIFIED:20231228T122342Z
UID:1488-1709805600-1709809200@laane-nigula.eelk.ee
SUMMARY:Ümarlaud vallaga
DESCRIPTION:
URL:https://laane-nigula.eelk.ee/syndmus/umarlaud-vallaga-5/
CATEGORIES:Muu
END:VEVENT
BEGIN:VEVENT
DTSTART;TZID=Europe/Tallinn:20240307T090000
DTEND;TZID=Europe/Tallinn:20240307T130000
DTSTAMP:20260420T191252
CREATED:20231228T120556Z
LAST-MODIFIED:20231228T120556Z
UID:1431-1709802000-1709816400@laane-nigula.eelk.ee
SUMMARY:Annetusmüük
DESCRIPTION:
URL:https://laane-nigula.eelk.ee/syndmus/annetusmuuk-138/
CATEGORIES:Annetusmüük
END:VEVENT
BEGIN:VEVENT
DTSTART;TZID=Europe/Tallinn:20240307T083000
DTEND;TZID=Europe/Tallinn:20240307T090000
DTSTAMP:20260420T191252
CREATED:20231228T114935Z
LAST-MODIFIED:20231228T114935Z
UID:1366-1709800200-1709802000@laane-nigula.eelk.ee
SUMMARY:Hommikupalvus kogudusemajas
DESCRIPTION:
URL:https://laane-nigula.eelk.ee/syndmus/hommikupalvus-kogudusemajas-48/
CATEGORIES:Palvus
END:VEVENT
BEGIN:VEVENT
DTSTART;TZID=Europe/Tallinn:20240306T090000
DTEND;TZID=Europe/Tallinn:20240306T150000
DTSTAMP:20260420T191252
CREATED:20231228T120532Z
LAST-MODIFIED:20231228T120532Z
UID:1429-1709715600-1709737200@laane-nigula.eelk.ee
SUMMARY:Annetusmüük
DESCRIPTION:
URL:https://laane-nigula.eelk.ee/syndmus/annetusmuuk-137/
CATEGORIES:Annetusmüük
END:VEVENT
BEGIN:VEVENT
DTSTART;TZID=Europe/Tallinn:20240306T080000
DTEND;TZID=Europe/Tallinn:20240306T160000
DTSTAMP:20260420T191252
CREATED:20240301T183619Z
LAST-MODIFIED:20240412T181320Z
UID:1550-1709712000-1709740800@laane-nigula.eelk.ee
SUMMARY:Talgupäev kirikaias
DESCRIPTION:Talgusupp 12.30 \nOodatud kõik\, kel jõudu ja tahtmist saagida palke ja koristada oksi
URL:https://laane-nigula.eelk.ee/syndmus/talgupaev-kirikaias/
CATEGORIES:Talgupäev
END:VEVENT
BEGIN:VEVENT
DTSTART;TZID=Europe/Tallinn:20240305T100000
DTEND;TZID=Europe/Tallinn:20240305T160000
DTSTAMP:20260420T191252
CREATED:20240301T183527Z
LAST-MODIFIED:20240301T183527Z
UID:1548-1709632800-1709654400@laane-nigula.eelk.ee
SUMMARY:„Kodukant Läänemaa“ külastab meie kogudust
DESCRIPTION:
URL:https://laane-nigula.eelk.ee/syndmus/kodukant-laanemaa-kulastab-meie-kogudust/
CATEGORIES:Muu
END:VEVENT
BEGIN:VEVENT
DTSTART;TZID=Europe/Tallinn:20240305T080000
DTEND;TZID=Europe/Tallinn:20240305T160000
DTSTAMP:20260420T191252
CREATED:20240301T183457Z
LAST-MODIFIED:20240301T183457Z
UID:1546-1709625600-1709654400@laane-nigula.eelk.ee
SUMMARY:Kogudust külastab Ralf Gebauer
DESCRIPTION:
URL:https://laane-nigula.eelk.ee/syndmus/kogudust-kulastab-ralf-gebauer/
CATEGORIES:Muu
END:VEVENT
BEGIN:VEVENT
DTSTART;TZID=Europe/Tallinn:20240303T123000
DTEND;TZID=Europe/Tallinn:20240303T143000
DTSTAMP:20260420T191252
CREATED:20240301T183411Z
LAST-MODIFIED:20240301T183411Z
UID:1544-1709469000-1709476200@laane-nigula.eelk.ee
SUMMARY:Misjonitoimkonna koosolek
DESCRIPTION:
URL:https://laane-nigula.eelk.ee/syndmus/misjonitoimkonna-koosolek-3/
CATEGORIES:Misjonitoimkond
END:VEVENT
BEGIN:VEVENT
DTSTART;TZID=Europe/Tallinn:20240303T110000
DTEND;TZID=Europe/Tallinn:20240303T123000
DTSTAMP:20260420T191252
CREATED:20231228T121806Z
LAST-MODIFIED:20231228T121806Z
UID:1465-1709463600-1709469000@laane-nigula.eelk.ee
SUMMARY:Pühapäevakool lastele
DESCRIPTION:
URL:https://laane-nigula.eelk.ee/syndmus/puhapaevakool-lastele-18/
CATEGORIES:Lastetöö
END:VEVENT
BEGIN:VEVENT
DTSTART;TZID=Europe/Tallinn:20240303T110000
DTEND;TZID=Europe/Tallinn:20240303T123000
DTSTAMP:20260420T191252
CREATED:20231228T114018Z
LAST-MODIFIED:20240301T183302Z
UID:1336-1709463600-1709469000@laane-nigula.eelk.ee
SUMMARY:Jumalateenistus armulauaga
DESCRIPTION:Jutlustab: Tapani Vähäkangas
URL:https://laane-nigula.eelk.ee/syndmus/jumalateenistus-armulauaga-49/
CATEGORIES:Jumalateenistus
END:VEVENT
BEGIN:VEVENT
DTSTART;TZID=Europe/Tallinn:20240302T090000
DTEND;TZID=Europe/Tallinn:20240302T130000
DTSTAMP:20260420T191252
CREATED:20231228T120511Z
LAST-MODIFIED:20231228T120511Z
UID:1427-1709370000-1709384400@laane-nigula.eelk.ee
SUMMARY:Annetusmüük
DESCRIPTION:
URL:https://laane-nigula.eelk.ee/syndmus/annetusmuuk-136/
CATEGORIES:Annetusmüük
END:VEVENT
BEGIN:VEVENT
DTSTART;TZID=Europe/Tallinn:20240229T170000
DTEND;TZID=Europe/Tallinn:20240229T190000
DTSTAMP:20260420T191252
CREATED:20240127T121634Z
LAST-MODIFIED:20240127T121644Z
UID:1531-1709226000-1709233200@laane-nigula.eelk.ee
SUMMARY:Töötegijate nõupidamine
DESCRIPTION:Kogudusemajas ja veebis
URL:https://laane-nigula.eelk.ee/syndmus/tootegijate-noupidamine-6/
CATEGORIES:Muu
END:VEVENT
END:VCALENDAR