BEGIN:VCALENDAR
VERSION:2.0
PRODID:-//EELK Lääne-Nigula kogudus - ECPv6.15.20//NONSGML v1.0//EN
CALSCALE:GREGORIAN
METHOD:PUBLISH
X-WR-CALNAME:EELK Lääne-Nigula kogudus
X-ORIGINAL-URL:https://laane-nigula.eelk.ee
X-WR-CALDESC:Events for EELK Lääne-Nigula kogudus
REFRESH-INTERVAL;VALUE=DURATION:PT1H
X-Robots-Tag:noindex
X-PUBLISHED-TTL:PT1H
BEGIN:VTIMEZONE
TZID:Europe/Tallinn
BEGIN:DAYLIGHT
TZOFFSETFROM:+0200
TZOFFSETTO:+0300
TZNAME:EEST
DTSTART:20230326T010000
END:DAYLIGHT
BEGIN:STANDARD
TZOFFSETFROM:+0300
TZOFFSETTO:+0200
TZNAME:EET
DTSTART:20231029T010000
END:STANDARD
BEGIN:DAYLIGHT
TZOFFSETFROM:+0200
TZOFFSETTO:+0300
TZNAME:EEST
DTSTART:20240331T010000
END:DAYLIGHT
BEGIN:STANDARD
TZOFFSETFROM:+0300
TZOFFSETTO:+0200
TZNAME:EET
DTSTART:20241027T010000
END:STANDARD
BEGIN:DAYLIGHT
TZOFFSETFROM:+0200
TZOFFSETTO:+0300
TZNAME:EEST
DTSTART:20250330T010000
END:DAYLIGHT
BEGIN:STANDARD
TZOFFSETFROM:+0300
TZOFFSETTO:+0200
TZNAME:EET
DTSTART:20251026T010000
END:STANDARD
END:VTIMEZONE
BEGIN:VEVENT
DTSTART;TZID=Europe/Tallinn:20240414T120000
DTEND;TZID=Europe/Tallinn:20240414T130000
DTSTAMP:20260420T161525
CREATED:20240323T181208Z
LAST-MODIFIED:20240323T181208Z
UID:1615-1713096000-1713099600@laane-nigula.eelk.ee
SUMMARY:Pühapäevakool lastele
DESCRIPTION:
URL:https://laane-nigula.eelk.ee/syndmus/puhapaevakool-lastele-23/
CATEGORIES:Lastetöö
END:VEVENT
BEGIN:VEVENT
DTSTART;TZID=Europe/Tallinn:20240413T100000
DTEND;TZID=Europe/Tallinn:20240413T140000
DTSTAMP:20260420T161525
CREATED:20240323T180949Z
LAST-MODIFIED:20240323T180949Z
UID:1607-1713002400-1713016800@laane-nigula.eelk.ee
SUMMARY:Annetusmüük
DESCRIPTION:
URL:https://laane-nigula.eelk.ee/syndmus/annetusmuuk-134/
CATEGORIES:Annetusmüük
END:VEVENT
BEGIN:VEVENT
DTSTART;TZID=Europe/Tallinn:20240411T100000
DTEND;TZID=Europe/Tallinn:20240411T140000
DTSTAMP:20260420T161525
CREATED:20240323T180754Z
LAST-MODIFIED:20240323T180754Z
UID:1599-1712829600-1712844000@laane-nigula.eelk.ee
SUMMARY:Annetusmüük
DESCRIPTION:
URL:https://laane-nigula.eelk.ee/syndmus/annetusmuuk-130/
CATEGORIES:Annetusmüük
END:VEVENT
BEGIN:VEVENT
DTSTART;TZID=Europe/Tallinn:20240411T093000
DTEND;TZID=Europe/Tallinn:20240411T100000
DTSTAMP:20260420T161525
CREATED:20240323T181826Z
LAST-MODIFIED:20240323T181826Z
UID:1634-1712827800-1712829600@laane-nigula.eelk.ee
SUMMARY:Hommikupalvus kogudusemajas
DESCRIPTION:
URL:https://laane-nigula.eelk.ee/syndmus/hommikupalvus-kogudusemajas-54/
CATEGORIES:Palvus
END:VEVENT
BEGIN:VEVENT
DTSTART;TZID=Europe/Tallinn:20240410T170000
DTEND;TZID=Europe/Tallinn:20240410T180000
DTSTAMP:20260420T161525
CREATED:20240323T181615Z
LAST-MODIFIED:20240323T181615Z
UID:1628-1712768400-1712772000@laane-nigula.eelk.ee
SUMMARY:Misjonitoimkonna koosolek veebis
DESCRIPTION:
URL:https://laane-nigula.eelk.ee/syndmus/misjonitoimkonna-koosolek-veebis/
CATEGORIES:Misjonitoimkond
END:VEVENT
BEGIN:VEVENT
DTSTART;TZID=Europe/Tallinn:20240410T100000
DTEND;TZID=Europe/Tallinn:20240410T160000
DTSTAMP:20260420T161525
CREATED:20240323T180456Z
LAST-MODIFIED:20240323T180456Z
UID:1591-1712743200-1712764800@laane-nigula.eelk.ee
SUMMARY:Annetusmüük
DESCRIPTION:
URL:https://laane-nigula.eelk.ee/syndmus/annetusmuuk-126/
CATEGORIES:Annetusmüük
END:VEVENT
BEGIN:VEVENT
DTSTART;TZID=Europe/Tallinn:20240407T133000
DTEND;TZID=Europe/Tallinn:20240407T160000
DTSTAMP:20260420T161525
CREATED:20240323T181526Z
LAST-MODIFIED:20240323T181526Z
UID:1626-1712496600-1712505600@laane-nigula.eelk.ee
SUMMARY:Tugikoguduste päev Lääne Nigulas
DESCRIPTION:Kirikukohv. \nKülas Liliann Keskinen ja külalised teistest tugikogudustest
URL:https://laane-nigula.eelk.ee/syndmus/tugikoguduste-paev-laane-nigulas/
CATEGORIES:Sõpruskogudused
END:VEVENT
BEGIN:VEVENT
DTSTART;TZID=Europe/Tallinn:20240407T120000
DTEND;TZID=Europe/Tallinn:20240407T133000
DTSTAMP:20260420T161525
CREATED:20240323T181436Z
LAST-MODIFIED:20240323T181436Z
UID:1624-1712491200-1712496600@laane-nigula.eelk.ee
SUMMARY:Jumalateenistus armulauaga
DESCRIPTION:
URL:https://laane-nigula.eelk.ee/syndmus/jumalateenistus-armulauaga-52/
CATEGORIES:Jumalateenistus
END:VEVENT
BEGIN:VEVENT
DTSTART;TZID=Europe/Tallinn:20240407T120000
DTEND;TZID=Europe/Tallinn:20240407T130000
DTSTAMP:20260420T161525
CREATED:20240323T181141Z
LAST-MODIFIED:20240323T181141Z
UID:1613-1712491200-1712494800@laane-nigula.eelk.ee
SUMMARY:Pühapäevakool lastele
DESCRIPTION:
URL:https://laane-nigula.eelk.ee/syndmus/puhapaevakool-lastele-22/
CATEGORIES:Lastetöö
END:VEVENT
BEGIN:VEVENT
DTSTART;TZID=Europe/Tallinn:20240406T100000
DTEND;TZID=Europe/Tallinn:20240406T140000
DTSTAMP:20260420T161525
CREATED:20240323T180926Z
LAST-MODIFIED:20240323T180926Z
UID:1605-1712397600-1712412000@laane-nigula.eelk.ee
SUMMARY:Annetusmüük
DESCRIPTION:
URL:https://laane-nigula.eelk.ee/syndmus/annetusmuuk-133/
CATEGORIES:Annetusmüük
END:VEVENT
BEGIN:VEVENT
DTSTART;TZID=Europe/Tallinn:20240404T160000
DTEND;TZID=Europe/Tallinn:20240404T170000
DTSTAMP:20260420T161525
CREATED:20231228T122200Z
LAST-MODIFIED:20240301T184153Z
UID:1484-1712246400-1712250000@laane-nigula.eelk.ee
SUMMARY:Kogudusekool
DESCRIPTION:
URL:https://laane-nigula.eelk.ee/syndmus/kogudusekool-luukas-jutustab-jeesusest-7/
CATEGORIES:Kogudusekool
END:VEVENT
BEGIN:VEVENT
DTSTART;TZID=Europe/Tallinn:20240404T100000
DTEND;TZID=Europe/Tallinn:20240404T140000
DTSTAMP:20260420T161525
CREATED:20240323T180728Z
LAST-MODIFIED:20240323T180728Z
UID:1597-1712224800-1712239200@laane-nigula.eelk.ee
SUMMARY:Annetusmüük
DESCRIPTION:
URL:https://laane-nigula.eelk.ee/syndmus/annetusmuuk-129/
CATEGORIES:Annetusmüük
END:VEVENT
BEGIN:VEVENT
DTSTART;TZID=Europe/Tallinn:20240404T093000
DTEND;TZID=Europe/Tallinn:20240404T100000
DTSTAMP:20260420T161525
CREATED:20240323T181647Z
LAST-MODIFIED:20240323T181647Z
UID:1630-1712223000-1712224800@laane-nigula.eelk.ee
SUMMARY:Hommikupalvus kogudusemajas
DESCRIPTION:
URL:https://laane-nigula.eelk.ee/syndmus/hommikupalvus-kogudusemajas-52/
CATEGORIES:Palvus
END:VEVENT
BEGIN:VEVENT
DTSTART;TZID=Europe/Tallinn:20240403T100000
DTEND;TZID=Europe/Tallinn:20240403T160000
DTSTAMP:20260420T161525
CREATED:20240323T180432Z
LAST-MODIFIED:20240323T180432Z
UID:1589-1712138400-1712160000@laane-nigula.eelk.ee
SUMMARY:Annetusmüük
DESCRIPTION:
URL:https://laane-nigula.eelk.ee/syndmus/annetusmuuk-125/
CATEGORIES:Annetusmüük
END:VEVENT
BEGIN:VEVENT
DTSTART;VALUE=DATE:20240401
DTEND;VALUE=DATE:20240402
DTSTAMP:20260420T161525
CREATED:20240323T180253Z
LAST-MODIFIED:20240323T180253Z
UID:1585-1711929600-1712015999@laane-nigula.eelk.ee
SUMMARY:2. ülestõusmispüha
DESCRIPTION:
URL:https://laane-nigula.eelk.ee/syndmus/2-ulestousmispuha/
CATEGORIES:Muu
END:VEVENT
BEGIN:VEVENT
DTSTART;TZID=Europe/Tallinn:20240331T120000
DTEND;TZID=Europe/Tallinn:20240331T133000
DTSTAMP:20260420T161525
CREATED:20231228T114306Z
LAST-MODIFIED:20231228T114306Z
UID:1346-1711886400-1711891800@laane-nigula.eelk.ee
SUMMARY:1. ülestõusmispüha jumalateenistus armulauaga
DESCRIPTION:
URL:https://laane-nigula.eelk.ee/syndmus/1-ulestousmispuha-jumalateenistus-armulauaga-2/
CATEGORIES:Jumalateenistus
END:VEVENT
BEGIN:VEVENT
DTSTART;TZID=Europe/Tallinn:20240329T110000
DTEND;TZID=Europe/Tallinn:20240329T123000
DTSTAMP:20260420T161525
CREATED:20231228T114233Z
LAST-MODIFIED:20231228T114233Z
UID:1344-1711710000-1711715400@laane-nigula.eelk.ee
SUMMARY:Suure reede jumalateenistus kirikus
DESCRIPTION:
URL:https://laane-nigula.eelk.ee/syndmus/suure-reede-jumalateenistus-kirikus/
CATEGORIES:Jumalateenistus
END:VEVENT
BEGIN:VEVENT
DTSTART;TZID=Europe/Tallinn:20240328T160000
DTEND;TZID=Europe/Tallinn:20240328T173000
DTSTAMP:20260420T161525
CREATED:20231228T115242Z
LAST-MODIFIED:20231228T115242Z
UID:1375-1711641600-1711647000@laane-nigula.eelk.ee
SUMMARY:Suure neljapäeva õhtupalvus armulauaga
DESCRIPTION:Kirikus
URL:https://laane-nigula.eelk.ee/syndmus/suure-neljapaeva-ohtupalvus-armulauaga/
CATEGORIES:Palvus
END:VEVENT
BEGIN:VEVENT
DTSTART;TZID=Europe/Tallinn:20240328T104500
DTEND;TZID=Europe/Tallinn:20240328T110000
DTSTAMP:20260420T161525
CREATED:20240301T185047Z
LAST-MODIFIED:20240305T072122Z
UID:1576-1711622700-1711623600@laane-nigula.eelk.ee
SUMMARY:Üle-eestiline Meie Isa Palve lugemine
DESCRIPTION:Kirikukellad 11:45 \n28.märtsil 2024 kl 11.45 toimub üle Eesti Meie Isa palve kooslugemine.  \nTeil on võimalus tulla palvet lugema ka Lääne-Nigula kirikusse.  \nVideoülekanded on sel päeval nähtavad TV7\, Kuressaare Pildiraadio vahendusel. Raadioülekanded tulevad Raadio 7 ja Pereraadios.  \nSelle ettvõtmise kohta on võimalik lugeda täpsemalt Eesti Kiriku lehest aadressil  https://eestikirik.ee/tulipunktis-on-meie-isa-palve
URL:https://laane-nigula.eelk.ee/syndmus/ule-eestiline-meie-isa-palve-lugemine/
CATEGORIES:Palvus
ATTACH;FMTTYPE=image/jpeg:https://laane-nigula.eelk.ee/wp-content/uploads/2024/03/Meie-Isa-palve-28.03.2024.jpg
END:VEVENT
BEGIN:VEVENT
DTSTART;TZID=Europe/Tallinn:20240328T100000
DTEND;TZID=Europe/Tallinn:20240328T113000
DTSTAMP:20260420T161525
CREATED:20240301T185155Z
LAST-MODIFIED:20240301T185155Z
UID:1578-1711620000-1711625400@laane-nigula.eelk.ee
SUMMARY:Jumalateenistus Oru Hooldekodus
DESCRIPTION:
URL:https://laane-nigula.eelk.ee/syndmus/jumalateenistus-oru-hooldekodus-5/
CATEGORIES:Jumalateenistus
END:VEVENT
BEGIN:VEVENT
DTSTART;TZID=Europe/Tallinn:20240328T083000
DTEND;TZID=Europe/Tallinn:20240328T090000
DTSTAMP:20260420T161525
CREATED:20231228T115145Z
LAST-MODIFIED:20240301T185133Z
UID:1373-1711614600-1711616400@laane-nigula.eelk.ee
SUMMARY:Hommikupalvus kogudusemajas
DESCRIPTION:
URL:https://laane-nigula.eelk.ee/syndmus/hommikupalvus-kogudusemajas-51/
CATEGORIES:Palvus
END:VEVENT
BEGIN:VEVENT
DTSTART;TZID=Europe/Tallinn:20240324T110000
DTEND;TZID=Europe/Tallinn:20240324T123000
DTSTAMP:20260420T161525
CREATED:20231228T121934Z
LAST-MODIFIED:20231228T121934Z
UID:1471-1711278000-1711283400@laane-nigula.eelk.ee
SUMMARY:Pühapäevakool lastele
DESCRIPTION:
URL:https://laane-nigula.eelk.ee/syndmus/puhapaevakool-lastele-21/
CATEGORIES:Lastetöö
END:VEVENT
BEGIN:VEVENT
DTSTART;TZID=Europe/Tallinn:20240324T110000
DTEND;TZID=Europe/Tallinn:20240324T123000
DTSTAMP:20260420T161525
CREATED:20231228T114147Z
LAST-MODIFIED:20231228T114147Z
UID:1342-1711278000-1711283400@laane-nigula.eelk.ee
SUMMARY:Palmipuudepüha jumalateenistus armulauaga
DESCRIPTION:
URL:https://laane-nigula.eelk.ee/syndmus/palmipuudepuha-jumalateenistus-armulauaga/
CATEGORIES:Jumalateenistus
END:VEVENT
BEGIN:VEVENT
DTSTART;TZID=Europe/Tallinn:20240323T090000
DTEND;TZID=Europe/Tallinn:20240323T130000
DTSTAMP:20260420T161525
CREATED:20231228T120748Z
LAST-MODIFIED:20231228T120748Z
UID:1445-1711184400-1711198800@laane-nigula.eelk.ee
SUMMARY:Annetusmüük
DESCRIPTION:
URL:https://laane-nigula.eelk.ee/syndmus/annetusmuuk-145/
CATEGORIES:Annetusmüük
END:VEVENT
BEGIN:VEVENT
DTSTART;TZID=Europe/Tallinn:20240321T170000
DTEND;TZID=Europe/Tallinn:20240321T190000
DTSTAMP:20260420T161525
CREATED:20240301T184042Z
LAST-MODIFIED:20240301T184042Z
UID:1559-1711040400-1711047600@laane-nigula.eelk.ee
SUMMARY:Töötegijate nõupidamine
DESCRIPTION:
URL:https://laane-nigula.eelk.ee/syndmus/tootegijate-noupidamine-7/
CATEGORIES:Muu
END:VEVENT
BEGIN:VEVENT
DTSTART;TZID=Europe/Tallinn:20240321T150000
DTEND;TZID=Europe/Tallinn:20240321T160000
DTSTAMP:20260420T161525
CREATED:20231228T122145Z
LAST-MODIFIED:20240301T184010Z
UID:1482-1711033200-1711036800@laane-nigula.eelk.ee
SUMMARY:Kogudusekool
DESCRIPTION:
URL:https://laane-nigula.eelk.ee/syndmus/kogudusekool-luukas-jutustab-jeesusest-6/
CATEGORIES:Kogudusekool
END:VEVENT
BEGIN:VEVENT
DTSTART;TZID=Europe/Tallinn:20240321T090000
DTEND;TZID=Europe/Tallinn:20240321T130000
DTSTAMP:20260420T161525
CREATED:20231228T120735Z
LAST-MODIFIED:20231228T120735Z
UID:1443-1711011600-1711026000@laane-nigula.eelk.ee
SUMMARY:Annetusmüük
DESCRIPTION:
URL:https://laane-nigula.eelk.ee/syndmus/annetusmuuk-144/
CATEGORIES:Annetusmüük
END:VEVENT
BEGIN:VEVENT
DTSTART;TZID=Europe/Tallinn:20240321T083000
DTEND;TZID=Europe/Tallinn:20240321T090000
DTSTAMP:20260420T161525
CREATED:20231228T115125Z
LAST-MODIFIED:20231228T115125Z
UID:1371-1711009800-1711011600@laane-nigula.eelk.ee
SUMMARY:Hommikupalvus kogudusemajas
DESCRIPTION:
URL:https://laane-nigula.eelk.ee/syndmus/hommikupalvus-kogudusemajas-50/
CATEGORIES:Palvus
END:VEVENT
BEGIN:VEVENT
DTSTART;TZID=Europe/Tallinn:20240320T090000
DTEND;TZID=Europe/Tallinn:20240320T150000
DTSTAMP:20260420T161525
CREATED:20231228T120723Z
LAST-MODIFIED:20231228T120723Z
UID:1441-1710925200-1710946800@laane-nigula.eelk.ee
SUMMARY:Annetusmüük
DESCRIPTION:
URL:https://laane-nigula.eelk.ee/syndmus/annetusmuuk-143/
CATEGORIES:Annetusmüük
END:VEVENT
BEGIN:VEVENT
DTSTART;TZID=Europe/Tallinn:20240317T110000
DTEND;TZID=Europe/Tallinn:20240317T123000
DTSTAMP:20260420T161525
CREATED:20231228T121906Z
LAST-MODIFIED:20231228T121906Z
UID:1469-1710673200-1710678600@laane-nigula.eelk.ee
SUMMARY:Pühapäevakool lastele
DESCRIPTION:
URL:https://laane-nigula.eelk.ee/syndmus/puhapaevakool-lastele-20/
CATEGORIES:Lastetöö
END:VEVENT
END:VCALENDAR