BEGIN:VCALENDAR
VERSION:2.0
PRODID:-//EELK Lääne-Nigula kogudus - ECPv6.15.20//NONSGML v1.0//EN
CALSCALE:GREGORIAN
METHOD:PUBLISH
X-WR-CALNAME:EELK Lääne-Nigula kogudus
X-ORIGINAL-URL:https://laane-nigula.eelk.ee
X-WR-CALDESC:Events for EELK Lääne-Nigula kogudus
REFRESH-INTERVAL;VALUE=DURATION:PT1H
X-Robots-Tag:noindex
X-PUBLISHED-TTL:PT1H
BEGIN:VTIMEZONE
TZID:Europe/Tallinn
BEGIN:DAYLIGHT
TZOFFSETFROM:+0200
TZOFFSETTO:+0300
TZNAME:EEST
DTSTART:20220327T010000
END:DAYLIGHT
BEGIN:STANDARD
TZOFFSETFROM:+0300
TZOFFSETTO:+0200
TZNAME:EET
DTSTART:20221030T010000
END:STANDARD
BEGIN:DAYLIGHT
TZOFFSETFROM:+0200
TZOFFSETTO:+0300
TZNAME:EEST
DTSTART:20230326T010000
END:DAYLIGHT
BEGIN:STANDARD
TZOFFSETFROM:+0300
TZOFFSETTO:+0200
TZNAME:EET
DTSTART:20231029T010000
END:STANDARD
BEGIN:DAYLIGHT
TZOFFSETFROM:+0200
TZOFFSETTO:+0300
TZNAME:EEST
DTSTART:20240331T010000
END:DAYLIGHT
BEGIN:STANDARD
TZOFFSETFROM:+0300
TZOFFSETTO:+0200
TZNAME:EET
DTSTART:20241027T010000
END:STANDARD
END:VTIMEZONE
BEGIN:VEVENT
DTSTART;TZID=Europe/Tallinn:20231026T093000
DTEND;TZID=Europe/Tallinn:20231026T100000
DTSTAMP:20260423T004809
CREATED:20231005T105641Z
LAST-MODIFIED:20231005T105641Z
UID:1086-1698312600-1698314400@laane-nigula.eelk.ee
SUMMARY:Hommikupalvus kogudusemajas
DESCRIPTION:
URL:https://laane-nigula.eelk.ee/syndmus/hommikupalvus-kogudusemajas-39/
CATEGORIES:Palvus
END:VEVENT
BEGIN:VEVENT
DTSTART;TZID=Europe/Tallinn:20231025T100000
DTEND;TZID=Europe/Tallinn:20231025T160000
DTSTAMP:20260423T004809
CREATED:20231005T104132Z
LAST-MODIFIED:20231005T104412Z
UID:1047-1698228000-1698249600@laane-nigula.eelk.ee
SUMMARY:Annetusmüük
DESCRIPTION:
URL:https://laane-nigula.eelk.ee/syndmus/annetusmuuk-91/
CATEGORIES:Annetusmüük
END:VEVENT
BEGIN:VEVENT
DTSTART;TZID=Europe/Tallinn:20231024T180000
DTEND;TZID=Europe/Tallinn:20231024T200000
DTSTAMP:20260423T004809
CREATED:20231005T110117Z
LAST-MODIFIED:20231005T110117Z
UID:1100-1698170400-1698177600@laane-nigula.eelk.ee
SUMMARY:Juhatuse koosolek kogudusemajas ja veebis
DESCRIPTION:
URL:https://laane-nigula.eelk.ee/syndmus/juhatuse-koosolek-kogudusemajas-ja-veebis/
CATEGORIES:Juhatus
END:VEVENT
BEGIN:VEVENT
DTSTART;VALUE=DATE:20231024
DTEND;VALUE=DATE:20231025
DTSTAMP:20260423T004809
CREATED:20231005T110249Z
LAST-MODIFIED:20231005T110249Z
UID:1104-1698105600-1698191999@laane-nigula.eelk.ee
SUMMARY:Praostkonna konverents Kullamaal
DESCRIPTION:
URL:https://laane-nigula.eelk.ee/syndmus/praostkonna-konverents-kullamaal/
CATEGORIES:Muu
END:VEVENT
BEGIN:VEVENT
DTSTART;TZID=Europe/Tallinn:20231022T120000
DTEND;TZID=Europe/Tallinn:20231022T133000
DTSTAMP:20260423T004809
CREATED:20231005T104958Z
LAST-MODIFIED:20231005T110424Z
UID:1072-1697976000-1697981400@laane-nigula.eelk.ee
SUMMARY:Jumalateenistus armulauaga
DESCRIPTION:Misjonipüha \nKirikukohv: Leo ja Maarika räägivad oma reisimuljeid
URL:https://laane-nigula.eelk.ee/syndmus/jumalateenistus-armulauaga-32/
CATEGORIES:Jumalateenistus
END:VEVENT
BEGIN:VEVENT
DTSTART;TZID=Europe/Tallinn:20231022T120000
DTEND;TZID=Europe/Tallinn:20231022T130000
DTSTAMP:20260423T004809
CREATED:20231005T105840Z
LAST-MODIFIED:20231005T105840Z
UID:1092-1697976000-1697979600@laane-nigula.eelk.ee
SUMMARY:Pühapäevakool lastele
DESCRIPTION:
URL:https://laane-nigula.eelk.ee/syndmus/puhapaevakool-lastele-4/
CATEGORIES:Lastetöö
END:VEVENT
BEGIN:VEVENT
DTSTART;TZID=Europe/Tallinn:20231021T100000
DTEND;TZID=Europe/Tallinn:20231021T140000
DTSTAMP:20260423T004809
CREATED:20231005T104641Z
LAST-MODIFIED:20231005T104641Z
UID:1061-1697882400-1697896800@laane-nigula.eelk.ee
SUMMARY:Annetusmüük
DESCRIPTION:
URL:https://laane-nigula.eelk.ee/syndmus/annetusmuuk-98/
CATEGORIES:Annetusmüük
END:VEVENT
BEGIN:VEVENT
DTSTART;TZID=Europe/Tallinn:20231019T160000
DTEND;TZID=Europe/Tallinn:20231019T170000
DTSTAMP:20260423T004809
CREATED:20231005T110211Z
LAST-MODIFIED:20231005T110211Z
UID:1102-1697731200-1697734800@laane-nigula.eelk.ee
SUMMARY:Kogudusekool
DESCRIPTION:„Luukas jutustab Jeesusest“
URL:https://laane-nigula.eelk.ee/syndmus/kogudusekool-2/
CATEGORIES:Kogudusekool
END:VEVENT
BEGIN:VEVENT
DTSTART;TZID=Europe/Tallinn:20231019T100000
DTEND;TZID=Europe/Tallinn:20231019T140000
DTSTAMP:20260423T004809
CREATED:20231005T104341Z
LAST-MODIFIED:20231005T104441Z
UID:1055-1697709600-1697724000@laane-nigula.eelk.ee
SUMMARY:Annetusmüük
DESCRIPTION:
URL:https://laane-nigula.eelk.ee/syndmus/annetusmuuk-95/
CATEGORIES:Annetusmüük
END:VEVENT
BEGIN:VEVENT
DTSTART;TZID=Europe/Tallinn:20231019T093000
DTEND;TZID=Europe/Tallinn:20231019T100000
DTSTAMP:20260423T004809
CREATED:20231005T105616Z
LAST-MODIFIED:20231005T105616Z
UID:1084-1697707800-1697709600@laane-nigula.eelk.ee
SUMMARY:Hommikupalvus kogudusemajas
DESCRIPTION:
URL:https://laane-nigula.eelk.ee/syndmus/hommikupalvus-kogudusemajas-38/
CATEGORIES:Palvus
END:VEVENT
BEGIN:VEVENT
DTSTART;TZID=Europe/Tallinn:20231018T100000
DTEND;TZID=Europe/Tallinn:20231018T160000
DTSTAMP:20260423T004809
CREATED:20231005T104118Z
LAST-MODIFIED:20231005T104452Z
UID:1045-1697623200-1697644800@laane-nigula.eelk.ee
SUMMARY:Annetusmüük
DESCRIPTION:
URL:https://laane-nigula.eelk.ee/syndmus/annetusmuuk-90/
CATEGORIES:Annetusmüük
END:VEVENT
BEGIN:VEVENT
DTSTART;TZID=Europe/Tallinn:20231017T180000
DTEND;TZID=Europe/Tallinn:20231017T200000
DTSTAMP:20260423T004809
CREATED:20231005T110048Z
LAST-MODIFIED:20231005T110048Z
UID:1098-1697565600-1697572800@laane-nigula.eelk.ee
SUMMARY:Juhatuse koosolek
DESCRIPTION:
URL:https://laane-nigula.eelk.ee/syndmus/juhatuse-koosolek/
CATEGORIES:Juhatus
END:VEVENT
BEGIN:VEVENT
DTSTART;TZID=Europe/Tallinn:20231015T120000
DTEND;TZID=Europe/Tallinn:20231015T133000
DTSTAMP:20260423T004809
CREATED:20231005T104923Z
LAST-MODIFIED:20231005T104923Z
UID:1070-1697371200-1697376600@laane-nigula.eelk.ee
SUMMARY:Jumalateenistus armulauaga
DESCRIPTION:Töötegijate tunnustamine \nKirikukohv
URL:https://laane-nigula.eelk.ee/syndmus/jumalateenistus-armulauaga-31/
CATEGORIES:Jumalateenistus
END:VEVENT
BEGIN:VEVENT
DTSTART;TZID=Europe/Tallinn:20231015T120000
DTEND;TZID=Europe/Tallinn:20231015T130000
DTSTAMP:20260423T004809
CREATED:20231005T105821Z
LAST-MODIFIED:20231005T105821Z
UID:1090-1697371200-1697374800@laane-nigula.eelk.ee
SUMMARY:Pühapäevakool lastele
DESCRIPTION:
URL:https://laane-nigula.eelk.ee/syndmus/puhapaevakool-lastele-3/
CATEGORIES:Lastetöö
END:VEVENT
BEGIN:VEVENT
DTSTART;TZID=Europe/Tallinn:20231014T100000
DTEND;TZID=Europe/Tallinn:20231014T140000
DTSTAMP:20260423T004809
CREATED:20231005T104627Z
LAST-MODIFIED:20231005T104627Z
UID:1059-1697277600-1697292000@laane-nigula.eelk.ee
SUMMARY:Annetusmüük
DESCRIPTION:
URL:https://laane-nigula.eelk.ee/syndmus/annetusmuuk-97/
CATEGORIES:Annetusmüük
END:VEVENT
BEGIN:VEVENT
DTSTART;TZID=Europe/Tallinn:20231013T190000
DTEND;TZID=Europe/Tallinn:20231013T210000
DTSTAMP:20260423T004809
CREATED:20231005T110014Z
LAST-MODIFIED:20231005T110014Z
UID:1096-1697223600-1697230800@laane-nigula.eelk.ee
SUMMARY:Checkpoint
DESCRIPTION:
URL:https://laane-nigula.eelk.ee/syndmus/checkpoint/
CATEGORIES:Noortetöö
END:VEVENT
BEGIN:VEVENT
DTSTART;TZID=Europe/Tallinn:20231012T100000
DTEND;TZID=Europe/Tallinn:20231012T140000
DTSTAMP:20260423T004809
CREATED:20231005T104253Z
LAST-MODIFIED:20231005T104537Z
UID:1051-1697104800-1697119200@laane-nigula.eelk.ee
SUMMARY:Annetusmüük
DESCRIPTION:
URL:https://laane-nigula.eelk.ee/syndmus/annetusmuuk-93/
CATEGORIES:Annetusmüük
END:VEVENT
BEGIN:VEVENT
DTSTART;TZID=Europe/Tallinn:20231012T093000
DTEND;TZID=Europe/Tallinn:20231012T100000
DTSTAMP:20260423T004809
CREATED:20231005T105552Z
LAST-MODIFIED:20231005T105552Z
UID:1082-1697103000-1697104800@laane-nigula.eelk.ee
SUMMARY:Hommikupalvus kogudusemajas
DESCRIPTION:
URL:https://laane-nigula.eelk.ee/syndmus/hommikupalvus-kogudusemajas-37/
CATEGORIES:Palvus
END:VEVENT
BEGIN:VEVENT
DTSTART;TZID=Europe/Tallinn:20231011T160000
DTEND;TZID=Europe/Tallinn:20231011T170000
DTSTAMP:20260423T004809
CREATED:20231005T105936Z
LAST-MODIFIED:20231005T105936Z
UID:1094-1697040000-1697043600@laane-nigula.eelk.ee
SUMMARY:Piiblitund Pekka Kyösti
DESCRIPTION:
URL:https://laane-nigula.eelk.ee/syndmus/piiblitund-pekka-kyosti/
CATEGORIES:Piiblitund
END:VEVENT
BEGIN:VEVENT
DTSTART;TZID=Europe/Tallinn:20231011T100000
DTEND;TZID=Europe/Tallinn:20231011T160000
DTSTAMP:20260423T004809
CREATED:20231005T104059Z
LAST-MODIFIED:20231005T104229Z
UID:1043-1697018400-1697040000@laane-nigula.eelk.ee
SUMMARY:Annetusmüük
DESCRIPTION:
URL:https://laane-nigula.eelk.ee/syndmus/annetusmuuk-89/
CATEGORIES:Annetusmüük
END:VEVENT
BEGIN:VEVENT
DTSTART;TZID=Europe/Tallinn:20231008T120000
DTEND;TZID=Europe/Tallinn:20231008T133000
DTSTAMP:20260423T004809
CREATED:20231005T104829Z
LAST-MODIFIED:20231005T104847Z
UID:1067-1696766400-1696771800@laane-nigula.eelk.ee
SUMMARY:Jumalateenistus armulauaga
DESCRIPTION:Lõikustänupüha kirikukohv
URL:https://laane-nigula.eelk.ee/syndmus/jumalateenistus-armulauaga-30/
CATEGORIES:Jumalateenistus
END:VEVENT
BEGIN:VEVENT
DTSTART;TZID=Europe/Tallinn:20231008T120000
DTEND;TZID=Europe/Tallinn:20231008T130000
DTSTAMP:20260423T004809
CREATED:20231005T105756Z
LAST-MODIFIED:20231005T105756Z
UID:1088-1696766400-1696770000@laane-nigula.eelk.ee
SUMMARY:Pühapäevakool lastele
DESCRIPTION:
URL:https://laane-nigula.eelk.ee/syndmus/puhapaevakool-lastele-2/
CATEGORIES:Lastetöö
END:VEVENT
BEGIN:VEVENT
DTSTART;TZID=Europe/Tallinn:20231007T100000
DTEND;TZID=Europe/Tallinn:20231007T140000
DTSTAMP:20260423T004809
CREATED:20231005T104613Z
LAST-MODIFIED:20231005T104613Z
UID:1057-1696672800-1696687200@laane-nigula.eelk.ee
SUMMARY:Annetusmüük
DESCRIPTION:
URL:https://laane-nigula.eelk.ee/syndmus/annetusmuuk-96/
CATEGORIES:Annetusmüük
END:VEVENT
BEGIN:VEVENT
DTSTART;TZID=Europe/Tallinn:20231005T100000
DTEND;TZID=Europe/Tallinn:20231005T140000
DTSTAMP:20260423T004809
CREATED:20231005T104201Z
LAST-MODIFIED:20231005T104201Z
UID:1049-1696500000-1696514400@laane-nigula.eelk.ee
SUMMARY:Annetusmüük
DESCRIPTION:
URL:https://laane-nigula.eelk.ee/syndmus/annetusmuuk-92/
CATEGORIES:Annetusmüük
END:VEVENT
BEGIN:VEVENT
DTSTART;TZID=Europe/Tallinn:20231005T093000
DTEND;TZID=Europe/Tallinn:20231005T100000
DTSTAMP:20260423T004809
CREATED:20231005T105531Z
LAST-MODIFIED:20231005T105531Z
UID:1080-1696498200-1696500000@laane-nigula.eelk.ee
SUMMARY:Hommikupalvus kogudusemajas
DESCRIPTION:
URL:https://laane-nigula.eelk.ee/syndmus/hommikupalvus-kogudusemajas-36/
CATEGORIES:Palvus
END:VEVENT
BEGIN:VEVENT
DTSTART;TZID=Europe/Tallinn:20231004T100000
DTEND;TZID=Europe/Tallinn:20231004T160000
DTSTAMP:20260423T004809
CREATED:20231005T104040Z
LAST-MODIFIED:20231005T104238Z
UID:1041-1696413600-1696435200@laane-nigula.eelk.ee
SUMMARY:Annetusmüük
DESCRIPTION:
URL:https://laane-nigula.eelk.ee/syndmus/annetusmuuk-88/
CATEGORIES:Annetusmüük
END:VEVENT
BEGIN:VEVENT
DTSTART;TZID=Europe/Tallinn:20231002T183000
DTEND;TZID=Europe/Tallinn:20231002T200000
DTSTAMP:20260423T004809
CREATED:20230920T062353Z
LAST-MODIFIED:20230920T062353Z
UID:1028-1696271400-1696276800@laane-nigula.eelk.ee
SUMMARY:Sügisene leerikool
DESCRIPTION:Kohtumine toimub aadressil https://meet.google.com/bmx-wiow-uha \nLisainfo plakatil
URL:https://laane-nigula.eelk.ee/syndmus/sugisene-leerikool/
CATEGORIES:Leerikool
ATTACH;FMTTYPE=image/jpeg:https://laane-nigula.eelk.ee/wp-content/uploads/2023/09/Leerikool-sugis-2023.jpeg
END:VEVENT
BEGIN:VEVENT
DTSTART;TZID=Europe/Tallinn:20231002T183000
DTEND;TZID=Europe/Tallinn:20231002T193000
DTSTAMP:20260423T004809
CREATED:20231005T105451Z
LAST-MODIFIED:20231005T105451Z
UID:1078-1696271400-1696275000@laane-nigula.eelk.ee
SUMMARY:Sügisese leerikooli algus (veebis)
DESCRIPTION:
URL:https://laane-nigula.eelk.ee/syndmus/sugisese-leerikooli-algus-veebis/
CATEGORIES:Leerikool
END:VEVENT
BEGIN:VEVENT
DTSTART;TZID=Europe/Tallinn:20231001T120000
DTEND;TZID=Europe/Tallinn:20231001T133000
DTSTAMP:20260423T004809
CREATED:20231005T104746Z
LAST-MODIFIED:20231005T104746Z
UID:1065-1696161600-1696167000@laane-nigula.eelk.ee
SUMMARY:Jumalateenistus armulauaga
DESCRIPTION:
URL:https://laane-nigula.eelk.ee/syndmus/jumalateenistus-armulauaga-29/
CATEGORIES:Jumalateenistus
END:VEVENT
BEGIN:VEVENT
DTSTART;TZID=Europe/Tallinn:20230930T100000
DTEND;TZID=Europe/Tallinn:20230930T140000
DTSTAMP:20260423T004809
CREATED:20230830T183233Z
LAST-MODIFIED:20230830T183233Z
UID:982-1696068000-1696082400@laane-nigula.eelk.ee
SUMMARY:Annetusmüük
DESCRIPTION:
URL:https://laane-nigula.eelk.ee/syndmus/annetusmuuk-87/
CATEGORIES:Annetusmüük
END:VEVENT
END:VCALENDAR