BEGIN:VCALENDAR
VERSION:2.0
PRODID:-//EELK Lääne-Nigula kogudus - ECPv6.15.20//NONSGML v1.0//EN
CALSCALE:GREGORIAN
METHOD:PUBLISH
X-WR-CALNAME:EELK Lääne-Nigula kogudus
X-ORIGINAL-URL:https://laane-nigula.eelk.ee
X-WR-CALDESC:Events for EELK Lääne-Nigula kogudus
REFRESH-INTERVAL;VALUE=DURATION:PT1H
X-Robots-Tag:noindex
X-PUBLISHED-TTL:PT1H
BEGIN:VTIMEZONE
TZID:Europe/Tallinn
BEGIN:DAYLIGHT
TZOFFSETFROM:+0200
TZOFFSETTO:+0300
TZNAME:EEST
DTSTART:20230326T010000
END:DAYLIGHT
BEGIN:STANDARD
TZOFFSETFROM:+0300
TZOFFSETTO:+0200
TZNAME:EET
DTSTART:20231029T010000
END:STANDARD
BEGIN:DAYLIGHT
TZOFFSETFROM:+0200
TZOFFSETTO:+0300
TZNAME:EEST
DTSTART:20240331T010000
END:DAYLIGHT
BEGIN:STANDARD
TZOFFSETFROM:+0300
TZOFFSETTO:+0200
TZNAME:EET
DTSTART:20241027T010000
END:STANDARD
BEGIN:DAYLIGHT
TZOFFSETFROM:+0200
TZOFFSETTO:+0300
TZNAME:EEST
DTSTART:20250330T010000
END:DAYLIGHT
BEGIN:STANDARD
TZOFFSETFROM:+0300
TZOFFSETTO:+0200
TZNAME:EET
DTSTART:20251026T010000
END:STANDARD
END:VTIMEZONE
BEGIN:VEVENT
DTSTART;VALUE=DATE:20240607
DTEND;VALUE=DATE:20240608
DTSTAMP:20260420T094103
CREATED:20240530T155909Z
LAST-MODIFIED:20240530T160136Z
UID:1869-1717718400-1717804799@laane-nigula.eelk.ee
SUMMARY:Kirikute öö kuni kell 21.00
DESCRIPTION:Võimalus on külastada kiriku torni.
URL:https://laane-nigula.eelk.ee/syndmus/kirikute-oo-kuni-kell-21-00/
CATEGORIES:Muu
END:VEVENT
BEGIN:VEVENT
DTSTART;TZID=Europe/Tallinn:20240606T110000
DTEND;TZID=Europe/Tallinn:20240606T130000
DTSTAMP:20260420T094103
CREATED:20240325T183152Z
LAST-MODIFIED:20240325T183152Z
UID:1753-1717671600-1717678800@laane-nigula.eelk.ee
SUMMARY:Ümarlaud vallaga
DESCRIPTION:
URL:https://laane-nigula.eelk.ee/syndmus/umarlaud-vallaga-6/
CATEGORIES:Muu
END:VEVENT
BEGIN:VEVENT
DTSTART;TZID=Europe/Tallinn:20240606T100000
DTEND;TZID=Europe/Tallinn:20240606T140000
DTSTAMP:20260420T094103
CREATED:20240325T182225Z
LAST-MODIFIED:20240325T182225Z
UID:1720-1717668000-1717682400@laane-nigula.eelk.ee
SUMMARY:Avatud annetusmüük
DESCRIPTION:
URL:https://laane-nigula.eelk.ee/syndmus/avatud-annetusmuuk-22/
CATEGORIES:Annetusmüük
END:VEVENT
BEGIN:VEVENT
DTSTART;TZID=Europe/Tallinn:20240606T093000
DTEND;TZID=Europe/Tallinn:20240606T100000
DTSTAMP:20260420T094103
CREATED:20240325T180203Z
LAST-MODIFIED:20240325T180203Z
UID:1663-1717666200-1717668000@laane-nigula.eelk.ee
SUMMARY:Hommikupalvus kogudusemajas
DESCRIPTION:
URL:https://laane-nigula.eelk.ee/syndmus/hommikupalvus-kogudusemajas-61/
CATEGORIES:Palvus
END:VEVENT
BEGIN:VEVENT
DTSTART;TZID=Europe/Tallinn:20240605T100000
DTEND;TZID=Europe/Tallinn:20240605T160000
DTSTAMP:20260420T094103
CREATED:20240325T182206Z
LAST-MODIFIED:20240325T182206Z
UID:1718-1717581600-1717603200@laane-nigula.eelk.ee
SUMMARY:Avatud annetusmüük
DESCRIPTION:
URL:https://laane-nigula.eelk.ee/syndmus/avatud-annetusmuuk-21/
CATEGORIES:Annetusmüük
END:VEVENT
BEGIN:VEVENT
DTSTART;TZID=Europe/Tallinn:20240604T080000
DTEND;TZID=Europe/Tallinn:20240604T083000
DTSTAMP:20260420T094103
CREATED:20240528T172957Z
LAST-MODIFIED:20240530T085306Z
UID:1841-1717488000-1717489800@laane-nigula.eelk.ee
SUMMARY:Eesti lipu heiskamine vallamaja juures
DESCRIPTION:Kutsume teid Eesti lipu 104. sünnipäeva hommikut tähistama Taebla vallamajja juurde\, 4. juunil kell 8.00. \nHeiskame koos pidulikult riigilipu ja pakume hommikukohvi!
URL:https://laane-nigula.eelk.ee/syndmus/eesti-lipu-104-juubel/
CATEGORIES:Muu
ATTACH;FMTTYPE=image/png:https://laane-nigula.eelk.ee/wp-content/uploads/2024/05/image001.png
END:VEVENT
BEGIN:VEVENT
DTSTART;TZID=Europe/Tallinn:20240602T133000
DTEND;TZID=Europe/Tallinn:20240602T143000
DTSTAMP:20260420T094103
CREATED:20240530T085217Z
LAST-MODIFIED:20240530T085217Z
UID:1852-1717335000-1717338600@laane-nigula.eelk.ee
SUMMARY:Juhatuse koosolek
DESCRIPTION:
URL:https://laane-nigula.eelk.ee/syndmus/juhatuse-koosolek-3/
CATEGORIES:Juhatus
END:VEVENT
BEGIN:VEVENT
DTSTART;TZID=Europe/Tallinn:20240602T120000
DTEND;TZID=Europe/Tallinn:20240602T133000
DTSTAMP:20260420T094103
CREATED:20240325T181333Z
LAST-MODIFIED:20240325T181333Z
UID:1680-1717329600-1717335000@laane-nigula.eelk.ee
SUMMARY:Jumalateenistus armulauaga
DESCRIPTION:
URL:https://laane-nigula.eelk.ee/syndmus/jumalateenistus-armulauaga-58/
CATEGORIES:Jumalateenistus
END:VEVENT
BEGIN:VEVENT
DTSTART;TZID=Europe/Tallinn:20240601T100000
DTEND;TZID=Europe/Tallinn:20240601T140000
DTSTAMP:20260420T094103
CREATED:20240325T182140Z
LAST-MODIFIED:20240325T182140Z
UID:1716-1717236000-1717250400@laane-nigula.eelk.ee
SUMMARY:Avatud annetusmüük
DESCRIPTION:
URL:https://laane-nigula.eelk.ee/syndmus/avatud-annetusmuuk-20/
CATEGORIES:Annetusmüük
END:VEVENT
BEGIN:VEVENT
DTSTART;TZID=Europe/Tallinn:20240530T110000
DTEND;TZID=Europe/Tallinn:20240530T123000
DTSTAMP:20260420T094103
CREATED:20240325T183035Z
LAST-MODIFIED:20240325T183035Z
UID:1749-1717066800-1717072200@laane-nigula.eelk.ee
SUMMARY:Jumalateenistus Oru Hooldekodus
DESCRIPTION:
URL:https://laane-nigula.eelk.ee/syndmus/jumalateenistus-oru-hooldekodus-8/
CATEGORIES:Jumalateenistus
END:VEVENT
BEGIN:VEVENT
DTSTART;TZID=Europe/Tallinn:20240530T100000
DTEND;TZID=Europe/Tallinn:20240530T140000
DTSTAMP:20260420T094103
CREATED:20240325T182123Z
LAST-MODIFIED:20240325T182123Z
UID:1714-1717063200-1717077600@laane-nigula.eelk.ee
SUMMARY:Avatud annetusmüük
DESCRIPTION:
URL:https://laane-nigula.eelk.ee/syndmus/avatud-annetusmuuk-19/
CATEGORIES:Annetusmüük
END:VEVENT
BEGIN:VEVENT
DTSTART;TZID=Europe/Tallinn:20240530T093000
DTEND;TZID=Europe/Tallinn:20240530T100000
DTSTAMP:20260420T094103
CREATED:20240325T180111Z
LAST-MODIFIED:20240325T180111Z
UID:1661-1717061400-1717063200@laane-nigula.eelk.ee
SUMMARY:Hommikupalvus kogudusemajas
DESCRIPTION:
URL:https://laane-nigula.eelk.ee/syndmus/hommikupalvus-kogudusemajas-60/
CATEGORIES:Palvus
END:VEVENT
BEGIN:VEVENT
DTSTART;TZID=Europe/Tallinn:20240529T100000
DTEND;TZID=Europe/Tallinn:20240529T160000
DTSTAMP:20260420T094103
CREATED:20240325T182050Z
LAST-MODIFIED:20240325T182050Z
UID:1712-1716976800-1716998400@laane-nigula.eelk.ee
SUMMARY:Avatud annetusmüük
DESCRIPTION:
URL:https://laane-nigula.eelk.ee/syndmus/avatud-annetusmuuk-18/
CATEGORIES:Annetusmüük
END:VEVENT
BEGIN:VEVENT
DTSTART;TZID=Europe/Tallinn:20240526T120000
DTEND;TZID=Europe/Tallinn:20240526T133000
DTSTAMP:20260420T094103
CREATED:20240325T181258Z
LAST-MODIFIED:20240325T181258Z
UID:1678-1716724800-1716730200@laane-nigula.eelk.ee
SUMMARY:Jumalateenistus armulauaga
DESCRIPTION:
URL:https://laane-nigula.eelk.ee/syndmus/jumalateenistus-armulauaga-57/
CATEGORIES:Jumalateenistus
END:VEVENT
BEGIN:VEVENT
DTSTART;TZID=Europe/Tallinn:20240525T100000
DTEND;TZID=Europe/Tallinn:20240525T140000
DTSTAMP:20260420T094103
CREATED:20240325T182032Z
LAST-MODIFIED:20240325T182032Z
UID:1710-1716631200-1716645600@laane-nigula.eelk.ee
SUMMARY:Avatud annetusmüük
DESCRIPTION:
URL:https://laane-nigula.eelk.ee/syndmus/avatud-annetusmuuk-17/
CATEGORIES:Annetusmüük
END:VEVENT
BEGIN:VEVENT
DTSTART;TZID=Europe/Tallinn:20240523T180000
DTEND;TZID=Europe/Tallinn:20240523T200000
DTSTAMP:20260420T094103
CREATED:20240325T182954Z
LAST-MODIFIED:20240505T071837Z
UID:1747-1716487200-1716494400@laane-nigula.eelk.ee
SUMMARY:Töötegijate nõupidamine Paliveres
DESCRIPTION:
URL:https://laane-nigula.eelk.ee/syndmus/tootegijate-noupidamine-9/
CATEGORIES:Muu
END:VEVENT
BEGIN:VEVENT
DTSTART;TZID=Europe/Tallinn:20240523T100000
DTEND;TZID=Europe/Tallinn:20240523T140000
DTSTAMP:20260420T094103
CREATED:20240325T182015Z
LAST-MODIFIED:20240325T182015Z
UID:1708-1716458400-1716472800@laane-nigula.eelk.ee
SUMMARY:Avatud annetusmüük
DESCRIPTION:
URL:https://laane-nigula.eelk.ee/syndmus/avatud-annetusmuuk-16/
CATEGORIES:Annetusmüük
END:VEVENT
BEGIN:VEVENT
DTSTART;TZID=Europe/Tallinn:20240523T093000
DTEND;TZID=Europe/Tallinn:20240523T100000
DTSTAMP:20260420T094103
CREATED:20240325T175958Z
LAST-MODIFIED:20240325T175958Z
UID:1657-1716456600-1716458400@laane-nigula.eelk.ee
SUMMARY:Hommikupalvus kogudusemajas
DESCRIPTION:
URL:https://laane-nigula.eelk.ee/syndmus/hommikupalvus-kogudusemajas-59/
CATEGORIES:Palvus
END:VEVENT
BEGIN:VEVENT
DTSTART;TZID=Europe/Tallinn:20240522T100000
DTEND;TZID=Europe/Tallinn:20240522T160000
DTSTAMP:20260420T094103
CREATED:20240325T181957Z
LAST-MODIFIED:20240325T181957Z
UID:1706-1716372000-1716393600@laane-nigula.eelk.ee
SUMMARY:Avatud annetusmüük
DESCRIPTION:
URL:https://laane-nigula.eelk.ee/syndmus/avatud-annetusmuuk-15/
CATEGORIES:Annetusmüük
END:VEVENT
BEGIN:VEVENT
DTSTART;TZID=Europe/Tallinn:20240519T120000
DTEND;TZID=Europe/Tallinn:20240519T133000
DTSTAMP:20260420T094103
CREATED:20240325T181229Z
LAST-MODIFIED:20240325T181229Z
UID:1676-1716120000-1716125400@laane-nigula.eelk.ee
SUMMARY:Jumalateenistus armulauaga. Nelipüha\, leeripäev
DESCRIPTION:
URL:https://laane-nigula.eelk.ee/syndmus/jumalateenistus-armulauaga-nelipuha-leeripaev/
CATEGORIES:Jumalateenistus
END:VEVENT
BEGIN:VEVENT
DTSTART;TZID=Europe/Tallinn:20240518T100000
DTEND;TZID=Europe/Tallinn:20240518T140000
DTSTAMP:20260420T094103
CREATED:20240505T071728Z
LAST-MODIFIED:20240505T071728Z
UID:1834-1716026400-1716040800@laane-nigula.eelk.ee
SUMMARY:Avatud annetusmüük
DESCRIPTION:
URL:https://laane-nigula.eelk.ee/syndmus/avatud-annetusmuuk-32/
CATEGORIES:Annetusmüük
END:VEVENT
BEGIN:VEVENT
DTSTART;TZID=Europe/Tallinn:20240518T084500
DTEND;TZID=Europe/Tallinn:20240518T170000
DTSTAMP:20260420T094103
CREATED:20240412T182537Z
LAST-MODIFIED:20240505T071804Z
UID:1810-1716021900-1716051600@laane-nigula.eelk.ee
SUMMARY:Oikumeeniline jalgratta- ja automatk Märjamaa\, Kirbla\, Lihula
DESCRIPTION:Kutsume sind jalgrattamatkale L 18.05.\n\nSel korral on meie marsruut jalgratastega Märjamaa-Kirbla-Lihula.\n\nAlustame 8.45 teekonna palvusega Lääne–Nigulast Märjamaale. Sinna sõit toimub autodega. Jalgrataste jaoks on olemas eraldi transport.\n10.00 on Märjamaa kirikus väike ekskursioon\, tutvume kiriku ja selle ajalooga.\nKell 11.00 jätkub teekond Kirbla suunas.\nLõunasöök Kirblas 13.30.\nPärast lõunat ekskursioon  Kirbla kirikus.\nSuundume Lihulasse. Lihulas külastame Nelipühi kogudust ja õhtupalvus toimub Lihula kirikus.\nKojusõit u. 17:00\n\nKui sa ei sõida jalgrattaga\, siis on sul võimalik matkata autoga. Autodega käiakse vaatamas Märjamaa õigeusukiriku varemeid\, Vigala mõisaparki.\n\nOsalustasu 10€ (sisaldab transporti ja lõunasööki)\nRegistreerimiseks kirjuta e-mailile laane-nigula@eelk.ee\n\nEelregistreerimine agneviilma@gmail.com või 51987082 \nMatk on oikumeeniline\, oodatud on kõik Lääne praostkonna kogudused ja konfessioonid.
URL:https://laane-nigula.eelk.ee/syndmus/jalgrattamatk/
CATEGORIES:Matkad
ATTACH;FMTTYPE=image/jpeg:https://laane-nigula.eelk.ee/wp-content/uploads/2024/04/18.05.2024-matk.jpeg
END:VEVENT
BEGIN:VEVENT
DTSTART;TZID=Europe/Tallinn:20240516T100000
DTEND;TZID=Europe/Tallinn:20240516T140000
DTSTAMP:20260420T094103
CREATED:20240325T181930Z
LAST-MODIFIED:20240325T181930Z
UID:1704-1715853600-1715868000@laane-nigula.eelk.ee
SUMMARY:Avatud annetusmüük
DESCRIPTION:
URL:https://laane-nigula.eelk.ee/syndmus/avatud-annetusmuuk-14/
CATEGORIES:Annetusmüük
END:VEVENT
BEGIN:VEVENT
DTSTART;TZID=Europe/Tallinn:20240516T093000
DTEND;TZID=Europe/Tallinn:20240516T100000
DTSTAMP:20260420T094103
CREATED:20240325T175905Z
LAST-MODIFIED:20240325T175905Z
UID:1655-1715851800-1715853600@laane-nigula.eelk.ee
SUMMARY:Hommikupalvus kogudusemajas
DESCRIPTION:
URL:https://laane-nigula.eelk.ee/syndmus/hommikupalvus-kogudusemajas-58/
CATEGORIES:Palvus
END:VEVENT
BEGIN:VEVENT
DTSTART;TZID=Europe/Tallinn:20240515T100000
DTEND;TZID=Europe/Tallinn:20240515T160000
DTSTAMP:20260420T094103
CREATED:20240325T181909Z
LAST-MODIFIED:20240325T181909Z
UID:1702-1715767200-1715788800@laane-nigula.eelk.ee
SUMMARY:Avatud annetusmüük
DESCRIPTION:
URL:https://laane-nigula.eelk.ee/syndmus/avatud-annetusmuuk-13/
CATEGORIES:Annetusmüük
END:VEVENT
BEGIN:VEVENT
DTSTART;VALUE=DATE:20240514
DTEND;VALUE=DATE:20240515
DTSTAMP:20260420T094103
CREATED:20240325T182817Z
LAST-MODIFIED:20240505T071600Z
UID:1743-1715644800-1715731199@laane-nigula.eelk.ee
SUMMARY:Lääne Praostkonna Sinod Lääne Nigula kirikus ja kogudusemajas
DESCRIPTION:
URL:https://laane-nigula.eelk.ee/syndmus/laane-praostkonn-sinod-laane-nigula-kirikus-ja-kogudusemajas/
CATEGORIES:Muu
END:VEVENT
BEGIN:VEVENT
DTSTART;TZID=Europe/Tallinn:20240512T120000
DTEND;TZID=Europe/Tallinn:20240512T133000
DTSTAMP:20260420T094103
CREATED:20240325T181124Z
LAST-MODIFIED:20240325T181124Z
UID:1674-1715515200-1715520600@laane-nigula.eelk.ee
SUMMARY:Jumalateenistus armulauaga. Emadepäev
DESCRIPTION:
URL:https://laane-nigula.eelk.ee/syndmus/jumalateenistus-armulauaga-emadepaev/
CATEGORIES:Jumalateenistus
END:VEVENT
BEGIN:VEVENT
DTSTART;TZID=Europe/Tallinn:20240512T100000
DTEND;TZID=Europe/Tallinn:20240512T130000
DTSTAMP:20260420T094103
CREATED:20240323T181348Z
LAST-MODIFIED:20240505T071511Z
UID:1621-1715508000-1715518800@laane-nigula.eelk.ee
SUMMARY:Pühapäevakool lastele - lõpupidu
DESCRIPTION:
URL:https://laane-nigula.eelk.ee/syndmus/puhapaevakool-lastele-26/
CATEGORIES:Lastetöö
END:VEVENT
BEGIN:VEVENT
DTSTART;TZID=Europe/Tallinn:20240511T100000
DTEND;TZID=Europe/Tallinn:20240511T140000
DTSTAMP:20260420T094103
CREATED:20240325T181846Z
LAST-MODIFIED:20240325T181846Z
UID:1700-1715421600-1715436000@laane-nigula.eelk.ee
SUMMARY:Avatud annetusmüük
DESCRIPTION:
URL:https://laane-nigula.eelk.ee/syndmus/avatud-annetusmuuk-12/
CATEGORIES:Annetusmüük
END:VEVENT
BEGIN:VEVENT
DTSTART;TZID=Europe/Tallinn:20240509T100000
DTEND;TZID=Europe/Tallinn:20240509T140000
DTSTAMP:20260420T094103
CREATED:20240325T181829Z
LAST-MODIFIED:20240325T181829Z
UID:1698-1715248800-1715263200@laane-nigula.eelk.ee
SUMMARY:Avatud annetusmüük
DESCRIPTION:
URL:https://laane-nigula.eelk.ee/syndmus/avatud-annetusmuuk-11/
CATEGORIES:Annetusmüük
END:VEVENT
END:VCALENDAR