BEGIN:VCALENDAR
VERSION:2.0
PRODID:-//EELK Lääne-Nigula kogudus - ECPv6.15.20//NONSGML v1.0//EN
CALSCALE:GREGORIAN
METHOD:PUBLISH
X-WR-CALNAME:EELK Lääne-Nigula kogudus
X-ORIGINAL-URL:https://laane-nigula.eelk.ee
X-WR-CALDESC:Events for EELK Lääne-Nigula kogudus
REFRESH-INTERVAL;VALUE=DURATION:PT1H
X-Robots-Tag:noindex
X-PUBLISHED-TTL:PT1H
BEGIN:VTIMEZONE
TZID:Europe/Tallinn
BEGIN:DAYLIGHT
TZOFFSETFROM:+0200
TZOFFSETTO:+0300
TZNAME:EEST
DTSTART:20230326T010000
END:DAYLIGHT
BEGIN:STANDARD
TZOFFSETFROM:+0300
TZOFFSETTO:+0200
TZNAME:EET
DTSTART:20231029T010000
END:STANDARD
BEGIN:DAYLIGHT
TZOFFSETFROM:+0200
TZOFFSETTO:+0300
TZNAME:EEST
DTSTART:20240331T010000
END:DAYLIGHT
BEGIN:STANDARD
TZOFFSETFROM:+0300
TZOFFSETTO:+0200
TZNAME:EET
DTSTART:20241027T010000
END:STANDARD
BEGIN:DAYLIGHT
TZOFFSETFROM:+0200
TZOFFSETTO:+0300
TZNAME:EEST
DTSTART:20250330T010000
END:DAYLIGHT
BEGIN:STANDARD
TZOFFSETFROM:+0300
TZOFFSETTO:+0200
TZNAME:EET
DTSTART:20251026T010000
END:STANDARD
END:VTIMEZONE
BEGIN:VEVENT
DTSTART;TZID=Europe/Tallinn:20240714T133000
DTEND;TZID=Europe/Tallinn:20240714T160000
DTSTAMP:20260420T024257
CREATED:20240628T115351Z
LAST-MODIFIED:20240628T115351Z
UID:1956-1720963800-1720972800@laane-nigula.eelk.ee
SUMMARY:Mall Lauri klaverikontsert
DESCRIPTION:Mall Lauri klaverikontsert kogudusemajas \nKirikukohv
URL:https://laane-nigula.eelk.ee/syndmus/mall-lauri-klaverikontsert/
CATEGORIES:Muusikatöö
END:VEVENT
BEGIN:VEVENT
DTSTART;TZID=Europe/Tallinn:20240714T130000
DTEND;TZID=Europe/Tallinn:20240714T160000
DTSTAMP:20260420T024257
CREATED:20240628T114201Z
LAST-MODIFIED:20240628T114201Z
UID:1900-1720962000-1720972800@laane-nigula.eelk.ee
SUMMARY:Teeliste kirik ja kirikutorn
DESCRIPTION:
URL:https://laane-nigula.eelk.ee/syndmus/teeliste-kirik-ja-kirikutorn-7/
CATEGORIES:Teeliste kirik
END:VEVENT
BEGIN:VEVENT
DTSTART;TZID=Europe/Tallinn:20240714T120000
DTEND;TZID=Europe/Tallinn:20240714T133000
DTSTAMP:20260420T024257
CREATED:20240628T115156Z
LAST-MODIFIED:20240628T115156Z
UID:1948-1720958400-1720963800@laane-nigula.eelk.ee
SUMMARY:Jumalateenistus armulauaga
DESCRIPTION:
URL:https://laane-nigula.eelk.ee/syndmus/jumalateenistus-armulauaga-64/
CATEGORIES:Jumalateenistus
END:VEVENT
BEGIN:VEVENT
DTSTART;TZID=Europe/Tallinn:20240713T130000
DTEND;TZID=Europe/Tallinn:20240713T160000
DTSTAMP:20260420T024257
CREATED:20240628T114248Z
LAST-MODIFIED:20240628T114248Z
UID:1902-1720875600-1720886400@laane-nigula.eelk.ee
SUMMARY:Teeliste kirik ja kirikutorn
DESCRIPTION:
URL:https://laane-nigula.eelk.ee/syndmus/teeliste-kirik-ja-kirikutorn-8/
CATEGORIES:Teeliste kirik
END:VEVENT
BEGIN:VEVENT
DTSTART;TZID=Europe/Tallinn:20240713T100000
DTEND;TZID=Europe/Tallinn:20240713T140000
DTSTAMP:20260420T024257
CREATED:20240628T114817Z
LAST-MODIFIED:20240628T114817Z
UID:1932-1720864800-1720879200@laane-nigula.eelk.ee
SUMMARY:Annetusmüük
DESCRIPTION:
URL:https://laane-nigula.eelk.ee/syndmus/annetusmuuk-157/
CATEGORIES:Annetusmüük
END:VEVENT
BEGIN:VEVENT
DTSTART;TZID=Europe/Tallinn:20240712T130000
DTEND;TZID=Europe/Tallinn:20240712T160000
DTSTAMP:20260420T024257
CREATED:20240628T114003Z
LAST-MODIFIED:20240628T114003Z
UID:1889-1720789200-1720800000@laane-nigula.eelk.ee
SUMMARY:Teeliste kirik ja kirikutorn
DESCRIPTION:
URL:https://laane-nigula.eelk.ee/syndmus/teeliste-kirik-ja-kirikutorn-2/
CATEGORIES:Teeliste kirik
END:VEVENT
BEGIN:VEVENT
DTSTART;TZID=Europe/Tallinn:20240711T100000
DTEND;TZID=Europe/Tallinn:20240711T140000
DTSTAMP:20260420T024257
CREATED:20240628T114723Z
LAST-MODIFIED:20240628T114723Z
UID:1924-1720692000-1720706400@laane-nigula.eelk.ee
SUMMARY:Annetusmüük
DESCRIPTION:
URL:https://laane-nigula.eelk.ee/syndmus/annetusmuuk-153/
CATEGORIES:Annetusmüük
END:VEVENT
BEGIN:VEVENT
DTSTART;TZID=Europe/Tallinn:20240711T080000
DTEND;TZID=Europe/Tallinn:20240711T100000
DTSTAMP:20260420T024257
CREATED:20240628T115020Z
LAST-MODIFIED:20240628T115028Z
UID:1940-1720684800-1720692000@laane-nigula.eelk.ee
SUMMARY:Hommikupalvus kogudusemajas
DESCRIPTION:
URL:https://laane-nigula.eelk.ee/syndmus/hommikupalvus-kogudusemajas-66/
CATEGORIES:Palvus
END:VEVENT
BEGIN:VEVENT
DTSTART;TZID=Europe/Tallinn:20240710T100000
DTEND;TZID=Europe/Tallinn:20240710T160000
DTSTAMP:20260420T024257
CREATED:20240628T114616Z
LAST-MODIFIED:20240628T114616Z
UID:1914-1720605600-1720627200@laane-nigula.eelk.ee
SUMMARY:Annetusmüük
DESCRIPTION:
URL:https://laane-nigula.eelk.ee/syndmus/annetusmuuk-148/
CATEGORIES:Annetusmüük
END:VEVENT
BEGIN:VEVENT
DTSTART;TZID=Europe/Tallinn:20240707T130000
DTEND;TZID=Europe/Tallinn:20240707T160000
DTSTAMP:20260420T024257
CREATED:20240628T114125Z
LAST-MODIFIED:20240628T114125Z
UID:1898-1720357200-1720368000@laane-nigula.eelk.ee
SUMMARY:Teeliste kirik ja kirikutorn
DESCRIPTION:
URL:https://laane-nigula.eelk.ee/syndmus/teeliste-kirik-ja-kirikutorn-6/
CATEGORIES:Teeliste kirik
END:VEVENT
BEGIN:VEVENT
DTSTART;TZID=Europe/Tallinn:20240707T120000
DTEND;TZID=Europe/Tallinn:20240707T133000
DTSTAMP:20260420T024257
CREATED:20240628T115140Z
LAST-MODIFIED:20240628T115140Z
UID:1946-1720353600-1720359000@laane-nigula.eelk.ee
SUMMARY:Jumalateenistus armulauaga
DESCRIPTION:
URL:https://laane-nigula.eelk.ee/syndmus/jumalateenistus-armulauaga-63/
CATEGORIES:Jumalateenistus
END:VEVENT
BEGIN:VEVENT
DTSTART;TZID=Europe/Tallinn:20240706T130000
DTEND;TZID=Europe/Tallinn:20240706T160000
DTSTAMP:20260420T024257
CREATED:20240628T114107Z
LAST-MODIFIED:20240628T114107Z
UID:1896-1720270800-1720281600@laane-nigula.eelk.ee
SUMMARY:Teeliste kirik ja kirikutorn
DESCRIPTION:
URL:https://laane-nigula.eelk.ee/syndmus/teeliste-kirik-ja-kirikutorn-5/
CATEGORIES:Teeliste kirik
END:VEVENT
BEGIN:VEVENT
DTSTART;TZID=Europe/Tallinn:20240706T100000
DTEND;TZID=Europe/Tallinn:20240706T140000
DTSTAMP:20260420T024257
CREATED:20240628T114803Z
LAST-MODIFIED:20240628T114803Z
UID:1930-1720260000-1720274400@laane-nigula.eelk.ee
SUMMARY:Annetusmüük
DESCRIPTION:
URL:https://laane-nigula.eelk.ee/syndmus/annetusmuuk-156/
CATEGORIES:Annetusmüük
END:VEVENT
BEGIN:VEVENT
DTSTART;TZID=Europe/Tallinn:20240705T130000
DTEND;TZID=Europe/Tallinn:20240705T160000
DTSTAMP:20260420T024257
CREATED:20240628T113945Z
LAST-MODIFIED:20240628T113945Z
UID:1887-1720184400-1720195200@laane-nigula.eelk.ee
SUMMARY:Teeliste kirik ja kirikutorn
DESCRIPTION:
URL:https://laane-nigula.eelk.ee/syndmus/teeliste-kirik-ja-kirikutorn/
CATEGORIES:Teeliste kirik
END:VEVENT
BEGIN:VEVENT
DTSTART;TZID=Europe/Tallinn:20240704T100000
DTEND;TZID=Europe/Tallinn:20240704T140000
DTSTAMP:20260420T024257
CREATED:20240628T114712Z
LAST-MODIFIED:20240628T114712Z
UID:1922-1720087200-1720101600@laane-nigula.eelk.ee
SUMMARY:Annetusmüük
DESCRIPTION:
URL:https://laane-nigula.eelk.ee/syndmus/annetusmuuk-152/
CATEGORIES:Annetusmüük
END:VEVENT
BEGIN:VEVENT
DTSTART;TZID=Europe/Tallinn:20240704T093000
DTEND;TZID=Europe/Tallinn:20240704T100000
DTSTAMP:20260420T024257
CREATED:20240628T115009Z
LAST-MODIFIED:20240628T115009Z
UID:1938-1720085400-1720087200@laane-nigula.eelk.ee
SUMMARY:Hommikupalvus kogudusemajas
DESCRIPTION:
URL:https://laane-nigula.eelk.ee/syndmus/hommikupalvus-kogudusemajas-65/
CATEGORIES:Palvus
END:VEVENT
BEGIN:VEVENT
DTSTART;TZID=Europe/Tallinn:20240703T100000
DTEND;TZID=Europe/Tallinn:20240703T160000
DTSTAMP:20260420T024257
CREATED:20240628T114603Z
LAST-MODIFIED:20240628T114603Z
UID:1912-1720000800-1720022400@laane-nigula.eelk.ee
SUMMARY:Annetusmüük
DESCRIPTION:
URL:https://laane-nigula.eelk.ee/syndmus/annetusmuuk-147/
CATEGORIES:Annetusmüük
END:VEVENT
BEGIN:VEVENT
DTSTART;TZID=Europe/Tallinn:20240701T080000
DTEND;TZID=Europe/Tallinn:20240731T170000
DTSTAMP:20260420T024257
CREATED:20240628T113401Z
LAST-MODIFIED:20240628T113808Z
UID:1877-1719820800-1722445200@laane-nigula.eelk.ee
SUMMARY:Mall Lauri akvarellide näitusmüük juulis
DESCRIPTION:Kirikus on juuli kuus avatud Mall Lauri akvarellide näitusmüük. \nRaha läheb oreli korrashoiuks. \nPikemalt saab lugeda postitusest: https://laane-nigula.eelk.ee/2024/06/28/mall-laur-preluudid/
URL:https://laane-nigula.eelk.ee/syndmus/mall-lauri-akvarellide-naitusmuuk-juulis/
CATEGORIES:Kirik
END:VEVENT
BEGIN:VEVENT
DTSTART;VALUE=DATE:20240701
DTEND;VALUE=DATE:20240704
DTSTAMP:20260420T024257
CREATED:20240325T185002Z
LAST-MODIFIED:20240325T185002Z
UID:1793-1719792000-1720051199@laane-nigula.eelk.ee
SUMMARY:Praostkonna lastelaager Vormsil
DESCRIPTION:Võtta ühendust pühapäevakooli õpetajatega. Kohal ollakse kolm päeva ja kaks ööd.
URL:https://laane-nigula.eelk.ee/syndmus/praostkonna-lastelaager-vormsil/
CATEGORIES:Lastetöö
END:VEVENT
BEGIN:VEVENT
DTSTART;TZID=Europe/Tallinn:20240630T130000
DTEND;TZID=Europe/Tallinn:20240630T160000
DTSTAMP:20260420T024257
CREATED:20240325T184218Z
LAST-MODIFIED:20240325T184218Z
UID:1773-1719752400-1719763200@laane-nigula.eelk.ee
SUMMARY:Teeliste kirik
DESCRIPTION:
URL:https://laane-nigula.eelk.ee/syndmus/teeliste-kirik-10/
CATEGORIES:Teeliste kirik
END:VEVENT
BEGIN:VEVENT
DTSTART;TZID=Europe/Tallinn:20240630T120000
DTEND;TZID=Europe/Tallinn:20240630T133000
DTSTAMP:20260420T024257
CREATED:20240325T181602Z
LAST-MODIFIED:20240325T181602Z
UID:1690-1719748800-1719754200@laane-nigula.eelk.ee
SUMMARY:Jumalateenistus armulauaga
DESCRIPTION:
URL:https://laane-nigula.eelk.ee/syndmus/jumalateenistus-armulauaga-62/
CATEGORIES:Jumalateenistus
END:VEVENT
BEGIN:VEVENT
DTSTART;TZID=Europe/Tallinn:20240629T130000
DTEND;TZID=Europe/Tallinn:20240629T160000
DTSTAMP:20260420T024257
CREATED:20240325T184239Z
LAST-MODIFIED:20240325T184239Z
UID:1775-1719666000-1719676800@laane-nigula.eelk.ee
SUMMARY:Teeliste kirik
DESCRIPTION:
URL:https://laane-nigula.eelk.ee/syndmus/teeliste-kirik-11/
CATEGORIES:Teeliste kirik
END:VEVENT
BEGIN:VEVENT
DTSTART;TZID=Europe/Tallinn:20240629T100000
DTEND;TZID=Europe/Tallinn:20240629T140000
DTSTAMP:20260420T024257
CREATED:20240325T182626Z
LAST-MODIFIED:20240325T182626Z
UID:1739-1719655200-1719669600@laane-nigula.eelk.ee
SUMMARY:Avatud annetusmüük
DESCRIPTION:
URL:https://laane-nigula.eelk.ee/syndmus/avatud-annetusmuuk-31/
CATEGORIES:Annetusmüük
END:VEVENT
BEGIN:VEVENT
DTSTART;TZID=Europe/Tallinn:20240628T130000
DTEND;TZID=Europe/Tallinn:20240628T160000
DTSTAMP:20260420T024257
CREATED:20240325T184319Z
LAST-MODIFIED:20240325T184319Z
UID:1777-1719579600-1719590400@laane-nigula.eelk.ee
SUMMARY:Teeliste kirik
DESCRIPTION:
URL:https://laane-nigula.eelk.ee/syndmus/teeliste-kirik-12/
CATEGORIES:Teeliste kirik
END:VEVENT
BEGIN:VEVENT
DTSTART;VALUE=DATE:20240628
DTEND;VALUE=DATE:20240630
DTSTAMP:20260420T024257
CREATED:20240301T184706Z
LAST-MODIFIED:20240301T184706Z
UID:1572-1719532800-1719705599@laane-nigula.eelk.ee
SUMMARY:Vaimulik laulupidu „Rõõm Üle Maa“
DESCRIPTION:Soovist osaleda andke teada Agne Viilmale. \nSõidame 28.06 hommikul  ja tuleme tagasi 29.06 pärast vaimulikku laulupidu.
URL:https://laane-nigula.eelk.ee/syndmus/vaimulik-laulupidu-room-ule-maa/
CATEGORIES:Muu
END:VEVENT
BEGIN:VEVENT
DTSTART;TZID=Europe/Tallinn:20240627T110000
DTEND;TZID=Europe/Tallinn:20240627T123000
DTSTAMP:20260420T024257
CREATED:20240325T181525Z
LAST-MODIFIED:20240325T181525Z
UID:1688-1719486000-1719491400@laane-nigula.eelk.ee
SUMMARY:Jumalateenistus Oru Hooldekodus
DESCRIPTION:
URL:https://laane-nigula.eelk.ee/syndmus/jumalateenistus-oru-hooldekodus-7/
CATEGORIES:Jumalateenistus
END:VEVENT
BEGIN:VEVENT
DTSTART;TZID=Europe/Tallinn:20240627T100000
DTEND;TZID=Europe/Tallinn:20240627T140000
DTSTAMP:20260420T024257
CREATED:20240325T182606Z
LAST-MODIFIED:20240325T182606Z
UID:1737-1719482400-1719496800@laane-nigula.eelk.ee
SUMMARY:Avatud annetusmüük
DESCRIPTION:
URL:https://laane-nigula.eelk.ee/syndmus/avatud-annetusmuuk-30/
CATEGORIES:Annetusmüük
END:VEVENT
BEGIN:VEVENT
DTSTART;TZID=Europe/Tallinn:20240627T093000
DTEND;TZID=Europe/Tallinn:20240627T100000
DTSTAMP:20260420T024257
CREATED:20240325T180332Z
LAST-MODIFIED:20240325T180332Z
UID:1669-1719480600-1719482400@laane-nigula.eelk.ee
SUMMARY:Hommikupalvus kogudusemajas
DESCRIPTION:
URL:https://laane-nigula.eelk.ee/syndmus/hommikupalvus-kogudusemajas-64/
CATEGORIES:Palvus
END:VEVENT
BEGIN:VEVENT
DTSTART;TZID=Europe/Tallinn:20240627T080000
DTEND;TZID=Europe/Tallinn:20240630T170000
DTSTAMP:20260420T024257
CREATED:20240530T085944Z
LAST-MODIFIED:20240530T090018Z
UID:1860-1719475200-1719766800@laane-nigula.eelk.ee
SUMMARY:Kirikupäevad Viljandis
DESCRIPTION:29.06 kell 16.00 rongklik \n17.00 Vaimulik laulupidu
URL:https://laane-nigula.eelk.ee/syndmus/kirikupaevad-viljandis-3/
CATEGORIES:Muu
END:VEVENT
BEGIN:VEVENT
DTSTART;TZID=Europe/Tallinn:20240627T080000
DTEND;TZID=Europe/Tallinn:20240630T170000
DTSTAMP:20260420T024257
CREATED:20240301T184537Z
LAST-MODIFIED:20240301T184537Z
UID:1570-1719475200-1719766800@laane-nigula.eelk.ee
SUMMARY:Kirikupäevad Viljandis
DESCRIPTION:
URL:https://laane-nigula.eelk.ee/syndmus/kirikupaevad-viljandis/
CATEGORIES:Muu
END:VEVENT
END:VCALENDAR