BEGIN:VCALENDAR
VERSION:2.0
PRODID:-//EELK Lääne-Nigula kogudus - ECPv6.15.20//NONSGML v1.0//EN
CALSCALE:GREGORIAN
METHOD:PUBLISH
X-WR-CALNAME:EELK Lääne-Nigula kogudus
X-ORIGINAL-URL:https://laane-nigula.eelk.ee
X-WR-CALDESC:Events for EELK Lääne-Nigula kogudus
REFRESH-INTERVAL;VALUE=DURATION:PT1H
X-Robots-Tag:noindex
X-PUBLISHED-TTL:PT1H
BEGIN:VTIMEZONE
TZID:Europe/Tallinn
BEGIN:DAYLIGHT
TZOFFSETFROM:+0200
TZOFFSETTO:+0300
TZNAME:EEST
DTSTART:20230326T010000
END:DAYLIGHT
BEGIN:STANDARD
TZOFFSETFROM:+0300
TZOFFSETTO:+0200
TZNAME:EET
DTSTART:20231029T010000
END:STANDARD
BEGIN:DAYLIGHT
TZOFFSETFROM:+0200
TZOFFSETTO:+0300
TZNAME:EEST
DTSTART:20240331T010000
END:DAYLIGHT
BEGIN:STANDARD
TZOFFSETFROM:+0300
TZOFFSETTO:+0200
TZNAME:EET
DTSTART:20241027T010000
END:STANDARD
BEGIN:DAYLIGHT
TZOFFSETFROM:+0200
TZOFFSETTO:+0300
TZNAME:EEST
DTSTART:20250330T010000
END:DAYLIGHT
BEGIN:STANDARD
TZOFFSETFROM:+0300
TZOFFSETTO:+0200
TZNAME:EET
DTSTART:20251026T010000
END:STANDARD
END:VTIMEZONE
BEGIN:VEVENT
DTSTART;TZID=Europe/Tallinn:20240831T100000
DTEND;TZID=Europe/Tallinn:20240831T140000
DTSTAMP:20260419T202256
CREATED:20240802T071130Z
LAST-MODIFIED:20240802T071130Z
UID:1974-1725098400-1725112800@laane-nigula.eelk.ee
SUMMARY:Annetusmüük
DESCRIPTION:
URL:https://laane-nigula.eelk.ee/syndmus/annetusmuuk-164/
CATEGORIES:Annetusmüük
END:VEVENT
BEGIN:VEVENT
DTSTART;TZID=Europe/Tallinn:20240830T183000
DTEND;TZID=Europe/Tallinn:20240830T200000
DTSTAMP:20260419T202256
CREATED:20240802T073628Z
LAST-MODIFIED:20240827T084511Z
UID:2062-1725042600-1725048000@laane-nigula.eelk.ee
SUMMARY:Töötegijate nõupidamine pastoraadis
DESCRIPTION:
URL:https://laane-nigula.eelk.ee/syndmus/tootegijate-noupidamine-pastoraadis/
CATEGORIES:Muu
END:VEVENT
BEGIN:VEVENT
DTSTART;TZID=Europe/Tallinn:20240830T170000
DTEND;TZID=Europe/Tallinn:20240830T190000
DTSTAMP:20260419T202256
CREATED:20240807T151427Z
LAST-MODIFIED:20240807T151458Z
UID:2064-1725037200-1725044400@laane-nigula.eelk.ee
SUMMARY:Piiblitund: tänulikkus
DESCRIPTION:Tunni viib läbi „Rahu Sõna“ misjonär KEN HELMES \n„Õige jagab välja rikkalikult ja annab vaestele; tema õigus püsib ikka\, tema sarv on kõrgel au sees.“\nPs 112 : 9
URL:https://laane-nigula.eelk.ee/syndmus/piiblitund-tanulikkus/
CATEGORIES:Piiblitund
ATTACH;FMTTYPE=image/jpeg:https://laane-nigula.eelk.ee/wp-content/uploads/2024/08/DSC_2622_2-scaled-e1723043778123.jpg
END:VEVENT
BEGIN:VEVENT
DTSTART;TZID=Europe/Tallinn:20240830T130000
DTEND;TZID=Europe/Tallinn:20240830T160000
DTSTAMP:20260419T202256
CREATED:20240802T071606Z
LAST-MODIFIED:20240802T071618Z
UID:2006-1725022800-1725033600@laane-nigula.eelk.ee
SUMMARY:Teeliste kirik
DESCRIPTION:
URL:https://laane-nigula.eelk.ee/syndmus/teeliste-kirik-19/
CATEGORIES:Teeliste kirik
END:VEVENT
BEGIN:VEVENT
DTSTART;TZID=Europe/Tallinn:20240829T110000
DTEND;TZID=Europe/Tallinn:20240829T123000
DTSTAMP:20260419T202256
CREATED:20240802T073513Z
LAST-MODIFIED:20240802T073513Z
UID:2060-1724929200-1724934600@laane-nigula.eelk.ee
SUMMARY:Jumalateenistus Oru Hooldekodus
DESCRIPTION:
URL:https://laane-nigula.eelk.ee/syndmus/jumalateenistus-oru-hooldekodus-10/
CATEGORIES:Jumalateenistus
END:VEVENT
BEGIN:VEVENT
DTSTART;TZID=Europe/Tallinn:20240829T100000
DTEND;TZID=Europe/Tallinn:20240829T140000
DTSTAMP:20260419T202256
CREATED:20240802T071411Z
LAST-MODIFIED:20240802T071411Z
UID:1992-1724925600-1724940000@laane-nigula.eelk.ee
SUMMARY:Annetusmüük
DESCRIPTION:
URL:https://laane-nigula.eelk.ee/syndmus/annetusmuuk-173/
CATEGORIES:Annetusmüük
END:VEVENT
BEGIN:VEVENT
DTSTART;TZID=Europe/Tallinn:20240829T093000
DTEND;TZID=Europe/Tallinn:20240829T100000
DTSTAMP:20260419T202256
CREATED:20240802T073025Z
LAST-MODIFIED:20240802T073025Z
UID:2039-1724923800-1724925600@laane-nigula.eelk.ee
SUMMARY:Hommikupalvus kogudusemajas
DESCRIPTION:
URL:https://laane-nigula.eelk.ee/syndmus/hommikupalvus-kogudusemajas-73/
CATEGORIES:Teeliste kirik
END:VEVENT
BEGIN:VEVENT
DTSTART;TZID=Europe/Tallinn:20240828T183000
DTEND;TZID=Europe/Tallinn:20240828T200000
DTSTAMP:20260419T202256
CREATED:20240827T084553Z
LAST-MODIFIED:20240827T084553Z
UID:2073-1724869800-1724875200@laane-nigula.eelk.ee
SUMMARY:Juhatuse koosolek
DESCRIPTION:
URL:https://laane-nigula.eelk.ee/syndmus/juhatuse-koosolek-4/
CATEGORIES:Juhatus
END:VEVENT
BEGIN:VEVENT
DTSTART;TZID=Europe/Tallinn:20240828T100000
DTEND;TZID=Europe/Tallinn:20240828T160000
DTSTAMP:20260419T202256
CREATED:20240802T071308Z
LAST-MODIFIED:20240802T071308Z
UID:1982-1724839200-1724860800@laane-nigula.eelk.ee
SUMMARY:Annetusmüük
DESCRIPTION:
URL:https://laane-nigula.eelk.ee/syndmus/annetusmuuk-168/
CATEGORIES:Annetusmüük
END:VEVENT
BEGIN:VEVENT
DTSTART;TZID=Europe/Tallinn:20240825T120000
DTEND;TZID=Europe/Tallinn:20240825T133000
DTSTAMP:20260419T202256
CREATED:20240802T073247Z
LAST-MODIFIED:20240802T073247Z
UID:2053-1724587200-1724592600@laane-nigula.eelk.ee
SUMMARY:Jumalateenistus armulauaga
DESCRIPTION:
URL:https://laane-nigula.eelk.ee/syndmus/jumalateenistus-armulauaga-69/
CATEGORIES:Jumalateenistus
END:VEVENT
BEGIN:VEVENT
DTSTART;TZID=Europe/Tallinn:20240825T110000
DTEND;TZID=Europe/Tallinn:20240825T160000
DTSTAMP:20260419T202256
CREATED:20240802T072615Z
LAST-MODIFIED:20240802T072615Z
UID:2027-1724583600-1724601600@laane-nigula.eelk.ee
SUMMARY:Teeliste kirik
DESCRIPTION:
URL:https://laane-nigula.eelk.ee/syndmus/teeliste-kirik-27/
CATEGORIES:Teeliste kirik
END:VEVENT
BEGIN:VEVENT
DTSTART;TZID=Europe/Tallinn:20240824T130000
DTEND;TZID=Europe/Tallinn:20240824T160000
DTSTAMP:20260419T202256
CREATED:20240802T072256Z
LAST-MODIFIED:20240802T072256Z
UID:2017-1724504400-1724515200@laane-nigula.eelk.ee
SUMMARY:Teeliste kirik
DESCRIPTION:
URL:https://laane-nigula.eelk.ee/syndmus/teeliste-kirik-22/
CATEGORIES:Teeliste kirik
END:VEVENT
BEGIN:VEVENT
DTSTART;TZID=Europe/Tallinn:20240824T100000
DTEND;TZID=Europe/Tallinn:20240824T140000
DTSTAMP:20260419T202256
CREATED:20240802T071115Z
LAST-MODIFIED:20240802T071115Z
UID:1972-1724493600-1724508000@laane-nigula.eelk.ee
SUMMARY:Annetusmüük
DESCRIPTION:
URL:https://laane-nigula.eelk.ee/syndmus/annetusmuuk-163/
CATEGORIES:Annetusmüük
END:VEVENT
BEGIN:VEVENT
DTSTART;TZID=Europe/Tallinn:20240823T130000
DTEND;TZID=Europe/Tallinn:20240823T160000
DTSTAMP:20260419T202256
CREATED:20240802T072149Z
LAST-MODIFIED:20240802T072149Z
UID:2009-1724418000-1724428800@laane-nigula.eelk.ee
SUMMARY:Teeliste kirik
DESCRIPTION:
URL:https://laane-nigula.eelk.ee/syndmus/teeliste-kirik-18/
CATEGORIES:Teeliste kirik
END:VEVENT
BEGIN:VEVENT
DTSTART;TZID=Europe/Tallinn:20240822T100000
DTEND;TZID=Europe/Tallinn:20240822T140000
DTSTAMP:20260419T202256
CREATED:20240802T071401Z
LAST-MODIFIED:20240802T071401Z
UID:1990-1724320800-1724335200@laane-nigula.eelk.ee
SUMMARY:Annetusmüük
DESCRIPTION:
URL:https://laane-nigula.eelk.ee/syndmus/annetusmuuk-172/
CATEGORIES:Annetusmüük
END:VEVENT
BEGIN:VEVENT
DTSTART;TZID=Europe/Tallinn:20240822T093000
DTEND;TZID=Europe/Tallinn:20240822T100000
DTSTAMP:20260419T202256
CREATED:20240802T073012Z
LAST-MODIFIED:20240802T073012Z
UID:2037-1724319000-1724320800@laane-nigula.eelk.ee
SUMMARY:Hommikupalvus kogudusemajas
DESCRIPTION:
URL:https://laane-nigula.eelk.ee/syndmus/hommikupalvus-kogudusemajas-72/
CATEGORIES:Teeliste kirik
END:VEVENT
BEGIN:VEVENT
DTSTART;TZID=Europe/Tallinn:20240821T100000
DTEND;TZID=Europe/Tallinn:20240821T160000
DTSTAMP:20260419T202256
CREATED:20240802T071256Z
LAST-MODIFIED:20240802T071256Z
UID:1980-1724234400-1724256000@laane-nigula.eelk.ee
SUMMARY:Annetusmüük
DESCRIPTION:
URL:https://laane-nigula.eelk.ee/syndmus/annetusmuuk-167/
CATEGORIES:Annetusmüük
END:VEVENT
BEGIN:VEVENT
DTSTART;VALUE=DATE:20240820
DTEND;VALUE=DATE:20240821
DTSTAMP:20260419T202256
CREATED:20240802T073448Z
LAST-MODIFIED:20240817T145747Z
UID:2058-1724112000-1724198399@laane-nigula.eelk.ee
SUMMARY:Taasiseseisvumispäeva palvus ausamba juures
DESCRIPTION:
URL:https://laane-nigula.eelk.ee/syndmus/taasiseseisvumispaeva-palvus-ausamba-juures/
CATEGORIES:Palvus
ATTACH;FMTTYPE=image/jpeg:https://laane-nigula.eelk.ee/wp-content/uploads/2024/08/image003.jpg
END:VEVENT
BEGIN:VEVENT
DTSTART;TZID=Europe/Tallinn:20240818T120000
DTEND;TZID=Europe/Tallinn:20240818T133000
DTSTAMP:20260419T202256
CREATED:20240802T073235Z
LAST-MODIFIED:20240802T073235Z
UID:2051-1723982400-1723987800@laane-nigula.eelk.ee
SUMMARY:Jumalateenistus armulauaga
DESCRIPTION:
URL:https://laane-nigula.eelk.ee/syndmus/jumalateenistus-armulauaga-68/
CATEGORIES:Jumalateenistus
END:VEVENT
BEGIN:VEVENT
DTSTART;TZID=Europe/Tallinn:20240818T110000
DTEND;TZID=Europe/Tallinn:20240818T160000
DTSTAMP:20260419T202256
CREATED:20240802T072524Z
LAST-MODIFIED:20240802T072558Z
UID:2025-1723978800-1723996800@laane-nigula.eelk.ee
SUMMARY:Teeliste kirik
DESCRIPTION:
URL:https://laane-nigula.eelk.ee/syndmus/teeliste-kirik-26/
CATEGORIES:Teeliste kirik
END:VEVENT
BEGIN:VEVENT
DTSTART;TZID=Europe/Tallinn:20240818T110000
DTEND;TZID=Europe/Tallinn:20240818T160000
DTSTAMP:20260419T202256
CREATED:20240802T072504Z
LAST-MODIFIED:20240802T072504Z
UID:2023-1723978800-1723996800@laane-nigula.eelk.ee
SUMMARY:Teeliste kirik
DESCRIPTION:
URL:https://laane-nigula.eelk.ee/syndmus/teeliste-kirik-25/
CATEGORIES:Teeliste kirik
END:VEVENT
BEGIN:VEVENT
DTSTART;TZID=Europe/Tallinn:20240817T130000
DTEND;TZID=Europe/Tallinn:20240817T160000
DTSTAMP:20260419T202256
CREATED:20240802T072242Z
LAST-MODIFIED:20240802T072242Z
UID:2015-1723899600-1723910400@laane-nigula.eelk.ee
SUMMARY:Teeliste kirik
DESCRIPTION:
URL:https://laane-nigula.eelk.ee/syndmus/teeliste-kirik-21/
CATEGORIES:Teeliste kirik
END:VEVENT
BEGIN:VEVENT
DTSTART;TZID=Europe/Tallinn:20240817T100000
DTEND;TZID=Europe/Tallinn:20240817T140000
DTSTAMP:20260419T202256
CREATED:20240802T071103Z
LAST-MODIFIED:20240802T071103Z
UID:1970-1723888800-1723903200@laane-nigula.eelk.ee
SUMMARY:Annetusmüük
DESCRIPTION:
URL:https://laane-nigula.eelk.ee/syndmus/annetusmuuk-162/
CATEGORIES:Annetusmüük
END:VEVENT
BEGIN:VEVENT
DTSTART;TZID=Europe/Tallinn:20240816T130000
DTEND;TZID=Europe/Tallinn:20240816T160000
DTSTAMP:20260419T202256
CREATED:20240802T071544Z
LAST-MODIFIED:20240802T071928Z
UID:2002-1723813200-1723824000@laane-nigula.eelk.ee
SUMMARY:Teeliste kirik
DESCRIPTION:
URL:https://laane-nigula.eelk.ee/syndmus/teeliste-kirik-17/
CATEGORIES:Teeliste kirik
END:VEVENT
BEGIN:VEVENT
DTSTART;TZID=Europe/Tallinn:20240815T100000
DTEND;TZID=Europe/Tallinn:20240815T140000
DTSTAMP:20260419T202256
CREATED:20240802T071348Z
LAST-MODIFIED:20240802T071348Z
UID:1988-1723716000-1723730400@laane-nigula.eelk.ee
SUMMARY:Annetusmüük
DESCRIPTION:
URL:https://laane-nigula.eelk.ee/syndmus/annetusmuuk-171/
CATEGORIES:Annetusmüük
END:VEVENT
BEGIN:VEVENT
DTSTART;TZID=Europe/Tallinn:20240815T093000
DTEND;TZID=Europe/Tallinn:20240815T100000
DTSTAMP:20260419T202256
CREATED:20240802T072958Z
LAST-MODIFIED:20240802T072958Z
UID:2035-1723714200-1723716000@laane-nigula.eelk.ee
SUMMARY:Hommikupalvus kogudusemajas
DESCRIPTION:
URL:https://laane-nigula.eelk.ee/syndmus/hommikupalvus-kogudusemajas-71/
CATEGORIES:Palvus
END:VEVENT
BEGIN:VEVENT
DTSTART;TZID=Europe/Tallinn:20240814T100000
DTEND;TZID=Europe/Tallinn:20240814T160000
DTSTAMP:20260419T202256
CREATED:20240802T071213Z
LAST-MODIFIED:20240802T071213Z
UID:1978-1723629600-1723651200@laane-nigula.eelk.ee
SUMMARY:Annetusmüük
DESCRIPTION:
URL:https://laane-nigula.eelk.ee/syndmus/annetusmuuk-166/
CATEGORIES:Annetusmüük
END:VEVENT
BEGIN:VEVENT
DTSTART;TZID=Europe/Tallinn:20240811T120000
DTEND;TZID=Europe/Tallinn:20240811T133000
DTSTAMP:20260419T202256
CREATED:20240802T073222Z
LAST-MODIFIED:20240802T073222Z
UID:2049-1723377600-1723383000@laane-nigula.eelk.ee
SUMMARY:Jumalateenistus armulauaga
DESCRIPTION:
URL:https://laane-nigula.eelk.ee/syndmus/jumalateenistus-armulauaga-67/
CATEGORIES:Jumalateenistus
END:VEVENT
BEGIN:VEVENT
DTSTART;TZID=Europe/Tallinn:20240811T110000
DTEND;TZID=Europe/Tallinn:20240811T160000
DTSTAMP:20260419T202256
CREATED:20240802T072451Z
LAST-MODIFIED:20240802T072451Z
UID:2021-1723374000-1723392000@laane-nigula.eelk.ee
SUMMARY:Teeliste kirik
DESCRIPTION:
URL:https://laane-nigula.eelk.ee/syndmus/teeliste-kirik-24/
CATEGORIES:Teeliste kirik
END:VEVENT
BEGIN:VEVENT
DTSTART;TZID=Europe/Tallinn:20240810T130000
DTEND;TZID=Europe/Tallinn:20240810T160000
DTSTAMP:20260419T202256
CREATED:20240802T072228Z
LAST-MODIFIED:20240802T072228Z
UID:2013-1723294800-1723305600@laane-nigula.eelk.ee
SUMMARY:Teeliste kirik
DESCRIPTION:
URL:https://laane-nigula.eelk.ee/syndmus/teeliste-kirik-20/
CATEGORIES:Teeliste kirik
END:VEVENT
END:VCALENDAR