BEGIN:VCALENDAR
VERSION:2.0
PRODID:-//EELK Lääne-Nigula kogudus - ECPv6.15.20//NONSGML v1.0//EN
CALSCALE:GREGORIAN
METHOD:PUBLISH
X-WR-CALNAME:EELK Lääne-Nigula kogudus
X-ORIGINAL-URL:https://laane-nigula.eelk.ee
X-WR-CALDESC:Events for EELK Lääne-Nigula kogudus
REFRESH-INTERVAL;VALUE=DURATION:PT1H
X-Robots-Tag:noindex
X-PUBLISHED-TTL:PT1H
BEGIN:VTIMEZONE
TZID:Europe/Tallinn
BEGIN:DAYLIGHT
TZOFFSETFROM:+0200
TZOFFSETTO:+0300
TZNAME:EEST
DTSTART:20230326T010000
END:DAYLIGHT
BEGIN:STANDARD
TZOFFSETFROM:+0300
TZOFFSETTO:+0200
TZNAME:EET
DTSTART:20231029T010000
END:STANDARD
BEGIN:DAYLIGHT
TZOFFSETFROM:+0200
TZOFFSETTO:+0300
TZNAME:EEST
DTSTART:20240331T010000
END:DAYLIGHT
BEGIN:STANDARD
TZOFFSETFROM:+0300
TZOFFSETTO:+0200
TZNAME:EET
DTSTART:20241027T010000
END:STANDARD
BEGIN:DAYLIGHT
TZOFFSETFROM:+0200
TZOFFSETTO:+0300
TZNAME:EEST
DTSTART:20250330T010000
END:DAYLIGHT
BEGIN:STANDARD
TZOFFSETFROM:+0300
TZOFFSETTO:+0200
TZNAME:EET
DTSTART:20251026T010000
END:STANDARD
END:VTIMEZONE
BEGIN:VEVENT
DTSTART;TZID=Europe/Tallinn:20240809T130000
DTEND;TZID=Europe/Tallinn:20240809T160000
DTSTAMP:20260420T191320
CREATED:20240802T071534Z
LAST-MODIFIED:20240802T071915Z
UID:2000-1723208400-1723219200@laane-nigula.eelk.ee
SUMMARY:Teeliste kirik
DESCRIPTION:
URL:https://laane-nigula.eelk.ee/syndmus/teeliste-kirik-16/
CATEGORIES:Teeliste kirik
END:VEVENT
BEGIN:VEVENT
DTSTART;TZID=Europe/Tallinn:20240808T100000
DTEND;TZID=Europe/Tallinn:20240808T140000
DTSTAMP:20260420T191320
CREATED:20240802T071337Z
LAST-MODIFIED:20240802T071337Z
UID:1986-1723111200-1723125600@laane-nigula.eelk.ee
SUMMARY:Annetusmüük
DESCRIPTION:
URL:https://laane-nigula.eelk.ee/syndmus/annetusmuuk-170/
CATEGORIES:Annetusmüük
END:VEVENT
BEGIN:VEVENT
DTSTART;TZID=Europe/Tallinn:20240808T093000
DTEND;TZID=Europe/Tallinn:20240808T100000
DTSTAMP:20260420T191320
CREATED:20240802T072945Z
LAST-MODIFIED:20240802T072945Z
UID:2033-1723109400-1723111200@laane-nigula.eelk.ee
SUMMARY:Hommikupalvus kogudusemajas
DESCRIPTION:
URL:https://laane-nigula.eelk.ee/syndmus/hommikupalvus-kogudusemajas-70/
CATEGORIES:Palvus
END:VEVENT
BEGIN:VEVENT
DTSTART;TZID=Europe/Tallinn:20240807T100000
DTEND;TZID=Europe/Tallinn:20240807T160000
DTSTAMP:20260420T191320
CREATED:20240802T071202Z
LAST-MODIFIED:20240802T071202Z
UID:1976-1723024800-1723046400@laane-nigula.eelk.ee
SUMMARY:Annetusmüük
DESCRIPTION:
URL:https://laane-nigula.eelk.ee/syndmus/annetusmuuk-165/
CATEGORIES:Annetusmüük
END:VEVENT
BEGIN:VEVENT
DTSTART;TZID=Europe/Tallinn:20240804T120000
DTEND;TZID=Europe/Tallinn:20240804T133000
DTSTAMP:20260420T191320
CREATED:20240720T131526Z
LAST-MODIFIED:20240802T073335Z
UID:1963-1722772800-1722778200@laane-nigula.eelk.ee
SUMMARY:Hõbeleeripüha. Jumalateenistus armulauaga
DESCRIPTION:
URL:https://laane-nigula.eelk.ee/syndmus/hobeleeripuha/
CATEGORIES:Muu
ATTACH;FMTTYPE=image/jpeg:https://laane-nigula.eelk.ee/wp-content/uploads/2024/07/Leeripuha-04.08.2024.jpeg
END:VEVENT
BEGIN:VEVENT
DTSTART;TZID=Europe/Tallinn:20240804T110000
DTEND;TZID=Europe/Tallinn:20240804T160000
DTSTAMP:20260420T191320
CREATED:20240802T071523Z
LAST-MODIFIED:20240802T071858Z
UID:1998-1722769200-1722787200@laane-nigula.eelk.ee
SUMMARY:Teeliste kirik
DESCRIPTION:
URL:https://laane-nigula.eelk.ee/syndmus/teeliste-kirik-15/
CATEGORIES:Teeliste kirik
END:VEVENT
BEGIN:VEVENT
DTSTART;TZID=Europe/Tallinn:20240803T130000
DTEND;TZID=Europe/Tallinn:20240803T160000
DTSTAMP:20260420T191320
CREATED:20240802T071505Z
LAST-MODIFIED:20240802T071838Z
UID:1996-1722690000-1722700800@laane-nigula.eelk.ee
SUMMARY:Teeliste kirik
DESCRIPTION:
URL:https://laane-nigula.eelk.ee/syndmus/teeliste-kirik-14/
CATEGORIES:Teeliste kirik
END:VEVENT
BEGIN:VEVENT
DTSTART;TZID=Europe/Tallinn:20240803T100000
DTEND;TZID=Europe/Tallinn:20240803T140000
DTSTAMP:20260420T191320
CREATED:20240802T071013Z
LAST-MODIFIED:20240802T071013Z
UID:1966-1722679200-1722693600@laane-nigula.eelk.ee
SUMMARY:Annetusmüük
DESCRIPTION:
URL:https://laane-nigula.eelk.ee/syndmus/annetusmuuk-160/
CATEGORIES:Annetusmüük
END:VEVENT
BEGIN:VEVENT
DTSTART;TZID=Europe/Tallinn:20240802T130000
DTEND;TZID=Europe/Tallinn:20240802T160000
DTSTAMP:20260420T191320
CREATED:20240802T071441Z
LAST-MODIFIED:20240802T071823Z
UID:1994-1722603600-1722614400@laane-nigula.eelk.ee
SUMMARY:Teeliste kirik
DESCRIPTION:
URL:https://laane-nigula.eelk.ee/syndmus/teeliste-kirik-13/
CATEGORIES:Teeliste kirik
END:VEVENT
BEGIN:VEVENT
DTSTART;TZID=Europe/Tallinn:20240801T100000
DTEND;TZID=Europe/Tallinn:20240801T140000
DTSTAMP:20260420T191320
CREATED:20240802T071322Z
LAST-MODIFIED:20240802T071322Z
UID:1984-1722506400-1722520800@laane-nigula.eelk.ee
SUMMARY:Annetusmüük
DESCRIPTION:
URL:https://laane-nigula.eelk.ee/syndmus/annetusmuuk-169/
CATEGORIES:Annetusmüük
END:VEVENT
BEGIN:VEVENT
DTSTART;TZID=Europe/Tallinn:20240801T093000
DTEND;TZID=Europe/Tallinn:20240801T100000
DTSTAMP:20260420T191320
CREATED:20240802T072932Z
LAST-MODIFIED:20240802T072932Z
UID:2031-1722504600-1722506400@laane-nigula.eelk.ee
SUMMARY:Hommikupalvus kogudusemajas
DESCRIPTION:
URL:https://laane-nigula.eelk.ee/syndmus/hommikupalvus-kogudusemajas-69/
CATEGORIES:Palvus
END:VEVENT
BEGIN:VEVENT
DTSTART;TZID=Europe/Tallinn:20240731T100000
DTEND;TZID=Europe/Tallinn:20240731T160000
DTSTAMP:20260420T191320
CREATED:20240628T114656Z
LAST-MODIFIED:20240628T114656Z
UID:1920-1722420000-1722441600@laane-nigula.eelk.ee
SUMMARY:Annetusmüük
DESCRIPTION:
URL:https://laane-nigula.eelk.ee/syndmus/annetusmuuk-151/
CATEGORIES:Annetusmüük
END:VEVENT
BEGIN:VEVENT
DTSTART;TZID=Europe/Tallinn:20240728T130000
DTEND;TZID=Europe/Tallinn:20240728T160000
DTSTAMP:20260420T191320
CREATED:20240628T114437Z
LAST-MODIFIED:20240628T114437Z
UID:1910-1722171600-1722182400@laane-nigula.eelk.ee
SUMMARY:Teeliste kirik ja kirikutorn
DESCRIPTION:
URL:https://laane-nigula.eelk.ee/syndmus/teeliste-kirik-ja-kirikutorn-12/
CATEGORIES:Teeliste kirik
END:VEVENT
BEGIN:VEVENT
DTSTART;TZID=Europe/Tallinn:20240728T120000
DTEND;TZID=Europe/Tallinn:20240728T133000
DTSTAMP:20260420T191320
CREATED:20240628T115302Z
LAST-MODIFIED:20240628T115302Z
UID:1954-1722168000-1722173400@laane-nigula.eelk.ee
SUMMARY:Jumalateenistus armulauaga
DESCRIPTION:
URL:https://laane-nigula.eelk.ee/syndmus/jumalateenistus-armulauaga-66/
CATEGORIES:Jumalateenistus
END:VEVENT
BEGIN:VEVENT
DTSTART;TZID=Europe/Tallinn:20240727T130000
DTEND;TZID=Europe/Tallinn:20240727T160000
DTSTAMP:20260420T191320
CREATED:20240628T114412Z
LAST-MODIFIED:20240628T114412Z
UID:1908-1722085200-1722096000@laane-nigula.eelk.ee
SUMMARY:Teeliste kirik ja kirikutorn
DESCRIPTION:
URL:https://laane-nigula.eelk.ee/syndmus/teeliste-kirik-ja-kirikutorn-11/
CATEGORIES:Teeliste kirik
END:VEVENT
BEGIN:VEVENT
DTSTART;TZID=Europe/Tallinn:20240727T100000
DTEND;TZID=Europe/Tallinn:20240727T140000
DTSTAMP:20260420T191320
CREATED:20240628T114842Z
LAST-MODIFIED:20240628T114842Z
UID:1936-1722074400-1722088800@laane-nigula.eelk.ee
SUMMARY:Annetusmüük
DESCRIPTION:
URL:https://laane-nigula.eelk.ee/syndmus/annetusmuuk-159/
CATEGORIES:Annetusmüük
END:VEVENT
BEGIN:VEVENT
DTSTART;TZID=Europe/Tallinn:20240726T130000
DTEND;TZID=Europe/Tallinn:20240726T160000
DTSTAMP:20260420T191320
CREATED:20240628T114041Z
LAST-MODIFIED:20240628T114041Z
UID:1893-1721998800-1722009600@laane-nigula.eelk.ee
SUMMARY:Teeliste kirik ja kirikutorn
DESCRIPTION:
URL:https://laane-nigula.eelk.ee/syndmus/teeliste-kirik-ja-kirikutorn-4/
CATEGORIES:Teeliste kirik
END:VEVENT
BEGIN:VEVENT
DTSTART;TZID=Europe/Tallinn:20240725T120000
DTEND;TZID=Europe/Tallinn:20240725T133000
DTSTAMP:20260420T191320
CREATED:20240628T115246Z
LAST-MODIFIED:20240628T115246Z
UID:1952-1721908800-1721914200@laane-nigula.eelk.ee
SUMMARY:Jumalateenistus Oru Hooldekodus
DESCRIPTION:
URL:https://laane-nigula.eelk.ee/syndmus/jumalateenistus-oru-hooldekodus-9/
CATEGORIES:Jumalateenistus
END:VEVENT
BEGIN:VEVENT
DTSTART;TZID=Europe/Tallinn:20240725T100000
DTEND;TZID=Europe/Tallinn:20240725T140000
DTSTAMP:20260420T191320
CREATED:20240628T114748Z
LAST-MODIFIED:20240628T114748Z
UID:1928-1721901600-1721916000@laane-nigula.eelk.ee
SUMMARY:Annetusmüük
DESCRIPTION:
URL:https://laane-nigula.eelk.ee/syndmus/annetusmuuk-155/
CATEGORIES:Annetusmüük
END:VEVENT
BEGIN:VEVENT
DTSTART;TZID=Europe/Tallinn:20240725T093000
DTEND;TZID=Europe/Tallinn:20240725T100000
DTSTAMP:20260420T191320
CREATED:20240628T115103Z
LAST-MODIFIED:20240628T115103Z
UID:1944-1721899800-1721901600@laane-nigula.eelk.ee
SUMMARY:Hommikupalvus kogudusemajas
DESCRIPTION:
URL:https://laane-nigula.eelk.ee/syndmus/hommikupalvus-kogudusemajas-68/
CATEGORIES:Palvus
END:VEVENT
BEGIN:VEVENT
DTSTART;TZID=Europe/Tallinn:20240724T100000
DTEND;TZID=Europe/Tallinn:20240724T160000
DTSTAMP:20260420T191320
CREATED:20240628T114643Z
LAST-MODIFIED:20240628T114643Z
UID:1918-1721815200-1721836800@laane-nigula.eelk.ee
SUMMARY:Annetusmüük
DESCRIPTION:
URL:https://laane-nigula.eelk.ee/syndmus/annetusmuuk-150/
CATEGORIES:Annetusmüük
END:VEVENT
BEGIN:VEVENT
DTSTART;TZID=Europe/Tallinn:20240721T130000
DTEND;TZID=Europe/Tallinn:20240721T160000
DTSTAMP:20260420T191320
CREATED:20240628T114330Z
LAST-MODIFIED:20240628T114330Z
UID:1906-1721566800-1721577600@laane-nigula.eelk.ee
SUMMARY:Teeliste kirik ja kirikutorn
DESCRIPTION:
URL:https://laane-nigula.eelk.ee/syndmus/teeliste-kirik-ja-kirikutorn-10/
CATEGORIES:Teeliste kirik
END:VEVENT
BEGIN:VEVENT
DTSTART;TZID=Europe/Tallinn:20240721T120000
DTEND;TZID=Europe/Tallinn:20240721T133000
DTSTAMP:20260420T191320
CREATED:20240628T115217Z
LAST-MODIFIED:20240628T115217Z
UID:1950-1721563200-1721568600@laane-nigula.eelk.ee
SUMMARY:Jumalateenistus armulauaga
DESCRIPTION:
URL:https://laane-nigula.eelk.ee/syndmus/jumalateenistus-armulauaga-65/
CATEGORIES:Jumalateenistus
END:VEVENT
BEGIN:VEVENT
DTSTART;TZID=Europe/Tallinn:20240720T130000
DTEND;TZID=Europe/Tallinn:20240720T160000
DTSTAMP:20260420T191320
CREATED:20240628T114313Z
LAST-MODIFIED:20240628T114313Z
UID:1904-1721480400-1721491200@laane-nigula.eelk.ee
SUMMARY:Teeliste kirik ja kirikutorn
DESCRIPTION:
URL:https://laane-nigula.eelk.ee/syndmus/teeliste-kirik-ja-kirikutorn-9/
CATEGORIES:Teeliste kirik
END:VEVENT
BEGIN:VEVENT
DTSTART;TZID=Europe/Tallinn:20240720T100000
DTEND;TZID=Europe/Tallinn:20240720T140000
DTSTAMP:20260420T191320
CREATED:20240628T114830Z
LAST-MODIFIED:20240628T114830Z
UID:1934-1721469600-1721484000@laane-nigula.eelk.ee
SUMMARY:Annetusmüük
DESCRIPTION:
URL:https://laane-nigula.eelk.ee/syndmus/annetusmuuk-158/
CATEGORIES:Annetusmüük
END:VEVENT
BEGIN:VEVENT
DTSTART;TZID=Europe/Tallinn:20240719T130000
DTEND;TZID=Europe/Tallinn:20240719T160000
DTSTAMP:20260420T191320
CREATED:20240628T114024Z
LAST-MODIFIED:20240628T114024Z
UID:1891-1721394000-1721404800@laane-nigula.eelk.ee
SUMMARY:Teeliste kirik ja kirikutorn
DESCRIPTION:
URL:https://laane-nigula.eelk.ee/syndmus/teeliste-kirik-ja-kirikutorn-3/
CATEGORIES:Teeliste kirik
END:VEVENT
BEGIN:VEVENT
DTSTART;TZID=Europe/Tallinn:20240718T100000
DTEND;TZID=Europe/Tallinn:20240718T140000
DTSTAMP:20260420T191320
CREATED:20240628T114735Z
LAST-MODIFIED:20240628T114735Z
UID:1926-1721296800-1721311200@laane-nigula.eelk.ee
SUMMARY:Annetusmüük
DESCRIPTION:
URL:https://laane-nigula.eelk.ee/syndmus/annetusmuuk-154/
CATEGORIES:Annetusmüük
END:VEVENT
BEGIN:VEVENT
DTSTART;TZID=Europe/Tallinn:20240718T093000
DTEND;TZID=Europe/Tallinn:20240718T100000
DTSTAMP:20260420T191320
CREATED:20240628T115045Z
LAST-MODIFIED:20240628T115045Z
UID:1942-1721295000-1721296800@laane-nigula.eelk.ee
SUMMARY:Hommikupalvus kogudusemajas
DESCRIPTION:
URL:https://laane-nigula.eelk.ee/syndmus/hommikupalvus-kogudusemajas-67/
CATEGORIES:Palvus
END:VEVENT
BEGIN:VEVENT
DTSTART;TZID=Europe/Tallinn:20240717T100000
DTEND;TZID=Europe/Tallinn:20240717T160000
DTSTAMP:20260420T191320
CREATED:20240628T114629Z
LAST-MODIFIED:20240628T114629Z
UID:1916-1721210400-1721232000@laane-nigula.eelk.ee
SUMMARY:Annetusmüük
DESCRIPTION:
URL:https://laane-nigula.eelk.ee/syndmus/annetusmuuk-149/
CATEGORIES:Annetusmüük
END:VEVENT
BEGIN:VEVENT
DTSTART;TZID=Europe/Tallinn:20240714T133000
DTEND;TZID=Europe/Tallinn:20240714T160000
DTSTAMP:20260420T191320
CREATED:20240628T115351Z
LAST-MODIFIED:20240628T115351Z
UID:1956-1720963800-1720972800@laane-nigula.eelk.ee
SUMMARY:Mall Lauri klaverikontsert
DESCRIPTION:Mall Lauri klaverikontsert kogudusemajas \nKirikukohv
URL:https://laane-nigula.eelk.ee/syndmus/mall-lauri-klaverikontsert/
CATEGORIES:Muusikatöö
END:VEVENT
END:VCALENDAR