BEGIN:VCALENDAR
VERSION:2.0
PRODID:-//EELK Lääne-Nigula kogudus - ECPv6.15.20//NONSGML v1.0//EN
CALSCALE:GREGORIAN
METHOD:PUBLISH
X-WR-CALNAME:EELK Lääne-Nigula kogudus
X-ORIGINAL-URL:https://laane-nigula.eelk.ee
X-WR-CALDESC:Events for EELK Lääne-Nigula kogudus
REFRESH-INTERVAL;VALUE=DURATION:PT1H
X-Robots-Tag:noindex
X-PUBLISHED-TTL:PT1H
BEGIN:VTIMEZONE
TZID:Europe/Tallinn
BEGIN:DAYLIGHT
TZOFFSETFROM:+0200
TZOFFSETTO:+0300
TZNAME:EEST
DTSTART:20230326T010000
END:DAYLIGHT
BEGIN:STANDARD
TZOFFSETFROM:+0300
TZOFFSETTO:+0200
TZNAME:EET
DTSTART:20231029T010000
END:STANDARD
BEGIN:DAYLIGHT
TZOFFSETFROM:+0200
TZOFFSETTO:+0300
TZNAME:EEST
DTSTART:20240331T010000
END:DAYLIGHT
BEGIN:STANDARD
TZOFFSETFROM:+0300
TZOFFSETTO:+0200
TZNAME:EET
DTSTART:20241027T010000
END:STANDARD
BEGIN:DAYLIGHT
TZOFFSETFROM:+0200
TZOFFSETTO:+0300
TZNAME:EEST
DTSTART:20250330T010000
END:DAYLIGHT
BEGIN:STANDARD
TZOFFSETFROM:+0300
TZOFFSETTO:+0200
TZNAME:EET
DTSTART:20251026T010000
END:STANDARD
END:VTIMEZONE
BEGIN:VEVENT
DTSTART;TZID=Europe/Tallinn:20241003T100000
DTEND;TZID=Europe/Tallinn:20241003T140000
DTSTAMP:20260420T110317
CREATED:20240929T170330Z
LAST-MODIFIED:20240929T170533Z
UID:2138-1727949600-1727964000@laane-nigula.eelk.ee
SUMMARY:Annetusmüük
DESCRIPTION:
URL:https://laane-nigula.eelk.ee/syndmus/annetusmuuk-187/
CATEGORIES:Annetusmüük
END:VEVENT
BEGIN:VEVENT
DTSTART;TZID=Europe/Tallinn:20241003T093000
DTEND;TZID=Europe/Tallinn:20241003T100000
DTSTAMP:20260420T110317
CREATED:20240929T171018Z
LAST-MODIFIED:20240929T171018Z
UID:2164-1727947800-1727949600@laane-nigula.eelk.ee
SUMMARY:Hommikupalvus kogudusemajas
DESCRIPTION:
URL:https://laane-nigula.eelk.ee/syndmus/hommikupalvus-kogudusemajas-78/
CATEGORIES:Palvus
END:VEVENT
BEGIN:VEVENT
DTSTART;TZID=Europe/Tallinn:20241002T100000
DTEND;TZID=Europe/Tallinn:20241002T160000
DTSTAMP:20260420T110317
CREATED:20240929T170256Z
LAST-MODIFIED:20240929T170256Z
UID:2136-1727863200-1727884800@laane-nigula.eelk.ee
SUMMARY:Annetusmüük
DESCRIPTION:
URL:https://laane-nigula.eelk.ee/syndmus/annetusmuuk-186/
CATEGORIES:Annetusmüük
END:VEVENT
BEGIN:VEVENT
DTSTART;TZID=Europe/Tallinn:20241002T100000
DTEND;TZID=Europe/Tallinn:20241002T110000
DTSTAMP:20260420T110317
CREATED:20240929T170930Z
LAST-MODIFIED:20240929T170930Z
UID:2162-1727863200-1727866800@laane-nigula.eelk.ee
SUMMARY:Praostkonna vaimulike piiblitund Lääne-Nigula pastoraadis
DESCRIPTION:
URL:https://laane-nigula.eelk.ee/syndmus/praostkonna-vaimulike-piiblitund-laane-nigula-pastoraadis/
CATEGORIES:Piiblitund
END:VEVENT
BEGIN:VEVENT
DTSTART;TZID=Europe/Tallinn:20241001T180000
DTEND;TZID=Europe/Tallinn:20241001T200000
DTSTAMP:20260420T110317
CREATED:20240929T170129Z
LAST-MODIFIED:20240929T170209Z
UID:2134-1727805600-1727812800@laane-nigula.eelk.ee
SUMMARY:Leerikursus
DESCRIPTION:Hea kaasteeline! \nKutsun sind peagi algavale EELK Lääne-Nigula\, Noarootsi ja Nõva koguduse ühisele leerikursusele. \nKursus algab teisipäeval 01.10.2024 kell 18:00 veebis. \nMeie leerikursus on arutlevas vormis üles ehitatud\, kus on igal osalejal võimalus kuuldu põhjal oma mõtteid vahetada ning neid arutleda. Leeritundides arutleme ristiusule olulisi teemasid\, nt mis on usk ja keda/mida uskuda? Kes on Jumal ja kas tema juhib inimese elu? Miks inimene peab olema ristitud ja milline tähendus on inimese jaoks kirikul ja armulaual? Miks on maailmas kurjus ja kannatus? Kuidas elada õigesti ja hästi? Mis saab peale surma? Kes on kristlane ja mida tema usub. Püüame leida vastuseid küsimustele\, mis on seotud Jumalaga\, Jeesuse Kristusega ja Püha Vaimuga. \nLeerikooli oled oodatud alates 16. eluaastast. Oodatud on kõik huvilised. \nLeerikooli tulles ei pea olema ristitud. Ristimine toimub leerikooli ajal. \nMeie koguduse leerikursus kestab umbes 2-3 kuud.  Kokku saame 12 korral ning leeritunni pikkus on 1\,5 tundi. \nOsalemiseks\, palun kirjuta mulle\, et saaksin saata sulle lingi mille kaudu saad kursusega liituda. \nE-mail: kristo.hudsi@eelk.ee
URL:https://laane-nigula.eelk.ee/syndmus/leerikursus/
CATEGORIES:Leerikool
ATTACH;FMTTYPE=image/jpeg:https://laane-nigula.eelk.ee/wp-content/uploads/2024/09/Leer-Sugis-2024.jpg
END:VEVENT
BEGIN:VEVENT
DTSTART;TZID=Europe/Tallinn:20240929T120000
DTEND;TZID=Europe/Tallinn:20240929T133000
DTSTAMP:20260420T110317
CREATED:20240827T171354Z
LAST-MODIFIED:20240827T171402Z
UID:2087-1727611200-1727616600@laane-nigula.eelk.ee
SUMMARY:Jumalateenistus armulauaga
DESCRIPTION:Mihklipäev
URL:https://laane-nigula.eelk.ee/syndmus/jumalateenistus-armulauaga-74/
CATEGORIES:Jumalateenistus
END:VEVENT
BEGIN:VEVENT
DTSTART;TZID=Europe/Tallinn:20240928T100000
DTEND;TZID=Europe/Tallinn:20240928T140000
DTSTAMP:20260420T110317
CREATED:20240827T172143Z
LAST-MODIFIED:20240827T172143Z
UID:2120-1727517600-1727532000@laane-nigula.eelk.ee
SUMMARY:Annetusmüük
DESCRIPTION:
URL:https://laane-nigula.eelk.ee/syndmus/annetusmuuk-185/
CATEGORIES:Annetusmüük
END:VEVENT
BEGIN:VEVENT
DTSTART;TZID=Europe/Tallinn:20240926T180000
DTEND;TZID=Europe/Tallinn:20240926T200000
DTSTAMP:20260420T110317
CREATED:20240827T171848Z
LAST-MODIFIED:20240827T171848Z
UID:2102-1727373600-1727380800@laane-nigula.eelk.ee
SUMMARY:Töötegijate nõupidamine pastoraadis
DESCRIPTION:
URL:https://laane-nigula.eelk.ee/syndmus/tootegijate-noupidamine-pastoraadis-2/
CATEGORIES:Töötegijad
END:VEVENT
BEGIN:VEVENT
DTSTART;TZID=Europe/Tallinn:20240926T110000
DTEND;TZID=Europe/Tallinn:20240926T123000
DTSTAMP:20260420T110317
CREATED:20240827T171438Z
LAST-MODIFIED:20240827T171438Z
UID:2090-1727348400-1727353800@laane-nigula.eelk.ee
SUMMARY:Jumalateenistus Oru hooldekodus
DESCRIPTION:
URL:https://laane-nigula.eelk.ee/syndmus/jumalateenistus-oru-hooldekodus-11/
CATEGORIES:Jumalateenistus
END:VEVENT
BEGIN:VEVENT
DTSTART;TZID=Europe/Tallinn:20240926T100000
DTEND;TZID=Europe/Tallinn:20240926T140000
DTSTAMP:20260420T110317
CREATED:20240827T172130Z
LAST-MODIFIED:20240827T172130Z
UID:2118-1727344800-1727359200@laane-nigula.eelk.ee
SUMMARY:Annetusmüük
DESCRIPTION:
URL:https://laane-nigula.eelk.ee/syndmus/annetusmuuk-184/
CATEGORIES:Annetusmüük
END:VEVENT
BEGIN:VEVENT
DTSTART;TZID=Europe/Tallinn:20240926T093000
DTEND;TZID=Europe/Tallinn:20240926T100000
DTSTAMP:20260420T110317
CREATED:20240827T171747Z
LAST-MODIFIED:20240827T171747Z
UID:2100-1727343000-1727344800@laane-nigula.eelk.ee
SUMMARY:Hommikupalvus kogudusemajas
DESCRIPTION:
URL:https://laane-nigula.eelk.ee/syndmus/hommikupalvus-kogudusemajas-77/
CATEGORIES:Palvus
END:VEVENT
BEGIN:VEVENT
DTSTART;TZID=Europe/Tallinn:20240925T100000
DTEND;TZID=Europe/Tallinn:20240925T160000
DTSTAMP:20260420T110317
CREATED:20240827T172112Z
LAST-MODIFIED:20240827T172112Z
UID:2116-1727258400-1727280000@laane-nigula.eelk.ee
SUMMARY:Annetusmüük
DESCRIPTION:
URL:https://laane-nigula.eelk.ee/syndmus/annetusmuuk-183/
CATEGORIES:Annetusmüük
END:VEVENT
BEGIN:VEVENT
DTSTART;TZID=Europe/Tallinn:20240922T120000
DTEND;TZID=Europe/Tallinn:20240922T133000
DTSTAMP:20260420T110317
CREATED:20240827T171335Z
LAST-MODIFIED:20240827T171335Z
UID:2085-1727006400-1727011800@laane-nigula.eelk.ee
SUMMARY:Jumalateenistus armulauaga
DESCRIPTION:
URL:https://laane-nigula.eelk.ee/syndmus/jumalateenistus-armulauaga-73/
CATEGORIES:Jumalateenistus
END:VEVENT
BEGIN:VEVENT
DTSTART;TZID=Europe/Tallinn:20240921T100000
DTEND;TZID=Europe/Tallinn:20240921T160000
DTSTAMP:20260420T110317
CREATED:20240827T171550Z
LAST-MODIFIED:20240916T142753Z
UID:2092-1726912800-1726934400@laane-nigula.eelk.ee
SUMMARY:Jalgrattamatk „Kirik tuleb külla“
DESCRIPTION:Nigula – Palivere – Väike Lähtru – Martna – Ehmja – Nigula \nMaal elamise päev\, madisepäev\, sahvusvaheline sahupäev\, vastupanuvõitluse päev\, sügise algus \nTäpsem info: https://laane-nigula.eelk.ee/2024/08/27/matk-kirik-tuleb-kulla/ \n 
URL:https://laane-nigula.eelk.ee/syndmus/jalgrattamatk-2/
CATEGORIES:Matkad
END:VEVENT
BEGIN:VEVENT
DTSTART;TZID=Europe/Tallinn:20240921T100000
DTEND;TZID=Europe/Tallinn:20240921T140000
DTSTAMP:20260420T110317
CREATED:20240827T172100Z
LAST-MODIFIED:20240827T172100Z
UID:2114-1726912800-1726927200@laane-nigula.eelk.ee
SUMMARY:Annetusmüük
DESCRIPTION:
URL:https://laane-nigula.eelk.ee/syndmus/annetusmuuk-182/
CATEGORIES:Annetusmüük
END:VEVENT
BEGIN:VEVENT
DTSTART;TZID=Europe/Tallinn:20240920T100000
DTEND;TZID=Europe/Tallinn:20240920T140000
DTSTAMP:20260420T110317
CREATED:20240827T171630Z
LAST-MODIFIED:20240912T165023Z
UID:2094-1726826400-1726840800@laane-nigula.eelk.ee
SUMMARY:Maailmakoristuspäev
DESCRIPTION:Teema kalmistud \nSel aastal toimub Maailmakoristupäev 20.09\, reedel\, kl.10.00-14.00.\n\nMeie koristame Lääne – Nigula kirikaias.\n\nKel on aega ja tahtmist olete oodatud osalema koristustalgutel.\n\n” Õpeta mulle\, Issand\, oma teed; ma tahan käia Su tões!” Ps 86:11
URL:https://laane-nigula.eelk.ee/syndmus/maailmakoristuspaev-2/
CATEGORIES:Talgupäev
END:VEVENT
BEGIN:VEVENT
DTSTART;TZID=Europe/Tallinn:20240919T100000
DTEND;TZID=Europe/Tallinn:20240919T140000
DTSTAMP:20260420T110317
CREATED:20240827T172042Z
LAST-MODIFIED:20240827T172042Z
UID:2112-1726740000-1726754400@laane-nigula.eelk.ee
SUMMARY:Annetusmüük
DESCRIPTION:
URL:https://laane-nigula.eelk.ee/syndmus/annetusmuuk-181/
CATEGORIES:Annetusmüük
END:VEVENT
BEGIN:VEVENT
DTSTART;TZID=Europe/Tallinn:20240919T093000
DTEND;TZID=Europe/Tallinn:20240919T100000
DTSTAMP:20260420T110317
CREATED:20240827T171720Z
LAST-MODIFIED:20240827T171720Z
UID:2098-1726738200-1726740000@laane-nigula.eelk.ee
SUMMARY:Hommikupalvus kogudusemajas
DESCRIPTION:
URL:https://laane-nigula.eelk.ee/syndmus/hommikupalvus-kogudusemajas-76/
CATEGORIES:Palvus
END:VEVENT
BEGIN:VEVENT
DTSTART;TZID=Europe/Tallinn:20240918T100000
DTEND;TZID=Europe/Tallinn:20240918T160000
DTSTAMP:20260420T110317
CREATED:20240827T172024Z
LAST-MODIFIED:20240827T172024Z
UID:2110-1726653600-1726675200@laane-nigula.eelk.ee
SUMMARY:Annetusmüük
DESCRIPTION:
URL:https://laane-nigula.eelk.ee/syndmus/annetusmuuk-180/
CATEGORIES:Annetusmüük
END:VEVENT
BEGIN:VEVENT
DTSTART;TZID=Europe/Tallinn:20240915T120000
DTEND;TZID=Europe/Tallinn:20240915T133000
DTSTAMP:20260420T110317
CREATED:20240827T171240Z
LAST-MODIFIED:20240827T171240Z
UID:2082-1726401600-1726407000@laane-nigula.eelk.ee
SUMMARY:Jumalateenistus armulauaga
DESCRIPTION:
URL:https://laane-nigula.eelk.ee/syndmus/jumalateenistus-armulauaga-72/
CATEGORIES:Jumalateenistus
END:VEVENT
BEGIN:VEVENT
DTSTART;TZID=Europe/Tallinn:20240914T100000
DTEND;TZID=Europe/Tallinn:20240914T140000
DTSTAMP:20260420T110317
CREATED:20240827T172006Z
LAST-MODIFIED:20240827T172006Z
UID:2108-1726308000-1726322400@laane-nigula.eelk.ee
SUMMARY:Annetusmüük
DESCRIPTION:
URL:https://laane-nigula.eelk.ee/syndmus/annetusmuuk-179/
CATEGORIES:Annetusmüük
END:VEVENT
BEGIN:VEVENT
DTSTART;TZID=Europe/Tallinn:20240912T100000
DTEND;TZID=Europe/Tallinn:20240912T140000
DTSTAMP:20260420T110317
CREATED:20240827T171941Z
LAST-MODIFIED:20240827T171941Z
UID:2106-1726135200-1726149600@laane-nigula.eelk.ee
SUMMARY:Annetusmüük
DESCRIPTION:
URL:https://laane-nigula.eelk.ee/syndmus/annetusmuuk-178/
CATEGORIES:Annetusmüük
END:VEVENT
BEGIN:VEVENT
DTSTART;TZID=Europe/Tallinn:20240912T093000
DTEND;TZID=Europe/Tallinn:20240912T100000
DTSTAMP:20260420T110317
CREATED:20240827T171659Z
LAST-MODIFIED:20240827T171659Z
UID:2096-1726133400-1726135200@laane-nigula.eelk.ee
SUMMARY:Hommikupalvus kogudusemajas
DESCRIPTION:
URL:https://laane-nigula.eelk.ee/syndmus/hommikupalvus-kogudusemajas-75/
CATEGORIES:Palvus
END:VEVENT
BEGIN:VEVENT
DTSTART;TZID=Europe/Tallinn:20240911T100000
DTEND;TZID=Europe/Tallinn:20240911T160000
DTSTAMP:20260420T110317
CREATED:20240827T171922Z
LAST-MODIFIED:20240827T171922Z
UID:2104-1726048800-1726070400@laane-nigula.eelk.ee
SUMMARY:Annetusmüük
DESCRIPTION:
URL:https://laane-nigula.eelk.ee/syndmus/annetusmuuk-177/
CATEGORIES:Annetusmüük
END:VEVENT
BEGIN:VEVENT
DTSTART;TZID=Europe/Tallinn:20240908T120000
DTEND;TZID=Europe/Tallinn:20240908T133000
DTSTAMP:20260420T110317
CREATED:20240827T171224Z
LAST-MODIFIED:20240827T171258Z
UID:2080-1725796800-1725802200@laane-nigula.eelk.ee
SUMMARY:Jumalateenistus armulauaga
DESCRIPTION:Vanavanemate päev
URL:https://laane-nigula.eelk.ee/syndmus/jumalateenistus-armulauaga-71/
CATEGORIES:Jumalateenistus
END:VEVENT
BEGIN:VEVENT
DTSTART;TZID=Europe/Tallinn:20240907T100000
DTEND;TZID=Europe/Tallinn:20240907T140000
DTSTAMP:20260420T110317
CREATED:20240802T073153Z
LAST-MODIFIED:20240802T073153Z
UID:2047-1725703200-1725717600@laane-nigula.eelk.ee
SUMMARY:Annetusmüük
DESCRIPTION:
URL:https://laane-nigula.eelk.ee/syndmus/annetusmuuk-176/
CATEGORIES:Annetusmüük
END:VEVENT
BEGIN:VEVENT
DTSTART;TZID=Europe/Tallinn:20240905T110000
DTEND;TZID=Europe/Tallinn:20240905T140000
DTSTAMP:20260420T110317
CREATED:20240827T171155Z
LAST-MODIFIED:20240827T171155Z
UID:2078-1725534000-1725544800@laane-nigula.eelk.ee
SUMMARY:Valla ümarlaud Nõval
DESCRIPTION:
URL:https://laane-nigula.eelk.ee/syndmus/valla-umarlaud-noval/
CATEGORIES:Muu
END:VEVENT
BEGIN:VEVENT
DTSTART;TZID=Europe/Tallinn:20240905T100000
DTEND;TZID=Europe/Tallinn:20240905T140000
DTSTAMP:20260420T110317
CREATED:20240802T073142Z
LAST-MODIFIED:20240802T073142Z
UID:2045-1725530400-1725544800@laane-nigula.eelk.ee
SUMMARY:Annetusmüük
DESCRIPTION:
URL:https://laane-nigula.eelk.ee/syndmus/annetusmuuk-175/
CATEGORIES:Annetusmüük
END:VEVENT
BEGIN:VEVENT
DTSTART;TZID=Europe/Tallinn:20240905T093000
DTEND;TZID=Europe/Tallinn:20240905T100000
DTSTAMP:20260420T110317
CREATED:20240802T073041Z
LAST-MODIFIED:20240802T073041Z
UID:2041-1725528600-1725530400@laane-nigula.eelk.ee
SUMMARY:Hommikupalvus kogudusemajas
DESCRIPTION:
URL:https://laane-nigula.eelk.ee/syndmus/hommikupalvus-kogudusemajas-74/
CATEGORIES:Palvus
END:VEVENT
BEGIN:VEVENT
DTSTART;TZID=Europe/Tallinn:20240904T100000
DTEND;TZID=Europe/Tallinn:20240904T160000
DTSTAMP:20260420T110317
CREATED:20240802T073123Z
LAST-MODIFIED:20240802T073123Z
UID:2043-1725444000-1725465600@laane-nigula.eelk.ee
SUMMARY:Annetusmüük
DESCRIPTION:
URL:https://laane-nigula.eelk.ee/syndmus/annetusmuuk-174/
CATEGORIES:Annetusmüük
END:VEVENT
END:VCALENDAR