BEGIN:VCALENDAR
VERSION:2.0
PRODID:-//EELK Lääne-Nigula kogudus - ECPv6.15.20//NONSGML v1.0//EN
CALSCALE:GREGORIAN
METHOD:PUBLISH
X-WR-CALNAME:EELK Lääne-Nigula kogudus
X-ORIGINAL-URL:https://laane-nigula.eelk.ee
X-WR-CALDESC:Events for EELK Lääne-Nigula kogudus
REFRESH-INTERVAL;VALUE=DURATION:PT1H
X-Robots-Tag:noindex
X-PUBLISHED-TTL:PT1H
BEGIN:VTIMEZONE
TZID:Europe/Tallinn
BEGIN:DAYLIGHT
TZOFFSETFROM:+0200
TZOFFSETTO:+0300
TZNAME:EEST
DTSTART:20230326T010000
END:DAYLIGHT
BEGIN:STANDARD
TZOFFSETFROM:+0300
TZOFFSETTO:+0200
TZNAME:EET
DTSTART:20231029T010000
END:STANDARD
BEGIN:DAYLIGHT
TZOFFSETFROM:+0200
TZOFFSETTO:+0300
TZNAME:EEST
DTSTART:20240331T010000
END:DAYLIGHT
BEGIN:STANDARD
TZOFFSETFROM:+0300
TZOFFSETTO:+0200
TZNAME:EET
DTSTART:20241027T010000
END:STANDARD
BEGIN:DAYLIGHT
TZOFFSETFROM:+0200
TZOFFSETTO:+0300
TZNAME:EEST
DTSTART:20250330T010000
END:DAYLIGHT
BEGIN:STANDARD
TZOFFSETFROM:+0300
TZOFFSETTO:+0200
TZNAME:EET
DTSTART:20251026T010000
END:STANDARD
END:VTIMEZONE
BEGIN:VEVENT
DTSTART;TZID=Europe/Tallinn:20241020T120000
DTEND;TZID=Europe/Tallinn:20241020T130000
DTSTAMP:20260419T150041
CREATED:20240929T171414Z
LAST-MODIFIED:20240929T171414Z
UID:2184-1729425600-1729429200@laane-nigula.eelk.ee
SUMMARY:Pühapäevakool lastele
DESCRIPTION:
URL:https://laane-nigula.eelk.ee/syndmus/puhapaevakool-lastele-30/
CATEGORIES:Jumalateenistus
END:VEVENT
BEGIN:VEVENT
DTSTART;TZID=Europe/Tallinn:20241019T100000
DTEND;TZID=Europe/Tallinn:20241019T140000
DTSTAMP:20260419T150041
CREATED:20240929T170737Z
LAST-MODIFIED:20240929T170737Z
UID:2152-1729332000-1729346400@laane-nigula.eelk.ee
SUMMARY:Annetusmüük
DESCRIPTION:
URL:https://laane-nigula.eelk.ee/syndmus/annetusmuuk-194/
CATEGORIES:Annetusmüük
END:VEVENT
BEGIN:VEVENT
DTSTART;TZID=Europe/Tallinn:20241017T100000
DTEND;TZID=Europe/Tallinn:20241017T140000
DTSTAMP:20260419T150041
CREATED:20240929T170654Z
LAST-MODIFIED:20240929T170654Z
UID:2150-1729159200-1729173600@laane-nigula.eelk.ee
SUMMARY:Annetusmüük
DESCRIPTION:
URL:https://laane-nigula.eelk.ee/syndmus/annetusmuuk-193/
CATEGORIES:Annetusmüük
END:VEVENT
BEGIN:VEVENT
DTSTART;TZID=Europe/Tallinn:20241017T093000
DTEND;TZID=Europe/Tallinn:20241017T100000
DTSTAMP:20260419T150041
CREATED:20240929T171103Z
LAST-MODIFIED:20240929T171103Z
UID:2168-1729157400-1729159200@laane-nigula.eelk.ee
SUMMARY:Hommikupalvus kogudusemajas
DESCRIPTION:
URL:https://laane-nigula.eelk.ee/syndmus/hommikupalvus-kogudusemajas-80/
CATEGORIES:Palvus
END:VEVENT
BEGIN:VEVENT
DTSTART;TZID=Europe/Tallinn:20241016T100000
DTEND;TZID=Europe/Tallinn:20241016T160000
DTSTAMP:20260419T150041
CREATED:20240929T170636Z
LAST-MODIFIED:20240929T170636Z
UID:2148-1729072800-1729094400@laane-nigula.eelk.ee
SUMMARY:Annetusmüük
DESCRIPTION:
URL:https://laane-nigula.eelk.ee/syndmus/annetusmuuk-192/
CATEGORIES:Annetusmüük
END:VEVENT
BEGIN:VEVENT
DTSTART;TZID=Europe/Tallinn:20241013T120000
DTEND;TZID=Europe/Tallinn:20241013T133000
DTSTAMP:20260419T150041
CREATED:20240929T171215Z
LAST-MODIFIED:20240929T171636Z
UID:2174-1728820800-1728826200@laane-nigula.eelk.ee
SUMMARY:Jumalateenistus armulauaga
DESCRIPTION:Lõikustänupüha. Kirikukohv
URL:https://laane-nigula.eelk.ee/syndmus/jumalateenistus-armulauaga-76/
CATEGORIES:Jumalateenistus
END:VEVENT
BEGIN:VEVENT
DTSTART;TZID=Europe/Tallinn:20241013T120000
DTEND;TZID=Europe/Tallinn:20241013T130000
DTSTAMP:20260419T150041
CREATED:20240929T171401Z
LAST-MODIFIED:20240929T171401Z
UID:2182-1728820800-1728824400@laane-nigula.eelk.ee
SUMMARY:Pühapäevakool lastele
DESCRIPTION:
URL:https://laane-nigula.eelk.ee/syndmus/puhapaevakool-lastele-29/
CATEGORIES:Jumalateenistus
END:VEVENT
BEGIN:VEVENT
DTSTART;TZID=Europe/Tallinn:20241012T100000
DTEND;TZID=Europe/Tallinn:20241012T140000
DTSTAMP:20260419T150041
CREATED:20240929T170559Z
LAST-MODIFIED:20240929T170559Z
UID:2146-1728727200-1728741600@laane-nigula.eelk.ee
SUMMARY:Annetusmüük
DESCRIPTION:
URL:https://laane-nigula.eelk.ee/syndmus/annetusmuuk-191/
CATEGORIES:Annetusmüük
END:VEVENT
BEGIN:VEVENT
DTSTART;TZID=Europe/Tallinn:20241010T100000
DTEND;TZID=Europe/Tallinn:20241010T140000
DTSTAMP:20260419T150041
CREATED:20240929T170451Z
LAST-MODIFIED:20240929T170451Z
UID:2144-1728554400-1728568800@laane-nigula.eelk.ee
SUMMARY:Annetusmüük
DESCRIPTION:
URL:https://laane-nigula.eelk.ee/syndmus/annetusmuuk-190/
CATEGORIES:Annetusmüük
END:VEVENT
BEGIN:VEVENT
DTSTART;TZID=Europe/Tallinn:20241010T093000
DTEND;TZID=Europe/Tallinn:20241010T100000
DTSTAMP:20260419T150041
CREATED:20240929T171044Z
LAST-MODIFIED:20240929T171044Z
UID:2166-1728552600-1728554400@laane-nigula.eelk.ee
SUMMARY:Hommikupalvus kogudusemajas
DESCRIPTION:
URL:https://laane-nigula.eelk.ee/syndmus/hommikupalvus-kogudusemajas-79/
CATEGORIES:Palvus
END:VEVENT
BEGIN:VEVENT
DTSTART;TZID=Europe/Tallinn:20241009T100000
DTEND;TZID=Europe/Tallinn:20241009T160000
DTSTAMP:20260419T150041
CREATED:20240929T170418Z
LAST-MODIFIED:20240929T170418Z
UID:2142-1728468000-1728489600@laane-nigula.eelk.ee
SUMMARY:Annetusmüük
DESCRIPTION:
URL:https://laane-nigula.eelk.ee/syndmus/annetusmuuk-189/
CATEGORIES:Annetusmüük
END:VEVENT
BEGIN:VEVENT
DTSTART;TZID=Europe/Tallinn:20241006T120000
DTEND;TZID=Europe/Tallinn:20241006T133000
DTSTAMP:20260419T150041
CREATED:20240929T171200Z
LAST-MODIFIED:20240929T171611Z
UID:2172-1728216000-1728221400@laane-nigula.eelk.ee
SUMMARY:Jumalateenistus armulauaga
DESCRIPTION:Kaasa teenib „ Doxa“
URL:https://laane-nigula.eelk.ee/syndmus/jumalateenistus-armulauaga-75/
CATEGORIES:Jumalateenistus
END:VEVENT
BEGIN:VEVENT
DTSTART;TZID=Europe/Tallinn:20241006T120000
DTEND;TZID=Europe/Tallinn:20241006T130000
DTSTAMP:20260419T150041
CREATED:20240929T171348Z
LAST-MODIFIED:20240929T171348Z
UID:2180-1728216000-1728219600@laane-nigula.eelk.ee
SUMMARY:Pühapäevakool lastele
DESCRIPTION:
URL:https://laane-nigula.eelk.ee/syndmus/puhapaevakool-lastele-28/
CATEGORIES:Lastetöö
END:VEVENT
BEGIN:VEVENT
DTSTART;TZID=Europe/Tallinn:20241005T110000
DTEND;TZID=Europe/Tallinn:20241005T170000
DTSTAMP:20260419T150041
CREATED:20240929T171528Z
LAST-MODIFIED:20240929T171528Z
UID:2190-1728126000-1728147600@laane-nigula.eelk.ee
SUMMARY:Praostkonna konverents Mihklis
DESCRIPTION:
URL:https://laane-nigula.eelk.ee/syndmus/praostkonna-konverents-mihklis/
CATEGORIES:Muu
END:VEVENT
BEGIN:VEVENT
DTSTART;TZID=Europe/Tallinn:20241005T100000
DTEND;TZID=Europe/Tallinn:20241005T140000
DTSTAMP:20260419T150041
CREATED:20240929T170357Z
LAST-MODIFIED:20240929T170357Z
UID:2140-1728122400-1728136800@laane-nigula.eelk.ee
SUMMARY:Annetusmüük
DESCRIPTION:
URL:https://laane-nigula.eelk.ee/syndmus/annetusmuuk-188/
CATEGORIES:Annetusmüük
END:VEVENT
BEGIN:VEVENT
DTSTART;TZID=Europe/Tallinn:20241003T180000
DTEND;TZID=Europe/Tallinn:20241003T200000
DTSTAMP:20260419T150041
CREATED:20240929T171836Z
LAST-MODIFIED:20240929T171836Z
UID:2198-1727978400-1727985600@laane-nigula.eelk.ee
SUMMARY:Juhatuse koosolek kogudusemajas
DESCRIPTION:
URL:https://laane-nigula.eelk.ee/syndmus/juhatuse-koosolek-kogudusemajas-3/
CATEGORIES:Juhatus
END:VEVENT
BEGIN:VEVENT
DTSTART;TZID=Europe/Tallinn:20241003T100000
DTEND;TZID=Europe/Tallinn:20241003T140000
DTSTAMP:20260419T150041
CREATED:20240929T170330Z
LAST-MODIFIED:20240929T170533Z
UID:2138-1727949600-1727964000@laane-nigula.eelk.ee
SUMMARY:Annetusmüük
DESCRIPTION:
URL:https://laane-nigula.eelk.ee/syndmus/annetusmuuk-187/
CATEGORIES:Annetusmüük
END:VEVENT
BEGIN:VEVENT
DTSTART;TZID=Europe/Tallinn:20241003T093000
DTEND;TZID=Europe/Tallinn:20241003T100000
DTSTAMP:20260419T150041
CREATED:20240929T171018Z
LAST-MODIFIED:20240929T171018Z
UID:2164-1727947800-1727949600@laane-nigula.eelk.ee
SUMMARY:Hommikupalvus kogudusemajas
DESCRIPTION:
URL:https://laane-nigula.eelk.ee/syndmus/hommikupalvus-kogudusemajas-78/
CATEGORIES:Palvus
END:VEVENT
BEGIN:VEVENT
DTSTART;TZID=Europe/Tallinn:20241002T100000
DTEND;TZID=Europe/Tallinn:20241002T160000
DTSTAMP:20260419T150041
CREATED:20240929T170256Z
LAST-MODIFIED:20240929T170256Z
UID:2136-1727863200-1727884800@laane-nigula.eelk.ee
SUMMARY:Annetusmüük
DESCRIPTION:
URL:https://laane-nigula.eelk.ee/syndmus/annetusmuuk-186/
CATEGORIES:Annetusmüük
END:VEVENT
BEGIN:VEVENT
DTSTART;TZID=Europe/Tallinn:20241002T100000
DTEND;TZID=Europe/Tallinn:20241002T110000
DTSTAMP:20260419T150041
CREATED:20240929T170930Z
LAST-MODIFIED:20240929T170930Z
UID:2162-1727863200-1727866800@laane-nigula.eelk.ee
SUMMARY:Praostkonna vaimulike piiblitund Lääne-Nigula pastoraadis
DESCRIPTION:
URL:https://laane-nigula.eelk.ee/syndmus/praostkonna-vaimulike-piiblitund-laane-nigula-pastoraadis/
CATEGORIES:Piiblitund
END:VEVENT
BEGIN:VEVENT
DTSTART;TZID=Europe/Tallinn:20241001T180000
DTEND;TZID=Europe/Tallinn:20241001T200000
DTSTAMP:20260419T150041
CREATED:20240929T170129Z
LAST-MODIFIED:20240929T170209Z
UID:2134-1727805600-1727812800@laane-nigula.eelk.ee
SUMMARY:Leerikursus
DESCRIPTION:Hea kaasteeline! \nKutsun sind peagi algavale EELK Lääne-Nigula\, Noarootsi ja Nõva koguduse ühisele leerikursusele. \nKursus algab teisipäeval 01.10.2024 kell 18:00 veebis. \nMeie leerikursus on arutlevas vormis üles ehitatud\, kus on igal osalejal võimalus kuuldu põhjal oma mõtteid vahetada ning neid arutleda. Leeritundides arutleme ristiusule olulisi teemasid\, nt mis on usk ja keda/mida uskuda? Kes on Jumal ja kas tema juhib inimese elu? Miks inimene peab olema ristitud ja milline tähendus on inimese jaoks kirikul ja armulaual? Miks on maailmas kurjus ja kannatus? Kuidas elada õigesti ja hästi? Mis saab peale surma? Kes on kristlane ja mida tema usub. Püüame leida vastuseid küsimustele\, mis on seotud Jumalaga\, Jeesuse Kristusega ja Püha Vaimuga. \nLeerikooli oled oodatud alates 16. eluaastast. Oodatud on kõik huvilised. \nLeerikooli tulles ei pea olema ristitud. Ristimine toimub leerikooli ajal. \nMeie koguduse leerikursus kestab umbes 2-3 kuud.  Kokku saame 12 korral ning leeritunni pikkus on 1\,5 tundi. \nOsalemiseks\, palun kirjuta mulle\, et saaksin saata sulle lingi mille kaudu saad kursusega liituda. \nE-mail: kristo.hudsi@eelk.ee
URL:https://laane-nigula.eelk.ee/syndmus/leerikursus/
CATEGORIES:Leerikool
ATTACH;FMTTYPE=image/jpeg:https://laane-nigula.eelk.ee/wp-content/uploads/2024/09/Leer-Sugis-2024.jpg
END:VEVENT
BEGIN:VEVENT
DTSTART;TZID=Europe/Tallinn:20240929T120000
DTEND;TZID=Europe/Tallinn:20240929T133000
DTSTAMP:20260419T150041
CREATED:20240827T171354Z
LAST-MODIFIED:20240827T171402Z
UID:2087-1727611200-1727616600@laane-nigula.eelk.ee
SUMMARY:Jumalateenistus armulauaga
DESCRIPTION:Mihklipäev
URL:https://laane-nigula.eelk.ee/syndmus/jumalateenistus-armulauaga-74/
CATEGORIES:Jumalateenistus
END:VEVENT
BEGIN:VEVENT
DTSTART;TZID=Europe/Tallinn:20240928T100000
DTEND;TZID=Europe/Tallinn:20240928T140000
DTSTAMP:20260419T150041
CREATED:20240827T172143Z
LAST-MODIFIED:20240827T172143Z
UID:2120-1727517600-1727532000@laane-nigula.eelk.ee
SUMMARY:Annetusmüük
DESCRIPTION:
URL:https://laane-nigula.eelk.ee/syndmus/annetusmuuk-185/
CATEGORIES:Annetusmüük
END:VEVENT
BEGIN:VEVENT
DTSTART;TZID=Europe/Tallinn:20240926T180000
DTEND;TZID=Europe/Tallinn:20240926T200000
DTSTAMP:20260419T150041
CREATED:20240827T171848Z
LAST-MODIFIED:20240827T171848Z
UID:2102-1727373600-1727380800@laane-nigula.eelk.ee
SUMMARY:Töötegijate nõupidamine pastoraadis
DESCRIPTION:
URL:https://laane-nigula.eelk.ee/syndmus/tootegijate-noupidamine-pastoraadis-2/
CATEGORIES:Töötegijad
END:VEVENT
BEGIN:VEVENT
DTSTART;TZID=Europe/Tallinn:20240926T110000
DTEND;TZID=Europe/Tallinn:20240926T123000
DTSTAMP:20260419T150041
CREATED:20240827T171438Z
LAST-MODIFIED:20240827T171438Z
UID:2090-1727348400-1727353800@laane-nigula.eelk.ee
SUMMARY:Jumalateenistus Oru hooldekodus
DESCRIPTION:
URL:https://laane-nigula.eelk.ee/syndmus/jumalateenistus-oru-hooldekodus-11/
CATEGORIES:Jumalateenistus
END:VEVENT
BEGIN:VEVENT
DTSTART;TZID=Europe/Tallinn:20240926T100000
DTEND;TZID=Europe/Tallinn:20240926T140000
DTSTAMP:20260419T150041
CREATED:20240827T172130Z
LAST-MODIFIED:20240827T172130Z
UID:2118-1727344800-1727359200@laane-nigula.eelk.ee
SUMMARY:Annetusmüük
DESCRIPTION:
URL:https://laane-nigula.eelk.ee/syndmus/annetusmuuk-184/
CATEGORIES:Annetusmüük
END:VEVENT
BEGIN:VEVENT
DTSTART;TZID=Europe/Tallinn:20240926T093000
DTEND;TZID=Europe/Tallinn:20240926T100000
DTSTAMP:20260419T150041
CREATED:20240827T171747Z
LAST-MODIFIED:20240827T171747Z
UID:2100-1727343000-1727344800@laane-nigula.eelk.ee
SUMMARY:Hommikupalvus kogudusemajas
DESCRIPTION:
URL:https://laane-nigula.eelk.ee/syndmus/hommikupalvus-kogudusemajas-77/
CATEGORIES:Palvus
END:VEVENT
BEGIN:VEVENT
DTSTART;TZID=Europe/Tallinn:20240925T100000
DTEND;TZID=Europe/Tallinn:20240925T160000
DTSTAMP:20260419T150041
CREATED:20240827T172112Z
LAST-MODIFIED:20240827T172112Z
UID:2116-1727258400-1727280000@laane-nigula.eelk.ee
SUMMARY:Annetusmüük
DESCRIPTION:
URL:https://laane-nigula.eelk.ee/syndmus/annetusmuuk-183/
CATEGORIES:Annetusmüük
END:VEVENT
BEGIN:VEVENT
DTSTART;TZID=Europe/Tallinn:20240922T120000
DTEND;TZID=Europe/Tallinn:20240922T133000
DTSTAMP:20260419T150041
CREATED:20240827T171335Z
LAST-MODIFIED:20240827T171335Z
UID:2085-1727006400-1727011800@laane-nigula.eelk.ee
SUMMARY:Jumalateenistus armulauaga
DESCRIPTION:
URL:https://laane-nigula.eelk.ee/syndmus/jumalateenistus-armulauaga-73/
CATEGORIES:Jumalateenistus
END:VEVENT
BEGIN:VEVENT
DTSTART;TZID=Europe/Tallinn:20240921T100000
DTEND;TZID=Europe/Tallinn:20240921T160000
DTSTAMP:20260419T150041
CREATED:20240827T171550Z
LAST-MODIFIED:20240916T142753Z
UID:2092-1726912800-1726934400@laane-nigula.eelk.ee
SUMMARY:Jalgrattamatk „Kirik tuleb külla“
DESCRIPTION:Nigula – Palivere – Väike Lähtru – Martna – Ehmja – Nigula \nMaal elamise päev\, madisepäev\, sahvusvaheline sahupäev\, vastupanuvõitluse päev\, sügise algus \nTäpsem info: https://laane-nigula.eelk.ee/2024/08/27/matk-kirik-tuleb-kulla/ \n 
URL:https://laane-nigula.eelk.ee/syndmus/jalgrattamatk-2/
CATEGORIES:Matkad
END:VEVENT
END:VCALENDAR