BEGIN:VCALENDAR
VERSION:2.0
PRODID:-//EELK Lääne-Nigula kogudus - ECPv6.15.20//NONSGML v1.0//EN
CALSCALE:GREGORIAN
METHOD:PUBLISH
X-WR-CALNAME:EELK Lääne-Nigula kogudus
X-ORIGINAL-URL:https://laane-nigula.eelk.ee
X-WR-CALDESC:Events for EELK Lääne-Nigula kogudus
REFRESH-INTERVAL;VALUE=DURATION:PT1H
X-Robots-Tag:noindex
X-PUBLISHED-TTL:PT1H
BEGIN:VTIMEZONE
TZID:Europe/Tallinn
BEGIN:DAYLIGHT
TZOFFSETFROM:+0200
TZOFFSETTO:+0300
TZNAME:EEST
DTSTART:20230326T010000
END:DAYLIGHT
BEGIN:STANDARD
TZOFFSETFROM:+0300
TZOFFSETTO:+0200
TZNAME:EET
DTSTART:20231029T010000
END:STANDARD
BEGIN:DAYLIGHT
TZOFFSETFROM:+0200
TZOFFSETTO:+0300
TZNAME:EEST
DTSTART:20240331T010000
END:DAYLIGHT
BEGIN:STANDARD
TZOFFSETFROM:+0300
TZOFFSETTO:+0200
TZNAME:EET
DTSTART:20241027T010000
END:STANDARD
BEGIN:DAYLIGHT
TZOFFSETFROM:+0200
TZOFFSETTO:+0300
TZNAME:EEST
DTSTART:20250330T010000
END:DAYLIGHT
BEGIN:STANDARD
TZOFFSETFROM:+0300
TZOFFSETTO:+0200
TZNAME:EET
DTSTART:20251026T010000
END:STANDARD
END:VTIMEZONE
BEGIN:VEVENT
DTSTART;TZID=Europe/Tallinn:20241124T120000
DTEND;TZID=Europe/Tallinn:20241124T133000
DTSTAMP:20260420T052322
CREATED:20241025T073316Z
LAST-MODIFIED:20241025T073316Z
UID:2261-1732449600-1732455000@laane-nigula.eelk.ee
SUMMARY:Jumalateenistus armulauaga
DESCRIPTION:
URL:https://laane-nigula.eelk.ee/syndmus/jumalateenistus-armulauaga-82/
CATEGORIES:Jumalateenistus
END:VEVENT
BEGIN:VEVENT
DTSTART;TZID=Europe/Tallinn:20241124T120000
DTEND;TZID=Europe/Tallinn:20241124T130000
DTSTAMP:20260420T052322
CREATED:20241025T073028Z
LAST-MODIFIED:20241025T073028Z
UID:2253-1732449600-1732453200@laane-nigula.eelk.ee
SUMMARY:Pühapäevakool
DESCRIPTION:
URL:https://laane-nigula.eelk.ee/syndmus/puhapaevakool-15/
CATEGORIES:Lastetöö
END:VEVENT
BEGIN:VEVENT
DTSTART;TZID=Europe/Tallinn:20241123T100000
DTEND;TZID=Europe/Tallinn:20241123T140000
DTSTAMP:20260420T052322
CREATED:20241025T072353Z
LAST-MODIFIED:20241025T072353Z
UID:2227-1732356000-1732370400@laane-nigula.eelk.ee
SUMMARY:Avatud annetusmüük
DESCRIPTION:
URL:https://laane-nigula.eelk.ee/syndmus/avatud-annetusmuuk-36/
CATEGORIES:Annetusmüük
END:VEVENT
BEGIN:VEVENT
DTSTART;TZID=Europe/Tallinn:20241121T180000
DTEND;TZID=Europe/Tallinn:20241121T200000
DTSTAMP:20260420T052322
CREATED:20241025T073925Z
LAST-MODIFIED:20241025T073925Z
UID:2283-1732212000-1732219200@laane-nigula.eelk.ee
SUMMARY:Juhatuse koosolek pastoraadis
DESCRIPTION:
URL:https://laane-nigula.eelk.ee/syndmus/juhatuse-koosolek-pastoraadis/
CATEGORIES:Juhatus
END:VEVENT
BEGIN:VEVENT
DTSTART;TZID=Europe/Tallinn:20241121T160000
DTEND;TZID=Europe/Tallinn:20241121T170000
DTSTAMP:20260420T052322
CREATED:20240929T172044Z
LAST-MODIFIED:20240929T172044Z
UID:2204-1732204800-1732208400@laane-nigula.eelk.ee
SUMMARY:Kogudusekool
DESCRIPTION:
URL:https://laane-nigula.eelk.ee/syndmus/kogudusekool-7/
CATEGORIES:Kogudusekool
END:VEVENT
BEGIN:VEVENT
DTSTART;TZID=Europe/Tallinn:20241121T100000
DTEND;TZID=Europe/Tallinn:20241121T140000
DTSTAMP:20260420T052322
CREATED:20241025T072741Z
LAST-MODIFIED:20241025T072741Z
UID:2243-1732183200-1732197600@laane-nigula.eelk.ee
SUMMARY:Avatud annetusmüük
DESCRIPTION:
URL:https://laane-nigula.eelk.ee/syndmus/avatud-annetusmuuk-44/
CATEGORIES:Annetusmüük
END:VEVENT
BEGIN:VEVENT
DTSTART;TZID=Europe/Tallinn:20241121T093000
DTEND;TZID=Europe/Tallinn:20241121T100000
DTSTAMP:20260420T052322
CREATED:20241025T073605Z
LAST-MODIFIED:20241025T073605Z
UID:2271-1732181400-1732183200@laane-nigula.eelk.ee
SUMMARY:Hommikupalvus kogudusemajas
DESCRIPTION:
URL:https://laane-nigula.eelk.ee/syndmus/hommikupalvus-kogudusemajas-84/
CATEGORIES:Palvus
END:VEVENT
BEGIN:VEVENT
DTSTART;TZID=Europe/Tallinn:20241120T100000
DTEND;TZID=Europe/Tallinn:20241120T160000
DTSTAMP:20260420T052322
CREATED:20241025T072546Z
LAST-MODIFIED:20241025T072546Z
UID:2235-1732096800-1732118400@laane-nigula.eelk.ee
SUMMARY:Avatud annetusmüük
DESCRIPTION:
URL:https://laane-nigula.eelk.ee/syndmus/avatud-annetusmuuk-40/
CATEGORIES:Annetusmüük
END:VEVENT
BEGIN:VEVENT
DTSTART;TZID=Europe/Tallinn:20241118T083000
DTEND;TZID=Europe/Tallinn:20241118T093000
DTSTAMP:20260420T052322
CREATED:20241025T073815Z
LAST-MODIFIED:20241025T073815Z
UID:2279-1731918600-1731922200@laane-nigula.eelk.ee
SUMMARY:Hommikupalvus Raahe kogudusega veebis
DESCRIPTION:
URL:https://laane-nigula.eelk.ee/syndmus/hommikupalvus-raahe-kogudusega-veebis-3/
CATEGORIES:Palvus
END:VEVENT
BEGIN:VEVENT
DTSTART;TZID=Europe/Tallinn:20241117T160000
DTEND;TZID=Europe/Tallinn:20241117T170000
DTSTAMP:20260420T052322
CREATED:20240929T171948Z
LAST-MODIFIED:20240929T171948Z
UID:2200-1731859200-1731862800@laane-nigula.eelk.ee
SUMMARY:Kogudusekool teemal „Katekismus“
DESCRIPTION:
URL:https://laane-nigula.eelk.ee/syndmus/kogudusekool-teemal-katekismus/
CATEGORIES:Kogudusekool
END:VEVENT
BEGIN:VEVENT
DTSTART;TZID=Europe/Tallinn:20241117T120000
DTEND;TZID=Europe/Tallinn:20241117T133000
DTSTAMP:20260420T052322
CREATED:20241025T073245Z
LAST-MODIFIED:20241025T073245Z
UID:2259-1731844800-1731850200@laane-nigula.eelk.ee
SUMMARY:Jumalateenistus armulauaga
DESCRIPTION:
URL:https://laane-nigula.eelk.ee/syndmus/jumalateenistus-armulauaga-81/
CATEGORIES:Jumalateenistus
END:VEVENT
BEGIN:VEVENT
DTSTART;TZID=Europe/Tallinn:20241117T120000
DTEND;TZID=Europe/Tallinn:20241117T130000
DTSTAMP:20260420T052322
CREATED:20241025T072956Z
LAST-MODIFIED:20241025T072956Z
UID:2251-1731844800-1731848400@laane-nigula.eelk.ee
SUMMARY:Pühapäevakool
DESCRIPTION:
URL:https://laane-nigula.eelk.ee/syndmus/puhapaevakool-14/
CATEGORIES:Lastetöö
END:VEVENT
BEGIN:VEVENT
DTSTART;TZID=Europe/Tallinn:20241116T100000
DTEND;TZID=Europe/Tallinn:20241116T140000
DTSTAMP:20260420T052322
CREATED:20241025T072331Z
LAST-MODIFIED:20241025T072331Z
UID:2225-1731751200-1731765600@laane-nigula.eelk.ee
SUMMARY:Avatud annetusmüük
DESCRIPTION:
URL:https://laane-nigula.eelk.ee/syndmus/avatud-annetusmuuk-35/
CATEGORIES:Annetusmüük
END:VEVENT
BEGIN:VEVENT
DTSTART;TZID=Europe/Tallinn:20241114T100000
DTEND;TZID=Europe/Tallinn:20241114T140000
DTSTAMP:20260420T052322
CREATED:20241025T072720Z
LAST-MODIFIED:20241025T072720Z
UID:2241-1731578400-1731592800@laane-nigula.eelk.ee
SUMMARY:Avatud annetusmüük
DESCRIPTION:
URL:https://laane-nigula.eelk.ee/syndmus/avatud-annetusmuuk-43/
CATEGORIES:Annetusmüük
END:VEVENT
BEGIN:VEVENT
DTSTART;TZID=Europe/Tallinn:20241114T093000
DTEND;TZID=Europe/Tallinn:20241114T100000
DTSTAMP:20260420T052322
CREATED:20241025T073548Z
LAST-MODIFIED:20241025T073548Z
UID:2269-1731576600-1731578400@laane-nigula.eelk.ee
SUMMARY:Hommikupalvus kogudusemajas
DESCRIPTION:
URL:https://laane-nigula.eelk.ee/syndmus/hommikupalvus-kogudusemajas-83/
CATEGORIES:Palvus
END:VEVENT
BEGIN:VEVENT
DTSTART;TZID=Europe/Tallinn:20241113T100000
DTEND;TZID=Europe/Tallinn:20241113T160000
DTSTAMP:20260420T052322
CREATED:20241025T072526Z
LAST-MODIFIED:20241025T072526Z
UID:2233-1731492000-1731513600@laane-nigula.eelk.ee
SUMMARY:Avatud annetusmüük
DESCRIPTION:
URL:https://laane-nigula.eelk.ee/syndmus/avatud-annetusmuuk-39/
CATEGORIES:Annetusmüük
END:VEVENT
BEGIN:VEVENT
DTSTART;TZID=Europe/Tallinn:20241111T083000
DTEND;TZID=Europe/Tallinn:20241111T093000
DTSTAMP:20260420T052322
CREATED:20241025T073745Z
LAST-MODIFIED:20241025T073745Z
UID:2277-1731313800-1731317400@laane-nigula.eelk.ee
SUMMARY:Hommikupalvus Raahe kogudusega veebis
DESCRIPTION:
URL:https://laane-nigula.eelk.ee/syndmus/hommikupalvus-raahe-kogudusega-veebis-2/
CATEGORIES:Palvus
END:VEVENT
BEGIN:VEVENT
DTSTART;TZID=Europe/Tallinn:20241110T120000
DTEND;TZID=Europe/Tallinn:20241110T133000
DTSTAMP:20260420T052322
CREATED:20241025T073219Z
LAST-MODIFIED:20241025T073219Z
UID:2257-1731240000-1731245400@laane-nigula.eelk.ee
SUMMARY:Jumalateenistus armulauaga
DESCRIPTION:
URL:https://laane-nigula.eelk.ee/syndmus/jumalateenistus-armulauaga-80/
CATEGORIES:Jumalateenistus
END:VEVENT
BEGIN:VEVENT
DTSTART;TZID=Europe/Tallinn:20241110T120000
DTEND;TZID=Europe/Tallinn:20241110T130000
DTSTAMP:20260420T052322
CREATED:20241025T072926Z
LAST-MODIFIED:20241025T072926Z
UID:2249-1731240000-1731243600@laane-nigula.eelk.ee
SUMMARY:Pühapäevakool
DESCRIPTION:
URL:https://laane-nigula.eelk.ee/syndmus/puhapaevakool-13/
CATEGORIES:Lastetöö
END:VEVENT
BEGIN:VEVENT
DTSTART;TZID=Europe/Tallinn:20241109T100000
DTEND;TZID=Europe/Tallinn:20241109T140000
DTSTAMP:20260420T052322
CREATED:20241025T072308Z
LAST-MODIFIED:20241025T072308Z
UID:2223-1731146400-1731160800@laane-nigula.eelk.ee
SUMMARY:Avatud annetusmüük
DESCRIPTION:
URL:https://laane-nigula.eelk.ee/syndmus/avatud-annetusmuuk-34/
CATEGORIES:Annetusmüük
END:VEVENT
BEGIN:VEVENT
DTSTART;TZID=Europe/Tallinn:20241107T160000
DTEND;TZID=Europe/Tallinn:20241107T170000
DTSTAMP:20260420T052322
CREATED:20240929T172025Z
LAST-MODIFIED:20240929T172025Z
UID:2202-1730995200-1730998800@laane-nigula.eelk.ee
SUMMARY:Kogudusekool
DESCRIPTION:
URL:https://laane-nigula.eelk.ee/syndmus/kogudusekool-6/
CATEGORIES:Kogudusekool
END:VEVENT
BEGIN:VEVENT
DTSTART;TZID=Europe/Tallinn:20241107T100000
DTEND;TZID=Europe/Tallinn:20241107T140000
DTSTAMP:20260420T052322
CREATED:20241025T072649Z
LAST-MODIFIED:20241025T072649Z
UID:2239-1730973600-1730988000@laane-nigula.eelk.ee
SUMMARY:Avatud annetusmüük
DESCRIPTION:
URL:https://laane-nigula.eelk.ee/syndmus/avatud-annetusmuuk-42/
CATEGORIES:Annetusmüük
END:VEVENT
BEGIN:VEVENT
DTSTART;TZID=Europe/Tallinn:20241107T093000
DTEND;TZID=Europe/Tallinn:20241107T100000
DTSTAMP:20260420T052322
CREATED:20241025T073525Z
LAST-MODIFIED:20241025T073525Z
UID:2267-1730971800-1730973600@laane-nigula.eelk.ee
SUMMARY:Hommikupalvus kogudusemajas
DESCRIPTION:
URL:https://laane-nigula.eelk.ee/syndmus/hommikupalvus-kogudusemajas-82/
CATEGORIES:Palvus
END:VEVENT
BEGIN:VEVENT
DTSTART;TZID=Europe/Tallinn:20241106T100000
DTEND;TZID=Europe/Tallinn:20241106T160000
DTSTAMP:20260420T052322
CREATED:20241025T072504Z
LAST-MODIFIED:20241025T072504Z
UID:2231-1730887200-1730908800@laane-nigula.eelk.ee
SUMMARY:Avatud annetusmüük
DESCRIPTION:
URL:https://laane-nigula.eelk.ee/syndmus/avatud-annetusmuuk-38/
CATEGORIES:Annetusmüük
END:VEVENT
BEGIN:VEVENT
DTSTART;TZID=Europe/Tallinn:20241104T083000
DTEND;TZID=Europe/Tallinn:20241104T093000
DTSTAMP:20260420T052322
CREATED:20241025T073720Z
LAST-MODIFIED:20241025T073720Z
UID:2275-1730709000-1730712600@laane-nigula.eelk.ee
SUMMARY:Hommikupalvus Raahe kogudusega veebis
DESCRIPTION:
URL:https://laane-nigula.eelk.ee/syndmus/hommikupalvus-raahe-kogudusega-veebis/
CATEGORIES:Palvus
END:VEVENT
BEGIN:VEVENT
DTSTART;TZID=Europe/Tallinn:20241103T120000
DTEND;TZID=Europe/Tallinn:20241103T133000
DTSTAMP:20260420T052322
CREATED:20241025T073201Z
LAST-MODIFIED:20241025T073201Z
UID:2255-1730635200-1730640600@laane-nigula.eelk.ee
SUMMARY:Jumalateenistus armulauaga
DESCRIPTION:
URL:https://laane-nigula.eelk.ee/syndmus/jumalateenistus-armulauaga-79/
CATEGORIES:Jumalateenistus
END:VEVENT
BEGIN:VEVENT
DTSTART;TZID=Europe/Tallinn:20241103T120000
DTEND;TZID=Europe/Tallinn:20241103T130000
DTSTAMP:20260420T052322
CREATED:20241025T072905Z
LAST-MODIFIED:20241025T072905Z
UID:2247-1730635200-1730638800@laane-nigula.eelk.ee
SUMMARY:Pühapäevakool
DESCRIPTION:
URL:https://laane-nigula.eelk.ee/syndmus/puhapaevakool-12/
CATEGORIES:Lastetöö
END:VEVENT
BEGIN:VEVENT
DTSTART;TZID=Europe/Tallinn:20241102T100000
DTEND;TZID=Europe/Tallinn:20241102T140000
DTSTAMP:20260420T052322
CREATED:20241025T072240Z
LAST-MODIFIED:20241025T072240Z
UID:2221-1730541600-1730556000@laane-nigula.eelk.ee
SUMMARY:Avatud annetusmüük
DESCRIPTION:
URL:https://laane-nigula.eelk.ee/syndmus/avatud-annetusmuuk-33/
CATEGORIES:Annetusmüük
END:VEVENT
BEGIN:VEVENT
DTSTART;TZID=Europe/Tallinn:20241102T100000
DTEND;TZID=Europe/Tallinn:20241102T140000
DTSTAMP:20260420T052322
CREATED:20241025T072155Z
LAST-MODIFIED:20241025T072155Z
UID:2219-1730541600-1730556000@laane-nigula.eelk.ee
SUMMARY:Misjonifoorumi õpikogukond Mustamäe kirikus
DESCRIPTION:
URL:https://laane-nigula.eelk.ee/syndmus/misjonifoorumi-opikogukond-mustamae-kirikus/
CATEGORIES:Muu
END:VEVENT
BEGIN:VEVENT
DTSTART;TZID=Europe/Tallinn:20241101T100000
DTEND;TZID=Europe/Tallinn:20241101T120000
DTSTAMP:20260420T052322
CREATED:20241025T071959Z
LAST-MODIFIED:20241025T071959Z
UID:2215-1730455200-1730462400@laane-nigula.eelk.ee
SUMMARY:Koosolek kihelkonnaraamatu 06.12 esitluse ettevalmistamisek
DESCRIPTION:
URL:https://laane-nigula.eelk.ee/syndmus/koosolek-kihelkonnaraamatu-06-12-esitluse-ettevalmistamisek/
CATEGORIES:Muu
END:VEVENT
END:VCALENDAR