BEGIN:VCALENDAR
VERSION:2.0
PRODID:-//EELK Lääne-Nigula kogudus - ECPv6.15.20//NONSGML v1.0//EN
CALSCALE:GREGORIAN
METHOD:PUBLISH
X-WR-CALNAME:EELK Lääne-Nigula kogudus
X-ORIGINAL-URL:https://laane-nigula.eelk.ee
X-WR-CALDESC:Events for EELK Lääne-Nigula kogudus
REFRESH-INTERVAL;VALUE=DURATION:PT1H
X-Robots-Tag:noindex
X-PUBLISHED-TTL:PT1H
BEGIN:VTIMEZONE
TZID:Europe/Tallinn
BEGIN:DAYLIGHT
TZOFFSETFROM:+0200
TZOFFSETTO:+0300
TZNAME:EEST
DTSTART:20220327T010000
END:DAYLIGHT
BEGIN:STANDARD
TZOFFSETFROM:+0300
TZOFFSETTO:+0200
TZNAME:EET
DTSTART:20221030T010000
END:STANDARD
BEGIN:DAYLIGHT
TZOFFSETFROM:+0200
TZOFFSETTO:+0300
TZNAME:EEST
DTSTART:20230326T010000
END:DAYLIGHT
BEGIN:STANDARD
TZOFFSETFROM:+0300
TZOFFSETTO:+0200
TZNAME:EET
DTSTART:20231029T010000
END:STANDARD
BEGIN:DAYLIGHT
TZOFFSETFROM:+0200
TZOFFSETTO:+0300
TZNAME:EEST
DTSTART:20240331T010000
END:DAYLIGHT
BEGIN:STANDARD
TZOFFSETFROM:+0300
TZOFFSETTO:+0200
TZNAME:EET
DTSTART:20241027T010000
END:STANDARD
END:VTIMEZONE
BEGIN:VEVENT
DTSTART;TZID=Europe/Tallinn:20230202T143000
DTEND;TZID=Europe/Tallinn:20230202T143000
DTSTAMP:20260424T024716
CREATED:20230129T145712Z
LAST-MODIFIED:20230129T170237Z
UID:212-1675348200-1675348200@laane-nigula.eelk.ee
SUMMARY:Kogudusekool „Lukas jutustab Jeesusest“\, kogudusemajas
DESCRIPTION:
URL:https://laane-nigula.eelk.ee/syndmus/kogudusekool-lukas-jutustab-jeesusest-kogudusemajas/
LOCATION:EELK Lääne-Nigula kirik\, Nigula tee 1\, Läänemaa\, Eesti
CATEGORIES:Kogudusekool
END:VEVENT
BEGIN:VEVENT
DTSTART;TZID=Europe/Tallinn:20230202T100000
DTEND;TZID=Europe/Tallinn:20230202T103000
DTSTAMP:20260424T024716
CREATED:20230129T145451Z
LAST-MODIFIED:20230129T145517Z
UID:210-1675332000-1675333800@laane-nigula.eelk.ee
SUMMARY:Tartu rahulepingu aastapäeva tähistamine ausamba juures\, kohvi- ja teelaud
DESCRIPTION:
URL:https://laane-nigula.eelk.ee/syndmus/tartu-rahulepingu-aastapaeva-tahistamine-ausamba-juures-kohvi-ja-teelaud/
CATEGORIES:Muu
END:VEVENT
BEGIN:VEVENT
DTSTART;TZID=Europe/Tallinn:20230202T083000
DTEND;TZID=Europe/Tallinn:20230202T090000
DTSTAMP:20260424T024716
CREATED:20230129T113859Z
LAST-MODIFIED:20230129T114319Z
UID:125-1675326600-1675328400@laane-nigula.eelk.ee
SUMMARY:Hommikupalvus kogudusemajas
DESCRIPTION:
URL:https://laane-nigula.eelk.ee/syndmus/hommikupalvus-kogudusemajas/
CATEGORIES:Muu
END:VEVENT
BEGIN:VEVENT
DTSTART;TZID=Europe/Tallinn:20230122T110000
DTEND;TZID=Europe/Tallinn:20230122T120000
DTSTAMP:20260424T024716
CREATED:20230116T171257Z
LAST-MODIFIED:20230129T114940Z
UID:92-1674385200-1674388800@laane-nigula.eelk.ee
SUMMARY:Pühapäevakool
DESCRIPTION:
URL:https://laane-nigula.eelk.ee/syndmus/puhapaevkool/
LOCATION:EELK Lääne-Nigula kirik\, Nigula tee 1\, Läänemaa\, Eesti
END:VEVENT
BEGIN:VEVENT
DTSTART;VALUE=DATE:20230121
DTEND;VALUE=DATE:20230123
DTSTAMP:20260424T024716
CREATED:20230116T094243Z
LAST-MODIFIED:20230116T094243Z
UID:69-1674342000-1674428399@laane-nigula.eelk.ee
SUMMARY:Jumalateenistus armulauaga. 3. pühapäev pärast ilmumispüha. Teema: Jeesus äratab usule.
DESCRIPTION:
URL:https://laane-nigula.eelk.ee/syndmus/jumalateenistus-armulauaga-3-puhapaev-parast-ilmumispuha-teema-jeesus-aratab-usule/
LOCATION:EELK Lääne-Nigula kirik\, Nigula tee 1\, Läänemaa\, Eesti
CATEGORIES:Jumalateenistus
END:VEVENT
BEGIN:VEVENT
DTSTART;TZID=Europe/Tallinn:20230119T143000
DTEND;TZID=Europe/Tallinn:20230119T160000
DTSTAMP:20260424T024716
CREATED:20230116T100107Z
LAST-MODIFIED:20230116T100312Z
UID:82-1674138600-1674144000@laane-nigula.eelk.ee
SUMMARY:Koguduse kooli algus
DESCRIPTION:
URL:https://laane-nigula.eelk.ee/syndmus/koguduse-kooli-algus/
LOCATION:EELK Lääne-Nigula kirik\, Nigula tee 1\, Läänemaa\, Eesti
END:VEVENT
END:VCALENDAR