BEGIN:VCALENDAR
VERSION:2.0
PRODID:-//EELK Lääne-Nigula kogudus - ECPv6.15.20//NONSGML v1.0//EN
CALSCALE:GREGORIAN
METHOD:PUBLISH
X-WR-CALNAME:EELK Lääne-Nigula kogudus
X-ORIGINAL-URL:https://laane-nigula.eelk.ee
X-WR-CALDESC:Events for EELK Lääne-Nigula kogudus
REFRESH-INTERVAL;VALUE=DURATION:PT1H
X-Robots-Tag:noindex
X-PUBLISHED-TTL:PT1H
BEGIN:VTIMEZONE
TZID:Europe/Tallinn
BEGIN:DAYLIGHT
TZOFFSETFROM:+0200
TZOFFSETTO:+0300
TZNAME:EEST
DTSTART:20220327T010000
END:DAYLIGHT
BEGIN:STANDARD
TZOFFSETFROM:+0300
TZOFFSETTO:+0200
TZNAME:EET
DTSTART:20221030T010000
END:STANDARD
BEGIN:DAYLIGHT
TZOFFSETFROM:+0200
TZOFFSETTO:+0300
TZNAME:EEST
DTSTART:20230326T010000
END:DAYLIGHT
BEGIN:STANDARD
TZOFFSETFROM:+0300
TZOFFSETTO:+0200
TZNAME:EET
DTSTART:20231029T010000
END:STANDARD
BEGIN:DAYLIGHT
TZOFFSETFROM:+0200
TZOFFSETTO:+0300
TZNAME:EEST
DTSTART:20240331T010000
END:DAYLIGHT
BEGIN:STANDARD
TZOFFSETFROM:+0300
TZOFFSETTO:+0200
TZNAME:EET
DTSTART:20241027T010000
END:STANDARD
END:VTIMEZONE
BEGIN:VEVENT
DTSTART;TZID=Europe/Tallinn:20230301T090000
DTEND;TZID=Europe/Tallinn:20230301T150000
DTSTAMP:20260423T143249
CREATED:20230205T200844Z
LAST-MODIFIED:20230205T200844Z
UID:366-1677661200-1677682800@laane-nigula.eelk.ee
SUMMARY:Annatusmüük avatud
DESCRIPTION:
URL:https://laane-nigula.eelk.ee/syndmus/annatusmuuk-avatud/
CATEGORIES:Annetusmüük
END:VEVENT
BEGIN:VEVENT
DTSTART;TZID=Europe/Tallinn:20230227T170000
DTEND;TZID=Europe/Tallinn:20230227T170000
DTSTAMP:20260423T143249
CREATED:20230129T150825Z
LAST-MODIFIED:20230129T150825Z
UID:242-1677517200-1677517200@laane-nigula.eelk.ee
SUMMARY:Maakütte töörühma koosolek veebis
DESCRIPTION:
URL:https://laane-nigula.eelk.ee/syndmus/maakutte-tooruhma-koosolek-veebis-3/
CATEGORIES:Muu
END:VEVENT
BEGIN:VEVENT
DTSTART;TZID=Europe/Tallinn:20230226T123000
DTEND;TZID=Europe/Tallinn:20230226T123000
DTSTAMP:20260423T143249
CREATED:20230205T200639Z
LAST-MODIFIED:20230205T200639Z
UID:361-1677414600-1677414600@laane-nigula.eelk.ee
SUMMARY:Koguduse Nõukogu koosolek
DESCRIPTION:
URL:https://laane-nigula.eelk.ee/syndmus/koguduse-noukogu-koosolek/
CATEGORIES:Muu
END:VEVENT
BEGIN:VEVENT
DTSTART;TZID=Europe/Tallinn:20230226T110000
DTEND;TZID=Europe/Tallinn:20230226T123000
DTSTAMP:20260423T143249
CREATED:20230129T114904Z
LAST-MODIFIED:20230129T150804Z
UID:149-1677409200-1677414600@laane-nigula.eelk.ee
SUMMARY:Jumalateenistus
DESCRIPTION:Jutlustab Tuuli Raamat \nKirikukohv
URL:https://laane-nigula.eelk.ee/syndmus/jumalateenistus-6/
CATEGORIES:Jumalateenistus
END:VEVENT
BEGIN:VEVENT
DTSTART;TZID=Europe/Tallinn:20230226T110000
DTEND;TZID=Europe/Tallinn:20230226T120000
DTSTAMP:20260423T143249
CREATED:20230129T114545Z
LAST-MODIFIED:20230129T114545Z
UID:141-1677409200-1677412800@laane-nigula.eelk.ee
SUMMARY:Pühapäevakool
DESCRIPTION:
URL:https://laane-nigula.eelk.ee/syndmus/puhapaevakool-4/
CATEGORIES:Lastetöö
END:VEVENT
BEGIN:VEVENT
DTSTART;TZID=Europe/Tallinn:20230226T090000
DTEND;TZID=Europe/Tallinn:20230226T090000
DTSTAMP:20260423T143249
CREATED:20230205T200525Z
LAST-MODIFIED:20230205T200525Z
UID:359-1677402000-1677402000@laane-nigula.eelk.ee
SUMMARY:Koguduse revisjoni komisjoni koosolek
DESCRIPTION:
URL:https://laane-nigula.eelk.ee/syndmus/koguduse-revisjoni-komisjoni-koosolek/
CATEGORIES:Muu
END:VEVENT
BEGIN:VEVENT
DTSTART;TZID=Europe/Tallinn:20230224T093000
DTEND;TZID=Europe/Tallinn:20230224T093000
DTSTAMP:20260423T143249
CREATED:20230129T150733Z
LAST-MODIFIED:20230219T131409Z
UID:239-1677231000-1677231000@laane-nigula.eelk.ee
SUMMARY:Palvus ausamba juures
DESCRIPTION:Õnnistatud Eesti Vabariigi iseseisvuspäeva! \n 
URL:https://laane-nigula.eelk.ee/syndmus/onnistatud-eesti-vabariigi-iseseisvuspaeva/
CATEGORIES:Muu
ATTACH;FMTTYPE=image/png:https://laane-nigula.eelk.ee/wp-content/uploads/2023/01/image001.png
END:VEVENT
BEGIN:VEVENT
DTSTART;TZID=Europe/Tallinn:20230223T100000
DTEND;TZID=Europe/Tallinn:20230223T100000
DTSTAMP:20260423T143249
CREATED:20230129T150704Z
LAST-MODIFIED:20230129T150704Z
UID:237-1677146400-1677146400@laane-nigula.eelk.ee
SUMMARY:Jumalateenistus Oru Hooldekodus
DESCRIPTION:
URL:https://laane-nigula.eelk.ee/syndmus/jumalateenistus-oru-hooldekodus/
CATEGORIES:Jumalateenistus
END:VEVENT
BEGIN:VEVENT
DTSTART;TZID=Europe/Tallinn:20230223T083000
DTEND;TZID=Europe/Tallinn:20230223T090000
DTSTAMP:20260423T143249
CREATED:20230129T114147Z
LAST-MODIFIED:20230129T114307Z
UID:132-1677141000-1677142800@laane-nigula.eelk.ee
SUMMARY:Hommikupalvus kogudusemajas
DESCRIPTION:
URL:https://laane-nigula.eelk.ee/syndmus/hommikupalvus-kogudusemajas-4/
CATEGORIES:Muu
END:VEVENT
BEGIN:VEVENT
DTSTART;TZID=Europe/Tallinn:20230222T180000
DTEND;TZID=Europe/Tallinn:20230222T200000
DTSTAMP:20260423T143249
CREATED:20230205T200307Z
LAST-MODIFIED:20230205T200313Z
UID:356-1677088800-1677096000@laane-nigula.eelk.ee
SUMMARY:Väikerühmade Konverents Tartus
DESCRIPTION:Liisa Rossi \nSoovist osaleda\, teada anda Agne Viilmale 51987082 või agneviilma@gmail.com
URL:https://laane-nigula.eelk.ee/syndmus/vaikeruhmade-konverents-tartus/
CATEGORIES:Muu
END:VEVENT
BEGIN:VEVENT
DTSTART;TZID=Europe/Tallinn:20230221T230000
DTEND;TZID=Europe/Tallinn:20230221T230000
DTSTAMP:20260423T143249
CREATED:20230129T150607Z
LAST-MODIFIED:20230129T150614Z
UID:234-1677020400-1677020400@laane-nigula.eelk.ee
SUMMARY:Palvepäev ja paastuaja algus
DESCRIPTION:Jeesus ütleb: „Kui te paastute\, siis ärge olge kurvanäolised nagu silmakirjatsejad\, sest nemad teevad oma palge näotuks\, et näidata inimestele oma paastumist.“  Mt 6 : 16
URL:https://laane-nigula.eelk.ee/syndmus/palvepaev-ja-paastuaja-algus/
CATEGORIES:Muu
END:VEVENT
BEGIN:VEVENT
DTSTART;TZID=Europe/Tallinn:20230220T170000
DTEND;TZID=Europe/Tallinn:20230220T170000
DTSTAMP:20260423T143249
CREATED:20230129T150545Z
LAST-MODIFIED:20230129T150545Z
UID:232-1676912400-1676912400@laane-nigula.eelk.ee
SUMMARY:Juhatuse koosolek veebis
DESCRIPTION:
URL:https://laane-nigula.eelk.ee/syndmus/juhatuse-koosolek-veebis/
CATEGORIES:Muu
END:VEVENT
BEGIN:VEVENT
DTSTART;TZID=Europe/Tallinn:20230219T110000
DTEND;TZID=Europe/Tallinn:20230219T123000
DTSTAMP:20260423T143249
CREATED:20230129T114848Z
LAST-MODIFIED:20230129T114848Z
UID:147-1676804400-1676809800@laane-nigula.eelk.ee
SUMMARY:Jumalateenistus
DESCRIPTION:
URL:https://laane-nigula.eelk.ee/syndmus/jumalateenistus-5/
CATEGORIES:Jumalateenistus
END:VEVENT
BEGIN:VEVENT
DTSTART;TZID=Europe/Tallinn:20230219T110000
DTEND;TZID=Europe/Tallinn:20230219T120000
DTSTAMP:20260423T143249
CREATED:20230129T114513Z
LAST-MODIFIED:20230129T114513Z
UID:139-1676804400-1676808000@laane-nigula.eelk.ee
SUMMARY:Pühapäevakool
DESCRIPTION:
URL:https://laane-nigula.eelk.ee/syndmus/puhapaevakool-3/
CATEGORIES:Lastetöö
END:VEVENT
BEGIN:VEVENT
DTSTART;TZID=Europe/Tallinn:20230216T170000
DTEND;TZID=Europe/Tallinn:20230216T170000
DTSTAMP:20260423T143249
CREATED:20230129T150524Z
LAST-MODIFIED:20230129T150524Z
UID:230-1676566800-1676566800@laane-nigula.eelk.ee
SUMMARY:Doxa kooriproov
DESCRIPTION:
URL:https://laane-nigula.eelk.ee/syndmus/doxa-kooriproov-2/
CATEGORIES:Muusikatöö
END:VEVENT
BEGIN:VEVENT
DTSTART;TZID=Europe/Tallinn:20230216T160000
DTEND;TZID=Europe/Tallinn:20230216T160000
DTSTAMP:20260423T143249
CREATED:20230129T145801Z
LAST-MODIFIED:20230201T155415Z
UID:214-1676563200-1676563200@laane-nigula.eelk.ee
SUMMARY:Misjonitoimkonna koosolek
DESCRIPTION:
URL:https://laane-nigula.eelk.ee/syndmus/misjoni-toimkonna-koosolek/
CATEGORIES:Misjonitoimkond
END:VEVENT
BEGIN:VEVENT
DTSTART;TZID=Europe/Tallinn:20230216T143000
DTEND;TZID=Europe/Tallinn:20230216T143000
DTSTAMP:20260423T143249
CREATED:20230129T150453Z
LAST-MODIFIED:20230205T200047Z
UID:228-1676557800-1676557800@laane-nigula.eelk.ee
SUMMARY:Kogudusekool „Lukas jutustab Jeesusest“
DESCRIPTION:Viib läbi Leevi Reinaru
URL:https://laane-nigula.eelk.ee/syndmus/kogudusekool-lukas-jutustab-jeesusest/
CATEGORIES:Kogudusekool
END:VEVENT
BEGIN:VEVENT
DTSTART;TZID=Europe/Tallinn:20230216T083000
DTEND;TZID=Europe/Tallinn:20230216T090000
DTSTAMP:20260423T143249
CREATED:20230129T114117Z
LAST-MODIFIED:20230129T114311Z
UID:130-1676536200-1676538000@laane-nigula.eelk.ee
SUMMARY:Hommikupalvus kogudusemajas
DESCRIPTION:
URL:https://laane-nigula.eelk.ee/syndmus/hommikupalvus-kogudusemajas-3/
CATEGORIES:Muu
END:VEVENT
BEGIN:VEVENT
DTSTART;TZID=Europe/Tallinn:20230215T160000
DTEND;TZID=Europe/Tallinn:20230215T170000
DTSTAMP:20260423T143249
CREATED:20230129T150403Z
LAST-MODIFIED:20230203T082912Z
UID:226-1676476800-1676480400@laane-nigula.eelk.ee
SUMMARY:Piiblitund kogudusemajas: Jukka Paananen
DESCRIPTION:Külaliseks  Jukka  Paananen  „Rahu Sõnast“ \nTeema  „ Jumala armastuse ohvritee“ \nJeesus ütleb: „ Kes oma elu armastab\, see kaotab selle\, ja kes oma elu vihkab selles maailmas\, see hoiab selle igaveseks eluks.“    Jh 12 : 25
URL:https://laane-nigula.eelk.ee/syndmus/piiblitund-kogudusemajas-jukka-paananen/
CATEGORIES:Muu
END:VEVENT
BEGIN:VEVENT
DTSTART;TZID=Europe/Tallinn:20230213T180000
DTEND;TZID=Europe/Tallinn:20230213T180000
DTSTAMP:20260423T143249
CREATED:20230129T150312Z
LAST-MODIFIED:20230205T195958Z
UID:224-1676311200-1676311200@laane-nigula.eelk.ee
SUMMARY:Maakütte töörühma koosolek veebis
DESCRIPTION:
URL:https://laane-nigula.eelk.ee/syndmus/maakutte-tooruhma-koosolek-veebis-2/
CATEGORIES:Muu
END:VEVENT
BEGIN:VEVENT
DTSTART;TZID=Europe/Tallinn:20230212T110000
DTEND;TZID=Europe/Tallinn:20230212T123000
DTSTAMP:20260423T143249
CREATED:20230129T114822Z
LAST-MODIFIED:20230129T114822Z
UID:145-1676199600-1676205000@laane-nigula.eelk.ee
SUMMARY:Jumalateenistus
DESCRIPTION:
URL:https://laane-nigula.eelk.ee/syndmus/jumalateenistus-4/
CATEGORIES:Jumalateenistus
END:VEVENT
BEGIN:VEVENT
DTSTART;TZID=Europe/Tallinn:20230212T110000
DTEND;TZID=Europe/Tallinn:20230212T120000
DTSTAMP:20260423T143249
CREATED:20230129T114452Z
LAST-MODIFIED:20230129T114452Z
UID:137-1676199600-1676203200@laane-nigula.eelk.ee
SUMMARY:Pühapäevakool
DESCRIPTION:
URL:https://laane-nigula.eelk.ee/syndmus/puhapaevakool-2/
CATEGORIES:Lastetöö
END:VEVENT
BEGIN:VEVENT
DTSTART;TZID=Europe/Tallinn:20230210T180000
DTEND;TZID=Europe/Tallinn:20230210T180000
DTSTAMP:20260423T143249
CREATED:20230201T155527Z
LAST-MODIFIED:20230201T155527Z
UID:322-1676052000-1676052000@laane-nigula.eelk.ee
SUMMARY:Noorteõhtu "Checkpoint"
DESCRIPTION:
URL:https://laane-nigula.eelk.ee/syndmus/noorteohtu-checkpoint/
CATEGORIES:Noortetöö
END:VEVENT
BEGIN:VEVENT
DTSTART;TZID=Europe/Tallinn:20230209T090000
DTEND;TZID=Europe/Tallinn:20230209T090000
DTSTAMP:20260423T143249
CREATED:20230129T150239Z
LAST-MODIFIED:20230205T195826Z
UID:222-1675933200-1675933200@laane-nigula.eelk.ee
SUMMARY:Praostkonna konverents Lihulas
DESCRIPTION:
URL:https://laane-nigula.eelk.ee/syndmus/praostkonna-konverents-lihulas/
CATEGORIES:Muu
END:VEVENT
BEGIN:VEVENT
DTSTART;TZID=Europe/Tallinn:20230209T083000
DTEND;TZID=Europe/Tallinn:20230209T160000
DTSTAMP:20260423T143249
CREATED:20230205T195903Z
LAST-MODIFIED:20230205T195917Z
UID:351-1675931400-1675958400@laane-nigula.eelk.ee
SUMMARY:Hommikupalvus kogudusemajas
DESCRIPTION:Viib läbi Laine Peterson
URL:https://laane-nigula.eelk.ee/syndmus/hommikupalvus-kogudusemajas-2/
END:VEVENT
BEGIN:VEVENT
DTSTART;TZID=Europe/Tallinn:20230208T170000
DTEND;TZID=Europe/Tallinn:20230208T170000
DTSTAMP:20260423T143249
CREATED:20230129T115244Z
LAST-MODIFIED:20230129T150207Z
UID:152-1675875600-1675875600@laane-nigula.eelk.ee
SUMMARY:Kevadise leerikooli 1. kohtumine veebis
DESCRIPTION:Osalussoovist anda teada tel. 56952758 või \nkoguduse õpetajale Kristo Hüdsile või kirjutada laane-nigula@eelk.ee \n 
URL:https://laane-nigula.eelk.ee/syndmus/leerikooli-1-kohtumine-veebis/
CATEGORIES:Leerikool
END:VEVENT
BEGIN:VEVENT
DTSTART;TZID=Europe/Tallinn:20230206T180000
DTEND;TZID=Europe/Tallinn:20230206T180000
DTSTAMP:20260423T143249
CREATED:20230129T150042Z
LAST-MODIFIED:20230205T195657Z
UID:219-1675706400-1675706400@laane-nigula.eelk.ee
SUMMARY:Maakütte töörühma koosolek veebis
DESCRIPTION:
URL:https://laane-nigula.eelk.ee/syndmus/maakutte-tooruhma-koosolek-veebis/
CATEGORIES:Muu
END:VEVENT
BEGIN:VEVENT
DTSTART;TZID=Europe/Tallinn:20230205T110000
DTEND;TZID=Europe/Tallinn:20230205T123000
DTSTAMP:20260423T143249
CREATED:20230129T114648Z
LAST-MODIFIED:20230129T114648Z
UID:143-1675594800-1675600200@laane-nigula.eelk.ee
SUMMARY:Jumalateenistus
DESCRIPTION:
URL:https://laane-nigula.eelk.ee/syndmus/jumalateenistus-3/
CATEGORIES:Jumalateenistus
END:VEVENT
BEGIN:VEVENT
DTSTART;TZID=Europe/Tallinn:20230205T110000
DTEND;TZID=Europe/Tallinn:20230205T120000
DTSTAMP:20260423T143249
CREATED:20230129T114410Z
LAST-MODIFIED:20230129T114410Z
UID:135-1675594800-1675598400@laane-nigula.eelk.ee
SUMMARY:Pühapäevakool
DESCRIPTION:
URL:https://laane-nigula.eelk.ee/syndmus/puhapaevakool/
CATEGORIES:Lastetöö
END:VEVENT
BEGIN:VEVENT
DTSTART;TZID=Europe/Tallinn:20230202T170000
DTEND;TZID=Europe/Tallinn:20230202T170000
DTSTAMP:20260423T143249
CREATED:20230129T145942Z
LAST-MODIFIED:20230129T145942Z
UID:217-1675357200-1675357200@laane-nigula.eelk.ee
SUMMARY:Doxa  kooriproov
DESCRIPTION:
URL:https://laane-nigula.eelk.ee/syndmus/doxa-kooriproov/
CATEGORIES:Muusikatöö
END:VEVENT
END:VCALENDAR