BEGIN:VCALENDAR
VERSION:2.0
PRODID:-//EELK Lääne-Nigula kogudus - ECPv6.15.20//NONSGML v1.0//EN
CALSCALE:GREGORIAN
METHOD:PUBLISH
X-WR-CALNAME:EELK Lääne-Nigula kogudus
X-ORIGINAL-URL:https://laane-nigula.eelk.ee
X-WR-CALDESC:Events for EELK Lääne-Nigula kogudus
REFRESH-INTERVAL;VALUE=DURATION:PT1H
X-Robots-Tag:noindex
X-PUBLISHED-TTL:PT1H
BEGIN:VTIMEZONE
TZID:Europe/Tallinn
BEGIN:DAYLIGHT
TZOFFSETFROM:+0200
TZOFFSETTO:+0300
TZNAME:EEST
DTSTART:20220327T010000
END:DAYLIGHT
BEGIN:STANDARD
TZOFFSETFROM:+0300
TZOFFSETTO:+0200
TZNAME:EET
DTSTART:20221030T010000
END:STANDARD
BEGIN:DAYLIGHT
TZOFFSETFROM:+0200
TZOFFSETTO:+0300
TZNAME:EEST
DTSTART:20230326T010000
END:DAYLIGHT
BEGIN:STANDARD
TZOFFSETFROM:+0300
TZOFFSETTO:+0200
TZNAME:EET
DTSTART:20231029T010000
END:STANDARD
BEGIN:DAYLIGHT
TZOFFSETFROM:+0200
TZOFFSETTO:+0300
TZNAME:EEST
DTSTART:20240331T010000
END:DAYLIGHT
BEGIN:STANDARD
TZOFFSETFROM:+0300
TZOFFSETTO:+0200
TZNAME:EET
DTSTART:20241027T010000
END:STANDARD
END:VTIMEZONE
BEGIN:VEVENT
DTSTART;TZID=Europe/Tallinn:20230316T090000
DTEND;TZID=Europe/Tallinn:20230316T130000
DTSTAMP:20260423T133951
CREATED:20230228T184710Z
LAST-MODIFIED:20230228T184710Z
UID:465-1678957200-1678971600@laane-nigula.eelk.ee
SUMMARY:Annetusmüük
DESCRIPTION:
URL:https://laane-nigula.eelk.ee/syndmus/annetusmuuk-9/
CATEGORIES:Annetusmüük
END:VEVENT
BEGIN:VEVENT
DTSTART;TZID=Europe/Tallinn:20230316T083000
DTEND;TZID=Europe/Tallinn:20230316T090000
DTSTAMP:20260423T133951
CREATED:20230228T184127Z
LAST-MODIFIED:20230228T184127Z
UID:443-1678955400-1678957200@laane-nigula.eelk.ee
SUMMARY:Hommikupalvus kogudusemajas
DESCRIPTION:
URL:https://laane-nigula.eelk.ee/syndmus/hommikupalvus-kogudusemajas-7/
CATEGORIES:Muu
END:VEVENT
BEGIN:VEVENT
DTSTART;TZID=Europe/Tallinn:20230315T090000
DTEND;TZID=Europe/Tallinn:20230315T150000
DTSTAMP:20260423T133951
CREATED:20230228T184551Z
LAST-MODIFIED:20230228T184551Z
UID:459-1678870800-1678892400@laane-nigula.eelk.ee
SUMMARY:Annetusmüük
DESCRIPTION:
URL:https://laane-nigula.eelk.ee/syndmus/annetusmuuk-6/
CATEGORIES:Annetusmüük
END:VEVENT
BEGIN:VEVENT
DTSTART;TZID=Europe/Tallinn:20230313T180000
DTEND;TZID=Europe/Tallinn:20230313T180000
DTSTAMP:20260423T133951
CREATED:20230228T183859Z
LAST-MODIFIED:20230228T183859Z
UID:437-1678730400-1678730400@laane-nigula.eelk.ee
SUMMARY:Maakütte töörühm veebis
DESCRIPTION:
URL:https://laane-nigula.eelk.ee/syndmus/maakutte-tooruhm-veebis/
CATEGORIES:Muu
END:VEVENT
BEGIN:VEVENT
DTSTART;TZID=Europe/Tallinn:20230312T110000
DTEND;TZID=Europe/Tallinn:20230312T123000
DTSTAMP:20260423T133951
CREATED:20230228T183737Z
LAST-MODIFIED:20230228T183737Z
UID:433-1678618800-1678624200@laane-nigula.eelk.ee
SUMMARY:Jumalateenistus armulauaga
DESCRIPTION:
URL:https://laane-nigula.eelk.ee/syndmus/jumalateenistus-armulauaga-2/
CATEGORIES:Jumalateenistus
END:VEVENT
BEGIN:VEVENT
DTSTART;TZID=Europe/Tallinn:20230312T110000
DTEND;TZID=Europe/Tallinn:20230312T110000
DTSTAMP:20260423T133951
CREATED:20230228T183823Z
LAST-MODIFIED:20230228T183823Z
UID:435-1678618800-1678618800@laane-nigula.eelk.ee
SUMMARY:Pühapäevakool
DESCRIPTION:
URL:https://laane-nigula.eelk.ee/syndmus/puhapaevakool-6/
CATEGORIES:Lastetöö
END:VEVENT
BEGIN:VEVENT
DTSTART;TZID=Europe/Tallinn:20230311T090000
DTEND;TZID=Europe/Tallinn:20230311T130000
DTSTAMP:20260423T133951
CREATED:20230228T183623Z
LAST-MODIFIED:20230228T183623Z
UID:431-1678525200-1678539600@laane-nigula.eelk.ee
SUMMARY:Annetusmüük
DESCRIPTION:
URL:https://laane-nigula.eelk.ee/syndmus/annetusmuuk-5/
CATEGORIES:Annetusmüük
END:VEVENT
BEGIN:VEVENT
DTSTART;TZID=Europe/Tallinn:20230311T090000
DTEND;TZID=Europe/Tallinn:20230311T090000
DTSTAMP:20260423T133951
CREATED:20230307T075257Z
LAST-MODIFIED:20240412T181453Z
UID:473-1678525200-1678525200@laane-nigula.eelk.ee
SUMMARY:Talgupäev
DESCRIPTION:Kogudusemaja koristamine
URL:https://laane-nigula.eelk.ee/syndmus/kogudusemaja-koristamine/
CATEGORIES:Talgupäev
END:VEVENT
BEGIN:VEVENT
DTSTART;TZID=Europe/Tallinn:20230309T100000
DTEND;TZID=Europe/Tallinn:20230309T100000
DTSTAMP:20260423T133951
CREATED:20230228T183549Z
LAST-MODIFIED:20230228T183549Z
UID:429-1678356000-1678356000@laane-nigula.eelk.ee
SUMMARY:Ümarlaud vallaga
DESCRIPTION:
URL:https://laane-nigula.eelk.ee/syndmus/umarlaud-vallaga/
CATEGORIES:Muu
END:VEVENT
BEGIN:VEVENT
DTSTART;TZID=Europe/Tallinn:20230309T090000
DTEND;TZID=Europe/Tallinn:20230309T130000
DTSTAMP:20260423T133951
CREATED:20230228T183511Z
LAST-MODIFIED:20230228T183511Z
UID:427-1678352400-1678366800@laane-nigula.eelk.ee
SUMMARY:Annetusmüük
DESCRIPTION:
URL:https://laane-nigula.eelk.ee/syndmus/annetusmuuk-4/
CATEGORIES:Annetusmüük
END:VEVENT
BEGIN:VEVENT
DTSTART;TZID=Europe/Tallinn:20230309T083000
DTEND;TZID=Europe/Tallinn:20230309T090000
DTSTAMP:20260423T133951
CREATED:20230228T183436Z
LAST-MODIFIED:20230228T183436Z
UID:425-1678350600-1678352400@laane-nigula.eelk.ee
SUMMARY:Hommikupalvus kogudusemajas
DESCRIPTION:
URL:https://laane-nigula.eelk.ee/syndmus/hommikupalvus-kogudusemajas-6/
CATEGORIES:Muu
END:VEVENT
BEGIN:VEVENT
DTSTART;TZID=Europe/Tallinn:20230308T090000
DTEND;TZID=Europe/Tallinn:20230308T150000
DTSTAMP:20260423T133951
CREATED:20230228T183340Z
LAST-MODIFIED:20230228T183340Z
UID:423-1678266000-1678287600@laane-nigula.eelk.ee
SUMMARY:Annetusmüük
DESCRIPTION:
URL:https://laane-nigula.eelk.ee/syndmus/annetusmuuk-3/
CATEGORIES:Annetusmüük
END:VEVENT
BEGIN:VEVENT
DTSTART;TZID=Europe/Tallinn:20230307T170000
DTEND;TZID=Europe/Tallinn:20230307T170000
DTSTAMP:20260423T133951
CREATED:20230228T183318Z
LAST-MODIFIED:20230228T183318Z
UID:421-1678208400-1678208400@laane-nigula.eelk.ee
SUMMARY:Leeritund veebis
DESCRIPTION:
URL:https://laane-nigula.eelk.ee/syndmus/leeritund-veebis/
CATEGORIES:Leerikool
END:VEVENT
BEGIN:VEVENT
DTSTART;TZID=Europe/Tallinn:20230306T180000
DTEND;TZID=Europe/Tallinn:20230306T180000
DTSTAMP:20260423T133951
CREATED:20230228T183252Z
LAST-MODIFIED:20230228T183252Z
UID:419-1678125600-1678125600@laane-nigula.eelk.ee
SUMMARY:Maakütte töörühma koosolek veebis
DESCRIPTION:
URL:https://laane-nigula.eelk.ee/syndmus/maakutte-tooruhma-koosolek-veebis-4/
CATEGORIES:Muu
END:VEVENT
BEGIN:VEVENT
DTSTART;TZID=Europe/Tallinn:20230305T110000
DTEND;TZID=Europe/Tallinn:20230305T113000
DTSTAMP:20260423T133951
CREATED:20230228T183140Z
LAST-MODIFIED:20230228T183140Z
UID:415-1678014000-1678015800@laane-nigula.eelk.ee
SUMMARY:Jumalateenistus armulauaga
DESCRIPTION:Kirikukohv
URL:https://laane-nigula.eelk.ee/syndmus/jumalateenistus-armulauaga/
CATEGORIES:Jumalateenistus
END:VEVENT
BEGIN:VEVENT
DTSTART;TZID=Europe/Tallinn:20230305T110000
DTEND;TZID=Europe/Tallinn:20230305T110000
DTSTAMP:20260423T133951
CREATED:20230228T183210Z
LAST-MODIFIED:20230228T183210Z
UID:417-1678014000-1678014000@laane-nigula.eelk.ee
SUMMARY:Pühapäevakool
DESCRIPTION:
URL:https://laane-nigula.eelk.ee/syndmus/puhapaevakool-5/
CATEGORIES:Lastetöö
END:VEVENT
BEGIN:VEVENT
DTSTART;TZID=Europe/Tallinn:20230304T090000
DTEND;TZID=Europe/Tallinn:20230304T130000
DTSTAMP:20260423T133951
CREATED:20230228T183102Z
LAST-MODIFIED:20230228T183102Z
UID:413-1677920400-1677934800@laane-nigula.eelk.ee
SUMMARY:Annetusmüük
DESCRIPTION:
URL:https://laane-nigula.eelk.ee/syndmus/annetusmuuk-2/
CATEGORIES:Annetusmüük
END:VEVENT
BEGIN:VEVENT
DTSTART;TZID=Europe/Tallinn:20230302T170000
DTEND;TZID=Europe/Tallinn:20230302T170000
DTSTAMP:20260423T133951
CREATED:20230228T183028Z
LAST-MODIFIED:20230228T183028Z
UID:411-1677776400-1677776400@laane-nigula.eelk.ee
SUMMARY:Doxa kooriproov
DESCRIPTION:
URL:https://laane-nigula.eelk.ee/syndmus/doxa-kooriproov-3/
CATEGORIES:Muusikatöö
END:VEVENT
BEGIN:VEVENT
DTSTART;TZID=Europe/Tallinn:20230302T143000
DTEND;TZID=Europe/Tallinn:20230302T143000
DTSTAMP:20260423T133951
CREATED:20230129T170418Z
LAST-MODIFIED:20230129T170418Z
UID:286-1677767400-1677767400@laane-nigula.eelk.ee
SUMMARY:Kogudusekool „Lukas jutustab Jeesusest“
DESCRIPTION:
URL:https://laane-nigula.eelk.ee/syndmus/kogudusekool-lukas-jutustab-jeesusest-2/
CATEGORIES:Kogudusekool
END:VEVENT
BEGIN:VEVENT
DTSTART;TZID=Europe/Tallinn:20230302T090000
DTEND;TZID=Europe/Tallinn:20230302T130000
DTSTAMP:20260423T133951
CREATED:20230228T182839Z
LAST-MODIFIED:20230228T182839Z
UID:409-1677747600-1677762000@laane-nigula.eelk.ee
SUMMARY:Annetusmüük
DESCRIPTION:
URL:https://laane-nigula.eelk.ee/syndmus/annetusmuuk/
CATEGORIES:Annetusmüük
END:VEVENT
BEGIN:VEVENT
DTSTART;TZID=Europe/Tallinn:20230302T083000
DTEND;TZID=Europe/Tallinn:20230302T090000
DTSTAMP:20260423T133951
CREATED:20230228T182755Z
LAST-MODIFIED:20230228T182755Z
UID:407-1677745800-1677747600@laane-nigula.eelk.ee
SUMMARY:Hommikupalvus kogudusemajas
DESCRIPTION:
URL:https://laane-nigula.eelk.ee/syndmus/hommikupalvus-kogudusemajas-5/
CATEGORIES:Muu
END:VEVENT
BEGIN:VEVENT
DTSTART;TZID=Europe/Tallinn:20230301T090000
DTEND;TZID=Europe/Tallinn:20230301T150000
DTSTAMP:20260423T133951
CREATED:20230205T200844Z
LAST-MODIFIED:20230205T200844Z
UID:366-1677661200-1677682800@laane-nigula.eelk.ee
SUMMARY:Annatusmüük avatud
DESCRIPTION:
URL:https://laane-nigula.eelk.ee/syndmus/annatusmuuk-avatud/
CATEGORIES:Annetusmüük
END:VEVENT
BEGIN:VEVENT
DTSTART;TZID=Europe/Tallinn:20230227T170000
DTEND;TZID=Europe/Tallinn:20230227T170000
DTSTAMP:20260423T133951
CREATED:20230129T150825Z
LAST-MODIFIED:20230129T150825Z
UID:242-1677517200-1677517200@laane-nigula.eelk.ee
SUMMARY:Maakütte töörühma koosolek veebis
DESCRIPTION:
URL:https://laane-nigula.eelk.ee/syndmus/maakutte-tooruhma-koosolek-veebis-3/
CATEGORIES:Muu
END:VEVENT
BEGIN:VEVENT
DTSTART;TZID=Europe/Tallinn:20230226T123000
DTEND;TZID=Europe/Tallinn:20230226T123000
DTSTAMP:20260423T133951
CREATED:20230205T200639Z
LAST-MODIFIED:20230205T200639Z
UID:361-1677414600-1677414600@laane-nigula.eelk.ee
SUMMARY:Koguduse Nõukogu koosolek
DESCRIPTION:
URL:https://laane-nigula.eelk.ee/syndmus/koguduse-noukogu-koosolek/
CATEGORIES:Muu
END:VEVENT
BEGIN:VEVENT
DTSTART;TZID=Europe/Tallinn:20230226T110000
DTEND;TZID=Europe/Tallinn:20230226T123000
DTSTAMP:20260423T133951
CREATED:20230129T114904Z
LAST-MODIFIED:20230129T150804Z
UID:149-1677409200-1677414600@laane-nigula.eelk.ee
SUMMARY:Jumalateenistus
DESCRIPTION:Jutlustab Tuuli Raamat \nKirikukohv
URL:https://laane-nigula.eelk.ee/syndmus/jumalateenistus-6/
CATEGORIES:Jumalateenistus
END:VEVENT
BEGIN:VEVENT
DTSTART;TZID=Europe/Tallinn:20230226T110000
DTEND;TZID=Europe/Tallinn:20230226T120000
DTSTAMP:20260423T133951
CREATED:20230129T114545Z
LAST-MODIFIED:20230129T114545Z
UID:141-1677409200-1677412800@laane-nigula.eelk.ee
SUMMARY:Pühapäevakool
DESCRIPTION:
URL:https://laane-nigula.eelk.ee/syndmus/puhapaevakool-4/
CATEGORIES:Lastetöö
END:VEVENT
BEGIN:VEVENT
DTSTART;TZID=Europe/Tallinn:20230226T090000
DTEND;TZID=Europe/Tallinn:20230226T090000
DTSTAMP:20260423T133951
CREATED:20230205T200525Z
LAST-MODIFIED:20230205T200525Z
UID:359-1677402000-1677402000@laane-nigula.eelk.ee
SUMMARY:Koguduse revisjoni komisjoni koosolek
DESCRIPTION:
URL:https://laane-nigula.eelk.ee/syndmus/koguduse-revisjoni-komisjoni-koosolek/
CATEGORIES:Muu
END:VEVENT
BEGIN:VEVENT
DTSTART;TZID=Europe/Tallinn:20230224T093000
DTEND;TZID=Europe/Tallinn:20230224T093000
DTSTAMP:20260423T133951
CREATED:20230129T150733Z
LAST-MODIFIED:20230219T131409Z
UID:239-1677231000-1677231000@laane-nigula.eelk.ee
SUMMARY:Palvus ausamba juures
DESCRIPTION:Õnnistatud Eesti Vabariigi iseseisvuspäeva! \n 
URL:https://laane-nigula.eelk.ee/syndmus/onnistatud-eesti-vabariigi-iseseisvuspaeva/
CATEGORIES:Muu
ATTACH;FMTTYPE=image/png:https://laane-nigula.eelk.ee/wp-content/uploads/2023/01/image001.png
END:VEVENT
BEGIN:VEVENT
DTSTART;TZID=Europe/Tallinn:20230223T100000
DTEND;TZID=Europe/Tallinn:20230223T100000
DTSTAMP:20260423T133951
CREATED:20230129T150704Z
LAST-MODIFIED:20230129T150704Z
UID:237-1677146400-1677146400@laane-nigula.eelk.ee
SUMMARY:Jumalateenistus Oru Hooldekodus
DESCRIPTION:
URL:https://laane-nigula.eelk.ee/syndmus/jumalateenistus-oru-hooldekodus/
CATEGORIES:Jumalateenistus
END:VEVENT
BEGIN:VEVENT
DTSTART;TZID=Europe/Tallinn:20230223T083000
DTEND;TZID=Europe/Tallinn:20230223T090000
DTSTAMP:20260423T133951
CREATED:20230129T114147Z
LAST-MODIFIED:20230129T114307Z
UID:132-1677141000-1677142800@laane-nigula.eelk.ee
SUMMARY:Hommikupalvus kogudusemajas
DESCRIPTION:
URL:https://laane-nigula.eelk.ee/syndmus/hommikupalvus-kogudusemajas-4/
CATEGORIES:Muu
END:VEVENT
END:VCALENDAR