BEGIN:VCALENDAR
VERSION:2.0
PRODID:-//EELK Lääne-Nigula kogudus - ECPv6.15.20//NONSGML v1.0//EN
CALSCALE:GREGORIAN
METHOD:PUBLISH
X-WR-CALNAME:EELK Lääne-Nigula kogudus
X-ORIGINAL-URL:https://laane-nigula.eelk.ee
X-WR-CALDESC:Events for EELK Lääne-Nigula kogudus
REFRESH-INTERVAL;VALUE=DURATION:PT1H
X-Robots-Tag:noindex
X-PUBLISHED-TTL:PT1H
BEGIN:VTIMEZONE
TZID:Europe/Tallinn
BEGIN:DAYLIGHT
TZOFFSETFROM:+0200
TZOFFSETTO:+0300
TZNAME:EEST
DTSTART:20220327T010000
END:DAYLIGHT
BEGIN:STANDARD
TZOFFSETFROM:+0300
TZOFFSETTO:+0200
TZNAME:EET
DTSTART:20221030T010000
END:STANDARD
BEGIN:DAYLIGHT
TZOFFSETFROM:+0200
TZOFFSETTO:+0300
TZNAME:EEST
DTSTART:20230326T010000
END:DAYLIGHT
BEGIN:STANDARD
TZOFFSETFROM:+0300
TZOFFSETTO:+0200
TZNAME:EET
DTSTART:20231029T010000
END:STANDARD
BEGIN:DAYLIGHT
TZOFFSETFROM:+0200
TZOFFSETTO:+0300
TZNAME:EEST
DTSTART:20240331T010000
END:DAYLIGHT
BEGIN:STANDARD
TZOFFSETFROM:+0300
TZOFFSETTO:+0200
TZNAME:EET
DTSTART:20241027T010000
END:STANDARD
END:VTIMEZONE
BEGIN:VEVENT
DTSTART;TZID=Europe/Tallinn:20230430T120000
DTEND;TZID=Europe/Tallinn:20230430T130000
DTSTAMP:20260423T062233
CREATED:20230330T073702Z
LAST-MODIFIED:20230330T073702Z
UID:512-1682856000-1682859600@laane-nigula.eelk.ee
SUMMARY:Pühapäevakool
DESCRIPTION:
URL:https://laane-nigula.eelk.ee/syndmus/puhapaevakool-11/
CATEGORIES:Lastetöö
END:VEVENT
BEGIN:VEVENT
DTSTART;TZID=Europe/Tallinn:20230429T100000
DTEND;TZID=Europe/Tallinn:20230429T140000
DTSTAMP:20260423T062233
CREATED:20230330T073111Z
LAST-MODIFIED:20230330T073111Z
UID:502-1682762400-1682776800@laane-nigula.eelk.ee
SUMMARY:Annetusmüük
DESCRIPTION:
URL:https://laane-nigula.eelk.ee/syndmus/annetusmuuk-22/
CATEGORIES:Annetusmüük
END:VEVENT
BEGIN:VEVENT
DTSTART;TZID=Europe/Tallinn:20230428T180000
DTEND;TZID=Europe/Tallinn:20230428T180000
DTSTAMP:20260423T062233
CREATED:20230330T074815Z
LAST-MODIFIED:20230330T074815Z
UID:550-1682704800-1682704800@laane-nigula.eelk.ee
SUMMARY:Töötegijate nõupidamine
DESCRIPTION:
URL:https://laane-nigula.eelk.ee/syndmus/tootegijate-noupidamine/
CATEGORIES:Muu
END:VEVENT
BEGIN:VEVENT
DTSTART;TZID=Europe/Tallinn:20230428T160000
DTEND;TZID=Europe/Tallinn:20230428T160000
DTSTAMP:20260423T062233
CREATED:20230330T074751Z
LAST-MODIFIED:20230330T074751Z
UID:548-1682697600-1682697600@laane-nigula.eelk.ee
SUMMARY:Saun kogudusemajas
DESCRIPTION:
URL:https://laane-nigula.eelk.ee/syndmus/saun-kogudusemajas/
CATEGORIES:Muu
END:VEVENT
BEGIN:VEVENT
DTSTART;TZID=Europe/Tallinn:20230427T170000
DTEND;TZID=Europe/Tallinn:20230427T170000
DTSTAMP:20260423T062233
CREATED:20230330T074722Z
LAST-MODIFIED:20230330T074722Z
UID:546-1682614800-1682614800@laane-nigula.eelk.ee
SUMMARY:Misjonitoimkonna koosolek
DESCRIPTION:
URL:https://laane-nigula.eelk.ee/syndmus/misjonitoimkonna-koosolek/
CATEGORIES:Misjonitoimkond
END:VEVENT
BEGIN:VEVENT
DTSTART;TZID=Europe/Tallinn:20230427T093000
DTEND;TZID=Europe/Tallinn:20230427T100000
DTSTAMP:20260423T062233
CREATED:20230330T073830Z
LAST-MODIFIED:20230330T073830Z
UID:518-1682587800-1682589600@laane-nigula.eelk.ee
SUMMARY:Hommikupalvus kogudusemajas
DESCRIPTION:
URL:https://laane-nigula.eelk.ee/syndmus/hommikupalvus-kogudusemajas-13/
CATEGORIES:Muu
END:VEVENT
BEGIN:VEVENT
DTSTART;TZID=Europe/Tallinn:20230426T100000
DTEND;TZID=Europe/Tallinn:20230426T160000
DTSTAMP:20260423T062233
CREATED:20230330T073022Z
LAST-MODIFIED:20230330T073022Z
UID:499-1682503200-1682524800@laane-nigula.eelk.ee
SUMMARY:Annetusmüük
DESCRIPTION:
URL:https://laane-nigula.eelk.ee/syndmus/annetusmuuk-21/
CATEGORIES:Annetusmüük
END:VEVENT
BEGIN:VEVENT
DTSTART;TZID=Europe/Tallinn:20230423T120000
DTEND;TZID=Europe/Tallinn:20230423T133000
DTSTAMP:20260423T062233
CREATED:20230330T073925Z
LAST-MODIFIED:20230330T073925Z
UID:522-1682251200-1682256600@laane-nigula.eelk.ee
SUMMARY:Jumalateenistus armulauaga
DESCRIPTION:
URL:https://laane-nigula.eelk.ee/syndmus/jumalateenistus-armulauaga-7/
CATEGORIES:Jumalateenistus
END:VEVENT
BEGIN:VEVENT
DTSTART;TZID=Europe/Tallinn:20230422T120000
DTEND;TZID=Europe/Tallinn:20230422T160000
DTSTAMP:20260423T062233
CREATED:20230330T074633Z
LAST-MODIFIED:20230330T074645Z
UID:543-1682164800-1682179200@laane-nigula.eelk.ee
SUMMARY:Väikerühmade konverents
DESCRIPTION:Tartu Maarja koguduses \nSoovist osaleda anna teada agneviilma@gmail.com
URL:https://laane-nigula.eelk.ee/syndmus/vaikeruhmade-konverents/
CATEGORIES:Muu
END:VEVENT
BEGIN:VEVENT
DTSTART;TZID=Europe/Tallinn:20230422T100000
DTEND;TZID=Europe/Tallinn:20230422T140000
DTSTAMP:20260423T062233
CREATED:20230330T074601Z
LAST-MODIFIED:20240412T181447Z
UID:541-1682157600-1682172000@laane-nigula.eelk.ee
SUMMARY:Talgupäev koguduse aias
DESCRIPTION:22.04.2023 kell 10:00-14:00 \nTalgulistele talgusupp. \nVõta võimalusel kaasa reha ja aiakäru. Korjame kive\, riisume kirikuaeda ja korrastame pastoraati ning kirikut. \nInfo: 51987082 \ne-mail: laane-nigula@eelk.ee
URL:https://laane-nigula.eelk.ee/syndmus/talgupaev-koguduse-aias/
CATEGORIES:Talgupäev
END:VEVENT
BEGIN:VEVENT
DTSTART;TZID=Europe/Tallinn:20230422T100000
DTEND;TZID=Europe/Tallinn:20230422T140000
DTSTAMP:20260423T062233
CREATED:20230330T072958Z
LAST-MODIFIED:20230330T072958Z
UID:497-1682157600-1682172000@laane-nigula.eelk.ee
SUMMARY:Annetusmüük
DESCRIPTION:
URL:https://laane-nigula.eelk.ee/syndmus/annetusmuuk-20/
CATEGORIES:Annetusmüük
END:VEVENT
BEGIN:VEVENT
DTSTART;TZID=Europe/Tallinn:20230420T100000
DTEND;TZID=Europe/Tallinn:20230420T140000
DTSTAMP:20260423T062233
CREATED:20230330T072844Z
LAST-MODIFIED:20230330T072940Z
UID:494-1681984800-1681999200@laane-nigula.eelk.ee
SUMMARY:Annetusmüük
DESCRIPTION:
URL:https://laane-nigula.eelk.ee/syndmus/annetusmuuk-19/
CATEGORIES:Annetusmüük
END:VEVENT
BEGIN:VEVENT
DTSTART;TZID=Europe/Tallinn:20230420T093000
DTEND;TZID=Europe/Tallinn:20230420T100000
DTSTAMP:20260423T062233
CREATED:20230330T073810Z
LAST-MODIFIED:20230330T073810Z
UID:516-1681983000-1681984800@laane-nigula.eelk.ee
SUMMARY:Hommikupalvus kogudusemajas
DESCRIPTION:
URL:https://laane-nigula.eelk.ee/syndmus/hommikupalvus-kogudusemajas-12/
CATEGORIES:Muu
END:VEVENT
BEGIN:VEVENT
DTSTART;TZID=Europe/Tallinn:20230419T100000
DTEND;TZID=Europe/Tallinn:20230419T160000
DTSTAMP:20260423T062233
CREATED:20230330T072813Z
LAST-MODIFIED:20230330T072813Z
UID:492-1681898400-1681920000@laane-nigula.eelk.ee
SUMMARY:Annetusmüük
DESCRIPTION:
URL:https://laane-nigula.eelk.ee/syndmus/annetusmuuk-18/
CATEGORIES:Annetusmüük
END:VEVENT
BEGIN:VEVENT
DTSTART;TZID=Europe/Tallinn:20230416T120000
DTEND;TZID=Europe/Tallinn:20230416T133000
DTSTAMP:20260423T062233
CREATED:20230330T073906Z
LAST-MODIFIED:20230330T073906Z
UID:520-1681646400-1681651800@laane-nigula.eelk.ee
SUMMARY:Jumalateenistus armulauaga
DESCRIPTION:
URL:https://laane-nigula.eelk.ee/syndmus/jumalateenistus-armulauaga-6/
CATEGORIES:Jumalateenistus
END:VEVENT
BEGIN:VEVENT
DTSTART;TZID=Europe/Tallinn:20230416T120000
DTEND;TZID=Europe/Tallinn:20230416T130000
DTSTAMP:20260423T062233
CREATED:20230330T073626Z
LAST-MODIFIED:20230330T073626Z
UID:510-1681646400-1681650000@laane-nigula.eelk.ee
SUMMARY:Pühapäevakool
DESCRIPTION:
URL:https://laane-nigula.eelk.ee/syndmus/puhapaevakool-10/
CATEGORIES:Lastetöö
END:VEVENT
BEGIN:VEVENT
DTSTART;TZID=Europe/Tallinn:20230415T100000
DTEND;TZID=Europe/Tallinn:20230415T140000
DTSTAMP:20260423T062233
CREATED:20230330T072740Z
LAST-MODIFIED:20230330T072740Z
UID:490-1681552800-1681567200@laane-nigula.eelk.ee
SUMMARY:Annetusmüük
DESCRIPTION:
URL:https://laane-nigula.eelk.ee/syndmus/annetusmuuk-17/
CATEGORIES:Annetusmüük
END:VEVENT
BEGIN:VEVENT
DTSTART;TZID=Europe/Tallinn:20230414T000000
DTEND;TZID=Europe/Tallinn:20230416T000000
DTSTAMP:20260423T062233
CREATED:20230330T074525Z
LAST-MODIFIED:20230330T074525Z
UID:539-1681430400-1681603200@laane-nigula.eelk.ee
SUMMARY:Külaskäik Raahe kogudusse
DESCRIPTION:
URL:https://laane-nigula.eelk.ee/syndmus/kulaskaik-raahe-kogudusse/
CATEGORIES:Muu
END:VEVENT
BEGIN:VEVENT
DTSTART;TZID=Europe/Tallinn:20230413T153000
DTEND;TZID=Europe/Tallinn:20230413T153000
DTSTAMP:20260423T062233
CREATED:20230330T074448Z
LAST-MODIFIED:20230330T074448Z
UID:537-1681399800-1681399800@laane-nigula.eelk.ee
SUMMARY:Kogudusekool
DESCRIPTION:„Lukas jutustab Jeesusest“
URL:https://laane-nigula.eelk.ee/syndmus/kogudusekool/
CATEGORIES:Kogudusekool
END:VEVENT
BEGIN:VEVENT
DTSTART;TZID=Europe/Tallinn:20230413T100000
DTEND;TZID=Europe/Tallinn:20230413T140000
DTSTAMP:20260423T062233
CREATED:20230330T072713Z
LAST-MODIFIED:20230330T072713Z
UID:488-1681380000-1681394400@laane-nigula.eelk.ee
SUMMARY:Annetusmüük
DESCRIPTION:
URL:https://laane-nigula.eelk.ee/syndmus/annetusmuuk-16/
CATEGORIES:Annetusmüük
END:VEVENT
BEGIN:VEVENT
DTSTART;TZID=Europe/Tallinn:20230413T093000
DTEND;TZID=Europe/Tallinn:20230413T100000
DTSTAMP:20260423T062233
CREATED:20230330T073748Z
LAST-MODIFIED:20230330T073748Z
UID:514-1681378200-1681380000@laane-nigula.eelk.ee
SUMMARY:Hommikupalvus kogudusemajas
DESCRIPTION:
URL:https://laane-nigula.eelk.ee/syndmus/hommikupalvus-kogudusemajas-11/
CATEGORIES:Muu
END:VEVENT
BEGIN:VEVENT
DTSTART;TZID=Europe/Tallinn:20230412T160000
DTEND;TZID=Europe/Tallinn:20230412T160000
DTSTAMP:20260423T062233
CREATED:20230330T074414Z
LAST-MODIFIED:20230330T074414Z
UID:535-1681315200-1681315200@laane-nigula.eelk.ee
SUMMARY:Piiblitund
DESCRIPTION:Matti Rahja „Ülestõusnu tunnistajad“ \n„Jeesus tuli\, jäi seisma nende keskele ja ütles: „Rahu teile!“  Jh 20:26
URL:https://laane-nigula.eelk.ee/syndmus/piiblitund/
CATEGORIES:Muu
END:VEVENT
BEGIN:VEVENT
DTSTART;TZID=Europe/Tallinn:20230412T100000
DTEND;TZID=Europe/Tallinn:20230412T160000
DTSTAMP:20260423T062233
CREATED:20230330T072635Z
LAST-MODIFIED:20230330T072645Z
UID:486-1681293600-1681315200@laane-nigula.eelk.ee
SUMMARY:Annetusmüük
DESCRIPTION:
URL:https://laane-nigula.eelk.ee/syndmus/annetusmuuk-15/
CATEGORIES:Annetusmüük
END:VEVENT
BEGIN:VEVENT
DTSTART;TZID=Europe/Tallinn:20230409T120000
DTEND;TZID=Europe/Tallinn:20230409T133000
DTSTAMP:20260423T062233
CREATED:20230330T074256Z
LAST-MODIFIED:20230330T090646Z
UID:533-1681041600-1681047000@laane-nigula.eelk.ee
SUMMARY:1. ülestõusmispüha jumalateenistus armulauaga
DESCRIPTION:„ Surm on neelatud võidusse!“  1Kr 15:54
URL:https://laane-nigula.eelk.ee/syndmus/1-ulestousmispuha-jumalateenistus-armulauaga/
CATEGORIES:Jumalateenistus
END:VEVENT
BEGIN:VEVENT
DTSTART;TZID=Europe/Tallinn:20230408T000000
DTEND;TZID=Europe/Tallinn:20230408T000000
DTSTAMP:20260423T062233
CREATED:20230330T074201Z
LAST-MODIFIED:20230330T074201Z
UID:531-1680912000-1680912000@laane-nigula.eelk.ee
SUMMARY:Vaikne laupäev
DESCRIPTION:„Ma tean\, et mu Lunastaja elab\, ja Tema jääb viimasena põrmu peale seisma.“ Ii 19:25
URL:https://laane-nigula.eelk.ee/syndmus/vaikne-laupaev/
CATEGORIES:Muu
END:VEVENT
BEGIN:VEVENT
DTSTART;TZID=Europe/Tallinn:20230407T120000
DTEND;TZID=Europe/Tallinn:20230407T133000
DTSTAMP:20260423T062233
CREATED:20230330T074116Z
LAST-MODIFIED:20230330T074131Z
UID:528-1680868800-1680874200@laane-nigula.eelk.ee
SUMMARY:Suure reede jumalateenistus
DESCRIPTION:„Sõdurid torkasid äädikaga immutatud käsna iisopi roa otsa ja ulatasid selle Jeesuse suu juurde. Kui nüüd Jeesus oli võtnud äädikat\, ütles Ta: „See on lõpetatud!“ ja\, langetanud pea\, heitis hinge.“  Jh 19:29-30
URL:https://laane-nigula.eelk.ee/syndmus/suure-reede-jumalateenistus/
CATEGORIES:Jumalateenistus
END:VEVENT
BEGIN:VEVENT
DTSTART;TZID=Europe/Tallinn:20230406T173000
DTEND;TZID=Europe/Tallinn:20230406T190000
DTSTAMP:20260423T062233
CREATED:20230330T074046Z
LAST-MODIFIED:20230330T074046Z
UID:526-1680802200-1680807600@laane-nigula.eelk.ee
SUMMARY:Suure neljapäeva püha armulaua teenistus
DESCRIPTION:Jeesus ütleb: „Jumala leib on see\, kes tuleb taevast alla ja annab maailmale elu.“ Jh 6:33
URL:https://laane-nigula.eelk.ee/syndmus/suure-neljapaeva-puha-armulaua-teenistus/
CATEGORIES:Jumalateenistus
END:VEVENT
BEGIN:VEVENT
DTSTART;TZID=Europe/Tallinn:20230406T093000
DTEND;TZID=Europe/Tallinn:20230406T100000
DTSTAMP:20260423T062233
CREATED:20230330T073519Z
LAST-MODIFIED:20230330T073519Z
UID:506-1680773400-1680775200@laane-nigula.eelk.ee
SUMMARY:Hommikupalvus kogudusemajas
DESCRIPTION:
URL:https://laane-nigula.eelk.ee/syndmus/hommikupalvus-kogudusemajas-10/
CATEGORIES:Muu
END:VEVENT
BEGIN:VEVENT
DTSTART;TZID=Europe/Tallinn:20230405T100000
DTEND;TZID=Europe/Tallinn:20230405T160000
DTSTAMP:20260423T062233
CREATED:20230330T072604Z
LAST-MODIFIED:20230330T072604Z
UID:484-1680688800-1680710400@laane-nigula.eelk.ee
SUMMARY:Annetusmüük
DESCRIPTION:
URL:https://laane-nigula.eelk.ee/syndmus/annetusmuuk-14/
CATEGORIES:Annetusmüük
END:VEVENT
BEGIN:VEVENT
DTSTART;TZID=Europe/Tallinn:20230402T120000
DTEND;TZID=Europe/Tallinn:20230402T133000
DTSTAMP:20260423T062233
CREATED:20230330T073359Z
LAST-MODIFIED:20230330T073359Z
UID:504-1680436800-1680442200@laane-nigula.eelk.ee
SUMMARY:Jumalateenistus armulauaga
DESCRIPTION:Palmipuudepüha \n„Ole väga rõõmus\, Siioni tütar\, hõiska\, Jeruusalemma tütar! Vaata\, sulle tuleb sinu kuningas\, õiglane ja aitaja. Tema on alandlik ja sõidab eesli seljas\, emaeesli sälu seljas.” Sk 9:9 \nKirikukohv \nKristo Hüdsi reisimuljed
URL:https://laane-nigula.eelk.ee/syndmus/jumalateenistus-armulauaga-5/
CATEGORIES:Jumalateenistus
END:VEVENT
END:VCALENDAR