BEGIN:VCALENDAR
VERSION:2.0
PRODID:-//EELK Lääne-Nigula kogudus - ECPv6.15.20//NONSGML v1.0//EN
CALSCALE:GREGORIAN
METHOD:PUBLISH
X-WR-CALNAME:EELK Lääne-Nigula kogudus
X-ORIGINAL-URL:https://laane-nigula.eelk.ee
X-WR-CALDESC:Events for EELK Lääne-Nigula kogudus
REFRESH-INTERVAL;VALUE=DURATION:PT1H
X-Robots-Tag:noindex
X-PUBLISHED-TTL:PT1H
BEGIN:VTIMEZONE
TZID:Europe/Tallinn
BEGIN:DAYLIGHT
TZOFFSETFROM:+0200
TZOFFSETTO:+0300
TZNAME:EEST
DTSTART:20220327T010000
END:DAYLIGHT
BEGIN:STANDARD
TZOFFSETFROM:+0300
TZOFFSETTO:+0200
TZNAME:EET
DTSTART:20221030T010000
END:STANDARD
BEGIN:DAYLIGHT
TZOFFSETFROM:+0200
TZOFFSETTO:+0300
TZNAME:EEST
DTSTART:20230326T010000
END:DAYLIGHT
BEGIN:STANDARD
TZOFFSETFROM:+0300
TZOFFSETTO:+0200
TZNAME:EET
DTSTART:20231029T010000
END:STANDARD
BEGIN:DAYLIGHT
TZOFFSETFROM:+0200
TZOFFSETTO:+0300
TZNAME:EEST
DTSTART:20240331T010000
END:DAYLIGHT
BEGIN:STANDARD
TZOFFSETFROM:+0300
TZOFFSETTO:+0200
TZNAME:EET
DTSTART:20241027T010000
END:STANDARD
END:VTIMEZONE
BEGIN:VEVENT
DTSTART;TZID=Europe/Tallinn:20230603T100000
DTEND;TZID=Europe/Tallinn:20230603T140000
DTSTAMP:20260422T044409
CREATED:20230601T085700Z
LAST-MODIFIED:20230601T085700Z
UID:720-1685786400-1685800800@laane-nigula.eelk.ee
SUMMARY:Annetusmüük
DESCRIPTION:
URL:https://laane-nigula.eelk.ee/syndmus/annetusmuuk-44/
CATEGORIES:Annetusmüük
END:VEVENT
BEGIN:VEVENT
DTSTART;TZID=Europe/Tallinn:20230602T130000
DTEND;TZID=Europe/Tallinn:20230602T160000
DTSTAMP:20260422T044409
CREATED:20230601T084547Z
LAST-MODIFIED:20230601T084547Z
UID:676-1685710800-1685721600@laane-nigula.eelk.ee
SUMMARY:Teelistekirik
DESCRIPTION:http://www.teelistekirikud.ekn.ee/ \n 
URL:https://laane-nigula.eelk.ee/syndmus/teelistekirik/
CATEGORIES:Teeliste kirik
END:VEVENT
BEGIN:VEVENT
DTSTART;TZID=Europe/Tallinn:20230601T100000
DTEND;TZID=Europe/Tallinn:20230601T140000
DTSTAMP:20260422T044409
CREATED:20230601T085522Z
LAST-MODIFIED:20230601T085522Z
UID:710-1685613600-1685628000@laane-nigula.eelk.ee
SUMMARY:Annetusmüük
DESCRIPTION:
URL:https://laane-nigula.eelk.ee/syndmus/annetusmuuk-39/
CATEGORIES:Annetusmüük
END:VEVENT
BEGIN:VEVENT
DTSTART;TZID=Europe/Tallinn:20230601T093000
DTEND;TZID=Europe/Tallinn:20230601T100000
DTSTAMP:20260422T044409
CREATED:20230601T090612Z
LAST-MODIFIED:20230601T090612Z
UID:745-1685611800-1685613600@laane-nigula.eelk.ee
SUMMARY:Hommikupalvus kogudusemajas
DESCRIPTION:
URL:https://laane-nigula.eelk.ee/syndmus/hommikupalvus-kogudusemajas-18/
CATEGORIES:Palvus
END:VEVENT
BEGIN:VEVENT
DTSTART;TZID=Europe/Tallinn:20230531T100000
DTEND;TZID=Europe/Tallinn:20230531T160000
DTSTAMP:20260422T044409
CREATED:20230430T161957Z
LAST-MODIFIED:20230430T161957Z
UID:605-1685527200-1685548800@laane-nigula.eelk.ee
SUMMARY:Annetusmüük
DESCRIPTION:
URL:https://laane-nigula.eelk.ee/syndmus/annetusmuuk-34/
CATEGORIES:Annetusmüük
END:VEVENT
BEGIN:VEVENT
DTSTART;TZID=Europe/Tallinn:20230528T120000
DTEND;TZID=Europe/Tallinn:20230528T133000
DTSTAMP:20260422T044409
CREATED:20230430T162742Z
LAST-MODIFIED:20230430T162748Z
UID:633-1685275200-1685280600@laane-nigula.eelk.ee
SUMMARY:Jumalateenistus armulauaga
DESCRIPTION:Kirikukohv
URL:https://laane-nigula.eelk.ee/syndmus/jumalateenistus-armulauaga-11/
CATEGORIES:Jumalateenistus
END:VEVENT
BEGIN:VEVENT
DTSTART;TZID=Europe/Tallinn:20230527T100000
DTEND;TZID=Europe/Tallinn:20230527T140000
DTSTAMP:20260422T044409
CREATED:20230430T161940Z
LAST-MODIFIED:20230430T161940Z
UID:603-1685181600-1685196000@laane-nigula.eelk.ee
SUMMARY:Annetusmüük
DESCRIPTION:
URL:https://laane-nigula.eelk.ee/syndmus/annetusmuuk-33/
CATEGORIES:Annetusmüük
END:VEVENT
BEGIN:VEVENT
DTSTART;TZID=Europe/Tallinn:20230526T180000
DTEND;TZID=Europe/Tallinn:20230526T200000
DTSTAMP:20260422T044409
CREATED:20230430T162833Z
LAST-MODIFIED:20230430T162833Z
UID:636-1685124000-1685131200@laane-nigula.eelk.ee
SUMMARY:Töötegijate nõupidamine kogudusemajas
DESCRIPTION:
URL:https://laane-nigula.eelk.ee/syndmus/tootegijate-noupidamine-kogudusemajas-2/
CATEGORIES:Muu
END:VEVENT
BEGIN:VEVENT
DTSTART;TZID=Europe/Tallinn:20230526T163000
DTEND;TZID=Europe/Tallinn:20230526T200000
DTSTAMP:20260422T044409
CREATED:20230430T162630Z
LAST-MODIFIED:20230430T162630Z
UID:627-1685118600-1685131200@laane-nigula.eelk.ee
SUMMARY:Saun soovijatele
DESCRIPTION:
URL:https://laane-nigula.eelk.ee/syndmus/saun-soovijatele-2/
CATEGORIES:Muu
END:VEVENT
BEGIN:VEVENT
DTSTART;TZID=Europe/Tallinn:20230525T100000
DTEND;TZID=Europe/Tallinn:20230525T140000
DTSTAMP:20260422T044409
CREATED:20230430T161921Z
LAST-MODIFIED:20230430T161921Z
UID:601-1685008800-1685023200@laane-nigula.eelk.ee
SUMMARY:Annetusmüük
DESCRIPTION:
URL:https://laane-nigula.eelk.ee/syndmus/annetusmuuk-32/
CATEGORIES:Annetusmüük
END:VEVENT
BEGIN:VEVENT
DTSTART;TZID=Europe/Tallinn:20230525T093000
DTEND;TZID=Europe/Tallinn:20230525T100000
DTSTAMP:20260422T044409
CREATED:20230430T162505Z
LAST-MODIFIED:20230430T162505Z
UID:623-1685007000-1685008800@laane-nigula.eelk.ee
SUMMARY:Hommikupalvus kogudusemajas
DESCRIPTION:
URL:https://laane-nigula.eelk.ee/syndmus/hommikupalvus-kogudusemajas-17/
CATEGORIES:Palvus
END:VEVENT
BEGIN:VEVENT
DTSTART;TZID=Europe/Tallinn:20230524T100000
DTEND;TZID=Europe/Tallinn:20230524T160000
DTSTAMP:20260422T044409
CREATED:20230430T161903Z
LAST-MODIFIED:20230430T161903Z
UID:599-1684922400-1684944000@laane-nigula.eelk.ee
SUMMARY:Annetusmüük
DESCRIPTION:
URL:https://laane-nigula.eelk.ee/syndmus/annetusmuuk-31/
CATEGORIES:Annetusmüük
END:VEVENT
BEGIN:VEVENT
DTSTART;TZID=Europe/Tallinn:20230523T190000
DTEND;TZID=Europe/Tallinn:20230523T190000
DTSTAMP:20260422T044409
CREATED:20230521T182019Z
LAST-MODIFIED:20230521T182051Z
UID:668-1684868400-1684868400@laane-nigula.eelk.ee
SUMMARY:Pekka Simojoki muusika ja sõna õhtu Haapsalu Jaani kirikus
DESCRIPTION:
URL:https://laane-nigula.eelk.ee/syndmus/pekka-simojoki-muusika-ja-sona-ohtu/
CATEGORIES:Kontsert
ATTACH;FMTTYPE=image/jpeg:https://laane-nigula.eelk.ee/wp-content/uploads/2023/05/simojoki-kontsert.jpg
END:VEVENT
BEGIN:VEVENT
DTSTART;TZID=Europe/Tallinn:20230521T120000
DTEND;TZID=Europe/Tallinn:20230521T133000
DTSTAMP:20260422T044409
CREATED:20230430T162728Z
LAST-MODIFIED:20230519T185823Z
UID:631-1684670400-1684675800@laane-nigula.eelk.ee
SUMMARY:Jumalateenistus armulauaga
DESCRIPTION:Pühapäeval on õp Leevi Reinaru ja Helle Reinaru viimane teenimine õpetaja ja organistina. Pärast jumalateenistust on kirikukohv.
URL:https://laane-nigula.eelk.ee/syndmus/jumalateenistus-armulauaga-10/
CATEGORIES:Jumalateenistus
END:VEVENT
BEGIN:VEVENT
DTSTART;TZID=Europe/Tallinn:20230520T100000
DTEND;TZID=Europe/Tallinn:20230520T140000
DTSTAMP:20260422T044409
CREATED:20230430T163218Z
LAST-MODIFIED:20240412T181340Z
UID:644-1684576800-1684591200@laane-nigula.eelk.ee
SUMMARY:Talgupäev - kivikoristus
DESCRIPTION:KELL 10.00 – 14.00\nOodatud kõik\, kellel jõudu ja sitkust osaleda kivide koristus talgutel. \nVõimalusel palume kaasa võtta käru. \n„Me teame\, et neile\, kes Jumalat armastavad\, laseb Jumal kõik tulla heaks-neile\, kes Tema kavatsuse kohaselt kutsutud.“ Rm 8:28
URL:https://laane-nigula.eelk.ee/syndmus/talgupaev-kivikoristus/
CATEGORIES:Talgupäev
ATTACH;FMTTYPE=image/jpeg:https://laane-nigula.eelk.ee/wp-content/uploads/2023/04/kivid.jpg
END:VEVENT
BEGIN:VEVENT
DTSTART;TZID=Europe/Tallinn:20230520T100000
DTEND;TZID=Europe/Tallinn:20230520T140000
DTSTAMP:20260422T044409
CREATED:20230430T161838Z
LAST-MODIFIED:20230430T161838Z
UID:597-1684576800-1684591200@laane-nigula.eelk.ee
SUMMARY:Annetusmüük
DESCRIPTION:
URL:https://laane-nigula.eelk.ee/syndmus/annetusmuuk-30/
CATEGORIES:Annetusmüük
END:VEVENT
BEGIN:VEVENT
DTSTART;TZID=Europe/Tallinn:20230518T110000
DTEND;TZID=Europe/Tallinn:20230518T170000
DTSTAMP:20260422T044409
CREATED:20230430T163140Z
LAST-MODIFIED:20230430T163140Z
UID:642-1684407600-1684429200@laane-nigula.eelk.ee
SUMMARY:Sinod Kullamaal
DESCRIPTION:
URL:https://laane-nigula.eelk.ee/syndmus/sinod-kullamaal/
CATEGORIES:Muu
END:VEVENT
BEGIN:VEVENT
DTSTART;TZID=Europe/Tallinn:20230518T100000
DTEND;TZID=Europe/Tallinn:20230518T140000
DTSTAMP:20260422T044409
CREATED:20230430T161810Z
LAST-MODIFIED:20230430T161822Z
UID:595-1684404000-1684418400@laane-nigula.eelk.ee
SUMMARY:Annetusmüük
DESCRIPTION:
URL:https://laane-nigula.eelk.ee/syndmus/annetusmuuk-29/
CATEGORIES:Annetusmüük
END:VEVENT
BEGIN:VEVENT
DTSTART;TZID=Europe/Tallinn:20230518T093000
DTEND;TZID=Europe/Tallinn:20230518T100000
DTSTAMP:20260422T044409
CREATED:20230430T162405Z
LAST-MODIFIED:20230430T162420Z
UID:621-1684402200-1684404000@laane-nigula.eelk.ee
SUMMARY:Hommikupalvus kogudusemajas
DESCRIPTION:
URL:https://laane-nigula.eelk.ee/syndmus/hommikupalvus-kogudusemajas-16/
CATEGORIES:Palvus
END:VEVENT
BEGIN:VEVENT
DTSTART;TZID=Europe/Tallinn:20230517T100000
DTEND;TZID=Europe/Tallinn:20230517T160000
DTSTAMP:20260422T044409
CREATED:20230430T161751Z
LAST-MODIFIED:20230430T161751Z
UID:593-1684317600-1684339200@laane-nigula.eelk.ee
SUMMARY:Annetusmüük
DESCRIPTION:
URL:https://laane-nigula.eelk.ee/syndmus/annetusmuuk-28/
CATEGORIES:Annetusmüük
END:VEVENT
BEGIN:VEVENT
DTSTART;TZID=Europe/Tallinn:20230514T120000
DTEND;TZID=Europe/Tallinn:20230514T133000
DTSTAMP:20260422T044409
CREATED:20230430T162706Z
LAST-MODIFIED:20230430T162706Z
UID:629-1684065600-1684071000@laane-nigula.eelk.ee
SUMMARY:Jumalateenistus armulauaga
DESCRIPTION:Emadepäev
URL:https://laane-nigula.eelk.ee/syndmus/jumalateenistus-armulauaga-9/
CATEGORIES:Jumalateenistus
END:VEVENT
BEGIN:VEVENT
DTSTART;TZID=Europe/Tallinn:20230514T120000
DTEND;TZID=Europe/Tallinn:20230514T120000
DTSTAMP:20260422T044409
CREATED:20230430T162214Z
LAST-MODIFIED:20230430T162214Z
UID:614-1684065600-1684065600@laane-nigula.eelk.ee
SUMMARY:Pühapäevakooli lõpupidu
DESCRIPTION:
URL:https://laane-nigula.eelk.ee/syndmus/puhapaevakooli-lopupidu/
CATEGORIES:Lastetöö
END:VEVENT
BEGIN:VEVENT
DTSTART;TZID=Europe/Tallinn:20230513T100000
DTEND;TZID=Europe/Tallinn:20230513T140000
DTSTAMP:20260422T044409
CREATED:20230430T161720Z
LAST-MODIFIED:20230430T161720Z
UID:591-1683972000-1683986400@laane-nigula.eelk.ee
SUMMARY:Annetusmüük
DESCRIPTION:
URL:https://laane-nigula.eelk.ee/syndmus/annetusmuuk-27/
CATEGORIES:Annetusmüük
END:VEVENT
BEGIN:VEVENT
DTSTART;TZID=Europe/Tallinn:20230513T093000
DTEND;TZID=Europe/Tallinn:20230513T093000
DTSTAMP:20260422T044409
CREATED:20230430T163107Z
LAST-MODIFIED:20230430T163107Z
UID:640-1683970200-1683970200@laane-nigula.eelk.ee
SUMMARY:Koguperefestival Ristil
DESCRIPTION:Kogupere festival Ristil\, koguduste vaheline jalgpalliturniir. Soovist osaleda anna teada Agnele
URL:https://laane-nigula.eelk.ee/syndmus/koguperefestival-ristil/
CATEGORIES:Muu
END:VEVENT
BEGIN:VEVENT
DTSTART;TZID=Europe/Tallinn:20230512T180000
DTEND;TZID=Europe/Tallinn:20230512T200000
DTSTAMP:20260422T044409
CREATED:20230430T163013Z
LAST-MODIFIED:20230430T163018Z
UID:638-1683914400-1683921600@laane-nigula.eelk.ee
SUMMARY:Piiblitund
DESCRIPTION:Tunni viib läbi Tapani Vähäkangas\, ta on misjorär ja Albaania Luterliku kiriku õpetaja. \nTeema: “Südamekõne Jumalaga“
URL:https://laane-nigula.eelk.ee/syndmus/piiblitund-2/
CATEGORIES:Piiblitund
END:VEVENT
BEGIN:VEVENT
DTSTART;TZID=Europe/Tallinn:20230512T163000
DTEND;TZID=Europe/Tallinn:20230512T200000
DTSTAMP:20260422T044409
CREATED:20230430T162559Z
LAST-MODIFIED:20230430T162559Z
UID:625-1683909000-1683921600@laane-nigula.eelk.ee
SUMMARY:Saun soovijatele
DESCRIPTION:
URL:https://laane-nigula.eelk.ee/syndmus/saun-soovijatele/
CATEGORIES:Muu
END:VEVENT
BEGIN:VEVENT
DTSTART;TZID=Europe/Tallinn:20230511T180000
DTEND;TZID=Europe/Tallinn:20230511T180000
DTSTAMP:20260422T044409
CREATED:20230403T125507Z
LAST-MODIFIED:20230430T161238Z
UID:566-1683828000-1683828000@laane-nigula.eelk.ee
SUMMARY:Palveõhtu
DESCRIPTION:Jutlustab Haapsalu Baptistikoguduse pastor Mihkel Nõlvak
URL:https://laane-nigula.eelk.ee/syndmus/palveohtu-2/
CATEGORIES:Muu
END:VEVENT
BEGIN:VEVENT
DTSTART;TZID=Europe/Tallinn:20230511T100000
DTEND;TZID=Europe/Tallinn:20230511T140000
DTSTAMP:20260422T044409
CREATED:20230430T161657Z
LAST-MODIFIED:20230430T161657Z
UID:589-1683799200-1683813600@laane-nigula.eelk.ee
SUMMARY:Annetusmüük
DESCRIPTION:
URL:https://laane-nigula.eelk.ee/syndmus/annetusmuuk-26/
CATEGORIES:Annetusmüük
END:VEVENT
BEGIN:VEVENT
DTSTART;TZID=Europe/Tallinn:20230511T093000
DTEND;TZID=Europe/Tallinn:20230511T100000
DTSTAMP:20260422T044409
CREATED:20230430T162347Z
LAST-MODIFIED:20230430T162439Z
UID:619-1683797400-1683799200@laane-nigula.eelk.ee
SUMMARY:Hommikupalvus kogudusemajas
DESCRIPTION:
URL:https://laane-nigula.eelk.ee/syndmus/hommikupalvus-kogudusemajas-15/
CATEGORIES:Palvus
END:VEVENT
BEGIN:VEVENT
DTSTART;TZID=Europe/Tallinn:20230510T100000
DTEND;TZID=Europe/Tallinn:20230510T160000
DTSTAMP:20260422T044409
CREATED:20230430T161632Z
LAST-MODIFIED:20230430T161632Z
UID:587-1683712800-1683734400@laane-nigula.eelk.ee
SUMMARY:Annetusmüük
DESCRIPTION:
URL:https://laane-nigula.eelk.ee/syndmus/annetusmuuk-25/
CATEGORIES:Annetusmüük
END:VEVENT
END:VCALENDAR