BEGIN:VCALENDAR
VERSION:2.0
PRODID:-//EELK Lääne-Nigula kogudus - ECPv6.15.20//NONSGML v1.0//EN
CALSCALE:GREGORIAN
METHOD:PUBLISH
X-WR-CALNAME:EELK Lääne-Nigula kogudus
X-ORIGINAL-URL:https://laane-nigula.eelk.ee
X-WR-CALDESC:Events for EELK Lääne-Nigula kogudus
REFRESH-INTERVAL;VALUE=DURATION:PT1H
X-Robots-Tag:noindex
X-PUBLISHED-TTL:PT1H
BEGIN:VTIMEZONE
TZID:Europe/Tallinn
BEGIN:DAYLIGHT
TZOFFSETFROM:+0200
TZOFFSETTO:+0300
TZNAME:EEST
DTSTART:20240331T010000
END:DAYLIGHT
BEGIN:STANDARD
TZOFFSETFROM:+0300
TZOFFSETTO:+0200
TZNAME:EET
DTSTART:20241027T010000
END:STANDARD
BEGIN:DAYLIGHT
TZOFFSETFROM:+0200
TZOFFSETTO:+0300
TZNAME:EEST
DTSTART:20250330T010000
END:DAYLIGHT
BEGIN:STANDARD
TZOFFSETFROM:+0300
TZOFFSETTO:+0200
TZNAME:EET
DTSTART:20251026T010000
END:STANDARD
BEGIN:DAYLIGHT
TZOFFSETFROM:+0200
TZOFFSETTO:+0300
TZNAME:EEST
DTSTART:20260329T010000
END:DAYLIGHT
BEGIN:STANDARD
TZOFFSETFROM:+0300
TZOFFSETTO:+0200
TZNAME:EET
DTSTART:20261025T010000
END:STANDARD
END:VTIMEZONE
BEGIN:VEVENT
DTSTART;TZID=Europe/Tallinn:20251005T000000
DTEND;TZID=Europe/Tallinn:20251005T000000
DTSTAMP:20260419T162632
CREATED:20250929T170222Z
LAST-MODIFIED:20250929T170222Z
UID:3114-1759622400-1759622400@laane-nigula.eelk.ee
SUMMARY:Külalised Hageri kogudusest
DESCRIPTION:
URL:https://laane-nigula.eelk.ee/syndmus/kulalised-hageri-kogudusest/
CATEGORIES:Sõpruskogudused
END:VEVENT
BEGIN:VEVENT
DTSTART;TZID=Europe/Tallinn:20251005T140000
DTEND;TZID=Europe/Tallinn:20251005T153000
DTSTAMP:20260419T162632
CREATED:20250929T170740Z
LAST-MODIFIED:20250929T170740Z
UID:3132-1759672800-1759678200@laane-nigula.eelk.ee
SUMMARY:Ühine lõunasöök koos külalistega
DESCRIPTION:
URL:https://laane-nigula.eelk.ee/syndmus/uhine-lounasook-koos-kulalistega/
CATEGORIES:Sõpruskogudused
END:VEVENT
BEGIN:VEVENT
DTSTART;VALUE=DATE:20251017
DTEND;VALUE=DATE:20251022
DTSTAMP:20260419T162632
CREATED:20250929T172434Z
LAST-MODIFIED:20250929T172434Z
UID:3196-1760659200-1761091199@laane-nigula.eelk.ee
SUMMARY:Raahe koguduse noored pastoraadis
DESCRIPTION:
URL:https://laane-nigula.eelk.ee/syndmus/raahe-koguduse-noored-pastoraadis/
CATEGORIES:Sõpruskogudused
END:VEVENT
END:VCALENDAR