BEGIN:VCALENDAR
VERSION:2.0
PRODID:-//EELK Lääne-Nigula kogudus - ECPv6.15.20//NONSGML v1.0//EN
CALSCALE:GREGORIAN
METHOD:PUBLISH
X-ORIGINAL-URL:https://laane-nigula.eelk.ee
X-WR-CALDESC:Events for EELK Lääne-Nigula kogudus
REFRESH-INTERVAL;VALUE=DURATION:PT1H
X-Robots-Tag:noindex
X-PUBLISHED-TTL:PT1H
BEGIN:VTIMEZONE
TZID:Europe/Tallinn
BEGIN:DAYLIGHT
TZOFFSETFROM:+0200
TZOFFSETTO:+0300
TZNAME:EEST
DTSTART:20230326T010000
END:DAYLIGHT
BEGIN:STANDARD
TZOFFSETFROM:+0300
TZOFFSETTO:+0200
TZNAME:EET
DTSTART:20231029T010000
END:STANDARD
BEGIN:DAYLIGHT
TZOFFSETFROM:+0200
TZOFFSETTO:+0300
TZNAME:EEST
DTSTART:20240331T010000
END:DAYLIGHT
BEGIN:STANDARD
TZOFFSETFROM:+0300
TZOFFSETTO:+0200
TZNAME:EET
DTSTART:20241027T010000
END:STANDARD
BEGIN:DAYLIGHT
TZOFFSETFROM:+0200
TZOFFSETTO:+0300
TZNAME:EEST
DTSTART:20250330T010000
END:DAYLIGHT
BEGIN:STANDARD
TZOFFSETFROM:+0300
TZOFFSETTO:+0200
TZNAME:EET
DTSTART:20251026T010000
END:STANDARD
END:VTIMEZONE
BEGIN:VEVENT
DTSTART;TZID=Europe/Tallinn:20240830T170000
DTEND;TZID=Europe/Tallinn:20240830T190000
DTSTAMP:20260420T085622
CREATED:20240807T151427Z
LAST-MODIFIED:20240807T151458Z
UID:2064-1725037200-1725044400@laane-nigula.eelk.ee
SUMMARY:Piiblitund: tänulikkus
DESCRIPTION:Tunni viib läbi „Rahu Sõna“ misjonär KEN HELMES \n„Õige jagab välja rikkalikult ja annab vaestele; tema õigus püsib ikka\, tema sarv on kõrgel au sees.“\nPs 112 : 9
URL:https://laane-nigula.eelk.ee/syndmus/piiblitund-tanulikkus/
CATEGORIES:Piiblitund
ATTACH;FMTTYPE=image/jpeg:https://laane-nigula.eelk.ee/wp-content/uploads/2024/08/DSC_2622_2-scaled-e1723043778123.jpg
END:VEVENT
END:VCALENDAR