BEGIN:VCALENDAR
VERSION:2.0
PRODID:-//EELK Lääne-Nigula kogudus - ECPv6.15.20//NONSGML v1.0//EN
CALSCALE:GREGORIAN
METHOD:PUBLISH
X-WR-CALNAME:EELK Lääne-Nigula kogudus
X-ORIGINAL-URL:https://laane-nigula.eelk.ee
X-WR-CALDESC:Events for EELK Lääne-Nigula kogudus
REFRESH-INTERVAL;VALUE=DURATION:PT1H
X-Robots-Tag:noindex
X-PUBLISHED-TTL:PT1H
BEGIN:VTIMEZONE
TZID:Europe/Tallinn
BEGIN:DAYLIGHT
TZOFFSETFROM:+0200
TZOFFSETTO:+0300
TZNAME:EEST
DTSTART:20220327T010000
END:DAYLIGHT
BEGIN:STANDARD
TZOFFSETFROM:+0300
TZOFFSETTO:+0200
TZNAME:EET
DTSTART:20221030T010000
END:STANDARD
BEGIN:DAYLIGHT
TZOFFSETFROM:+0200
TZOFFSETTO:+0300
TZNAME:EEST
DTSTART:20230326T010000
END:DAYLIGHT
BEGIN:STANDARD
TZOFFSETFROM:+0300
TZOFFSETTO:+0200
TZNAME:EET
DTSTART:20231029T010000
END:STANDARD
BEGIN:DAYLIGHT
TZOFFSETFROM:+0200
TZOFFSETTO:+0300
TZNAME:EEST
DTSTART:20240331T010000
END:DAYLIGHT
BEGIN:STANDARD
TZOFFSETFROM:+0300
TZOFFSETTO:+0200
TZNAME:EET
DTSTART:20241027T010000
END:STANDARD
END:VTIMEZONE
BEGIN:VEVENT
DTSTART;TZID=Europe/Tallinn:20231110T150000
DTEND;TZID=Europe/Tallinn:20231110T170000
DTSTAMP:20260420T223518
CREATED:20231018T152326Z
LAST-MODIFIED:20231018T152326Z
UID:1113-1699628400-1699635600@laane-nigula.eelk.ee
SUMMARY:Piiblitund: Kahe riigi kodanik
DESCRIPTION:Piiblitund  10.11  kl. 16.00  kogudusemajas \n„Sinu Seaduse armastajail on suur rahu ja nad ei komista“  Ps 119:165 \nKülaliseks  Tapani Vähäkangas \nTeema: Kahe riigi kodanik
URL:https://laane-nigula.eelk.ee/syndmus/piiblitund-kahe-riigi-kodanik/
CATEGORIES:Piiblitund
ATTACH;FMTTYPE=image/jpeg:https://laane-nigula.eelk.ee/wp-content/uploads/2023/10/piiblitund_10.11.jpg
END:VEVENT
END:VCALENDAR