BEGIN:VCALENDAR
VERSION:2.0
PRODID:-//EELK Lääne-Nigula kogudus - ECPv6.15.20//NONSGML v1.0//EN
CALSCALE:GREGORIAN
METHOD:PUBLISH
X-WR-CALNAME:EELK Lääne-Nigula kogudus
X-ORIGINAL-URL:https://laane-nigula.eelk.ee
X-WR-CALDESC:Events for EELK Lääne-Nigula kogudus
REFRESH-INTERVAL;VALUE=DURATION:PT1H
X-Robots-Tag:noindex
X-PUBLISHED-TTL:PT1H
BEGIN:VTIMEZONE
TZID:Europe/Tallinn
BEGIN:DAYLIGHT
TZOFFSETFROM:+0200
TZOFFSETTO:+0300
TZNAME:EEST
DTSTART:20220327T010000
END:DAYLIGHT
BEGIN:STANDARD
TZOFFSETFROM:+0300
TZOFFSETTO:+0200
TZNAME:EET
DTSTART:20221030T010000
END:STANDARD
BEGIN:DAYLIGHT
TZOFFSETFROM:+0200
TZOFFSETTO:+0300
TZNAME:EEST
DTSTART:20230326T010000
END:DAYLIGHT
BEGIN:STANDARD
TZOFFSETFROM:+0300
TZOFFSETTO:+0200
TZNAME:EET
DTSTART:20231029T010000
END:STANDARD
BEGIN:DAYLIGHT
TZOFFSETFROM:+0200
TZOFFSETTO:+0300
TZNAME:EEST
DTSTART:20240331T010000
END:DAYLIGHT
BEGIN:STANDARD
TZOFFSETFROM:+0300
TZOFFSETTO:+0200
TZNAME:EET
DTSTART:20241027T010000
END:STANDARD
END:VTIMEZONE
BEGIN:VEVENT
DTSTART;TZID=Europe/Tallinn:20231130T150000
DTEND;TZID=Europe/Tallinn:20231130T160000
DTSTAMP:20260419T175219
CREATED:20231029T103547Z
LAST-MODIFIED:20231029T103547Z
UID:1172-1701356400-1701360000@laane-nigula.eelk.ee
SUMMARY:Kogudusekool
DESCRIPTION:
URL:https://laane-nigula.eelk.ee/syndmus/kogudusekool-4/
CATEGORIES:Kogudusekool
END:VEVENT
BEGIN:VEVENT
DTSTART;TZID=Europe/Tallinn:20231116T150000
DTEND;TZID=Europe/Tallinn:20231116T160000
DTSTAMP:20260419T175219
CREATED:20231029T103523Z
LAST-MODIFIED:20231029T103523Z
UID:1170-1700146800-1700150400@laane-nigula.eelk.ee
SUMMARY:Kogudusekool
DESCRIPTION:
URL:https://laane-nigula.eelk.ee/syndmus/kogudusekool-3/
CATEGORIES:Kogudusekool
END:VEVENT
BEGIN:VEVENT
DTSTART;TZID=Europe/Tallinn:20231102T150000
DTEND;TZID=Europe/Tallinn:20231102T160000
DTSTAMP:20260419T175219
CREATED:20231029T103457Z
LAST-MODIFIED:20231029T103457Z
UID:1168-1698937200-1698940800@laane-nigula.eelk.ee
SUMMARY:Kogudusekool „Luukas jutustab Jeesusest“
DESCRIPTION:
URL:https://laane-nigula.eelk.ee/syndmus/kogudusekool-luukas-jutustab-jeesusest/
CATEGORIES:Kogudusekool
END:VEVENT
BEGIN:VEVENT
DTSTART;TZID=Europe/Tallinn:20231019T160000
DTEND;TZID=Europe/Tallinn:20231019T170000
DTSTAMP:20260419T175219
CREATED:20231005T110211Z
LAST-MODIFIED:20231005T110211Z
UID:1102-1697731200-1697734800@laane-nigula.eelk.ee
SUMMARY:Kogudusekool
DESCRIPTION:„Luukas jutustab Jeesusest“
URL:https://laane-nigula.eelk.ee/syndmus/kogudusekool-2/
CATEGORIES:Kogudusekool
END:VEVENT
BEGIN:VEVENT
DTSTART;TZID=Europe/Tallinn:20230413T153000
DTEND;TZID=Europe/Tallinn:20230413T153000
DTSTAMP:20260419T175219
CREATED:20230330T074448Z
LAST-MODIFIED:20230330T074448Z
UID:537-1681399800-1681399800@laane-nigula.eelk.ee
SUMMARY:Kogudusekool
DESCRIPTION:„Lukas jutustab Jeesusest“
URL:https://laane-nigula.eelk.ee/syndmus/kogudusekool/
CATEGORIES:Kogudusekool
END:VEVENT
BEGIN:VEVENT
DTSTART;TZID=Europe/Tallinn:20230330T153000
DTEND;TZID=Europe/Tallinn:20230330T153000
DTSTAMP:20260419T175219
CREATED:20230129T170505Z
LAST-MODIFIED:20230129T170505Z
UID:290-1680190200-1680190200@laane-nigula.eelk.ee
SUMMARY:Kogudusekool „Lukas jutustab Jeesusest“
DESCRIPTION:
URL:https://laane-nigula.eelk.ee/syndmus/kogudusekool-lukas-jutustab-jeesusest-4/
CATEGORIES:Kogudusekool
END:VEVENT
BEGIN:VEVENT
DTSTART;TZID=Europe/Tallinn:20230302T143000
DTEND;TZID=Europe/Tallinn:20230302T143000
DTSTAMP:20260419T175219
CREATED:20230129T170418Z
LAST-MODIFIED:20230129T170418Z
UID:286-1677767400-1677767400@laane-nigula.eelk.ee
SUMMARY:Kogudusekool „Lukas jutustab Jeesusest“
DESCRIPTION:
URL:https://laane-nigula.eelk.ee/syndmus/kogudusekool-lukas-jutustab-jeesusest-2/
CATEGORIES:Kogudusekool
END:VEVENT
BEGIN:VEVENT
DTSTART;TZID=Europe/Tallinn:20230216T143000
DTEND;TZID=Europe/Tallinn:20230216T143000
DTSTAMP:20260419T175219
CREATED:20230129T150453Z
LAST-MODIFIED:20230205T200047Z
UID:228-1676557800-1676557800@laane-nigula.eelk.ee
SUMMARY:Kogudusekool „Lukas jutustab Jeesusest“
DESCRIPTION:Viib läbi Leevi Reinaru
URL:https://laane-nigula.eelk.ee/syndmus/kogudusekool-lukas-jutustab-jeesusest/
CATEGORIES:Kogudusekool
END:VEVENT
BEGIN:VEVENT
DTSTART;TZID=Europe/Tallinn:20230202T143000
DTEND;TZID=Europe/Tallinn:20230202T143000
DTSTAMP:20260419T175219
CREATED:20230129T145712Z
LAST-MODIFIED:20230129T170237Z
UID:212-1675348200-1675348200@laane-nigula.eelk.ee
SUMMARY:Kogudusekool „Lukas jutustab Jeesusest“\, kogudusemajas
DESCRIPTION:
URL:https://laane-nigula.eelk.ee/syndmus/kogudusekool-lukas-jutustab-jeesusest-kogudusemajas/
LOCATION:EELK Lääne-Nigula kirik\, Nigula tee 1\, Läänemaa\, Eesti
CATEGORIES:Kogudusekool
END:VEVENT
END:VCALENDAR