BEGIN:VCALENDAR
VERSION:2.0
PRODID:-//EELK Lääne-Nigula kogudus - ECPv6.15.20//NONSGML v1.0//EN
CALSCALE:GREGORIAN
METHOD:PUBLISH
X-WR-CALNAME:EELK Lääne-Nigula kogudus
X-ORIGINAL-URL:https://laane-nigula.eelk.ee
X-WR-CALDESC:Events for EELK Lääne-Nigula kogudus
REFRESH-INTERVAL;VALUE=DURATION:PT1H
X-Robots-Tag:noindex
X-PUBLISHED-TTL:PT1H
BEGIN:VTIMEZONE
TZID:Europe/Tallinn
BEGIN:DAYLIGHT
TZOFFSETFROM:+0200
TZOFFSETTO:+0300
TZNAME:EEST
DTSTART:20230326T010000
END:DAYLIGHT
BEGIN:STANDARD
TZOFFSETFROM:+0300
TZOFFSETTO:+0200
TZNAME:EET
DTSTART:20231029T010000
END:STANDARD
BEGIN:DAYLIGHT
TZOFFSETFROM:+0200
TZOFFSETTO:+0300
TZNAME:EEST
DTSTART:20240331T010000
END:DAYLIGHT
BEGIN:STANDARD
TZOFFSETFROM:+0300
TZOFFSETTO:+0200
TZNAME:EET
DTSTART:20241027T010000
END:STANDARD
BEGIN:DAYLIGHT
TZOFFSETFROM:+0200
TZOFFSETTO:+0300
TZNAME:EEST
DTSTART:20250330T010000
END:DAYLIGHT
BEGIN:STANDARD
TZOFFSETFROM:+0300
TZOFFSETTO:+0200
TZNAME:EET
DTSTART:20251026T010000
END:STANDARD
END:VTIMEZONE
BEGIN:VEVENT
DTSTART;TZID=Europe/Tallinn:20240307T150000
DTEND;TZID=Europe/Tallinn:20240307T160000
DTSTAMP:20260420T230914
CREATED:20231228T122128Z
LAST-MODIFIED:20231228T122128Z
UID:1480-1709823600-1709827200@laane-nigula.eelk.ee
SUMMARY:Kogudusekool „Luukas jutustab Jeesusest“
DESCRIPTION:
URL:https://laane-nigula.eelk.ee/syndmus/kogudusekool-luukas-jutustab-jeesusest-5/
CATEGORIES:Kogudusekool
END:VEVENT
BEGIN:VEVENT
DTSTART;TZID=Europe/Tallinn:20240321T150000
DTEND;TZID=Europe/Tallinn:20240321T160000
DTSTAMP:20260420T230914
CREATED:20231228T122145Z
LAST-MODIFIED:20240301T184010Z
UID:1482-1711033200-1711036800@laane-nigula.eelk.ee
SUMMARY:Kogudusekool
DESCRIPTION:
URL:https://laane-nigula.eelk.ee/syndmus/kogudusekool-luukas-jutustab-jeesusest-6/
CATEGORIES:Kogudusekool
END:VEVENT
END:VCALENDAR