BEGIN:VCALENDAR
VERSION:2.0
PRODID:-//EELK Lääne-Nigula kogudus - ECPv6.15.20//NONSGML v1.0//EN
CALSCALE:GREGORIAN
METHOD:PUBLISH
X-ORIGINAL-URL:https://laane-nigula.eelk.ee
X-WR-CALDESC:Events for EELK Lääne-Nigula kogudus
REFRESH-INTERVAL;VALUE=DURATION:PT1H
X-Robots-Tag:noindex
X-PUBLISHED-TTL:PT1H
BEGIN:VTIMEZONE
TZID:Europe/Tallinn
BEGIN:DAYLIGHT
TZOFFSETFROM:+0200
TZOFFSETTO:+0300
TZNAME:EEST
DTSTART:20220327T010000
END:DAYLIGHT
BEGIN:STANDARD
TZOFFSETFROM:+0300
TZOFFSETTO:+0200
TZNAME:EET
DTSTART:20221030T010000
END:STANDARD
BEGIN:DAYLIGHT
TZOFFSETFROM:+0200
TZOFFSETTO:+0300
TZNAME:EEST
DTSTART:20230326T010000
END:DAYLIGHT
BEGIN:STANDARD
TZOFFSETFROM:+0300
TZOFFSETTO:+0200
TZNAME:EET
DTSTART:20231029T010000
END:STANDARD
BEGIN:DAYLIGHT
TZOFFSETFROM:+0200
TZOFFSETTO:+0300
TZNAME:EEST
DTSTART:20240331T010000
END:DAYLIGHT
BEGIN:STANDARD
TZOFFSETFROM:+0300
TZOFFSETTO:+0200
TZNAME:EET
DTSTART:20241027T010000
END:STANDARD
END:VTIMEZONE
BEGIN:VEVENT
DTSTART;TZID=Europe/Tallinn:20230607T100000
DTEND;TZID=Europe/Tallinn:20230607T160000
DTSTAMP:20260419T225124
CREATED:20230601T085319Z
LAST-MODIFIED:20230601T085319Z
UID:702-1686132000-1686153600@laane-nigula.eelk.ee
SUMMARY:Annetusmüük
DESCRIPTION:
URL:https://laane-nigula.eelk.ee/syndmus/annetusmuuk-35/
CATEGORIES:Annetusmüük
END:VEVENT
BEGIN:VEVENT
DTSTART;TZID=Europe/Tallinn:20230608T100000
DTEND;TZID=Europe/Tallinn:20230608T140000
DTSTAMP:20260419T225124
CREATED:20230601T085535Z
LAST-MODIFIED:20230601T085535Z
UID:712-1686218400-1686232800@laane-nigula.eelk.ee
SUMMARY:Annetusmüük
DESCRIPTION:
URL:https://laane-nigula.eelk.ee/syndmus/annetusmuuk-40/
CATEGORIES:Annetusmüük
END:VEVENT
BEGIN:VEVENT
DTSTART;TZID=Europe/Tallinn:20230610T100000
DTEND;TZID=Europe/Tallinn:20230610T140000
DTSTAMP:20260419T225124
CREATED:20230601T085717Z
LAST-MODIFIED:20230601T085717Z
UID:722-1686391200-1686405600@laane-nigula.eelk.ee
SUMMARY:Annetusmüük
DESCRIPTION:
URL:https://laane-nigula.eelk.ee/syndmus/annetusmuuk-45/
CATEGORIES:Annetusmüük
END:VEVENT
BEGIN:VEVENT
DTSTART;TZID=Europe/Tallinn:20230614T100000
DTEND;TZID=Europe/Tallinn:20230614T160000
DTSTAMP:20260419T225124
CREATED:20230601T085344Z
LAST-MODIFIED:20230601T085344Z
UID:704-1686736800-1686758400@laane-nigula.eelk.ee
SUMMARY:Annetusmüük
DESCRIPTION:
URL:https://laane-nigula.eelk.ee/syndmus/annetusmuuk-36/
CATEGORIES:Annetusmüük
END:VEVENT
BEGIN:VEVENT
DTSTART;TZID=Europe/Tallinn:20230615T100000
DTEND;TZID=Europe/Tallinn:20230615T140000
DTSTAMP:20260419T225124
CREATED:20230601T085547Z
LAST-MODIFIED:20230601T085547Z
UID:714-1686823200-1686837600@laane-nigula.eelk.ee
SUMMARY:Annetusmüük
DESCRIPTION:
URL:https://laane-nigula.eelk.ee/syndmus/annetusmuuk-41/
CATEGORIES:Annetusmüük
END:VEVENT
BEGIN:VEVENT
DTSTART;TZID=Europe/Tallinn:20230617T100000
DTEND;TZID=Europe/Tallinn:20230617T140000
DTSTAMP:20260419T225124
CREATED:20230601T085728Z
LAST-MODIFIED:20230601T085728Z
UID:724-1686996000-1687010400@laane-nigula.eelk.ee
SUMMARY:Annetusmüük
DESCRIPTION:
URL:https://laane-nigula.eelk.ee/syndmus/annetusmuuk-46/
CATEGORIES:Annetusmüük
END:VEVENT
BEGIN:VEVENT
DTSTART;TZID=Europe/Tallinn:20230621T100000
DTEND;TZID=Europe/Tallinn:20230621T160000
DTSTAMP:20260419T225124
CREATED:20230601T085400Z
LAST-MODIFIED:20230601T085400Z
UID:706-1687341600-1687363200@laane-nigula.eelk.ee
SUMMARY:Annetusmüük
DESCRIPTION:
URL:https://laane-nigula.eelk.ee/syndmus/annetusmuuk-37/
CATEGORIES:Annetusmüük
END:VEVENT
BEGIN:VEVENT
DTSTART;TZID=Europe/Tallinn:20230622T100000
DTEND;TZID=Europe/Tallinn:20230622T140000
DTSTAMP:20260419T225124
CREATED:20230601T085617Z
LAST-MODIFIED:20230601T085617Z
UID:716-1687428000-1687442400@laane-nigula.eelk.ee
SUMMARY:Annetusmüük
DESCRIPTION:
URL:https://laane-nigula.eelk.ee/syndmus/annetusmuuk-42/
CATEGORIES:Annetusmüük
END:VEVENT
BEGIN:VEVENT
DTSTART;TZID=Europe/Tallinn:20230628T100000
DTEND;TZID=Europe/Tallinn:20230628T160000
DTSTAMP:20260419T225124
CREATED:20230601T085413Z
LAST-MODIFIED:20230601T085413Z
UID:708-1687946400-1687968000@laane-nigula.eelk.ee
SUMMARY:Annetusmüük
DESCRIPTION:
URL:https://laane-nigula.eelk.ee/syndmus/annetusmuuk-38/
CATEGORIES:Annetusmüük
END:VEVENT
BEGIN:VEVENT
DTSTART;TZID=Europe/Tallinn:20230629T100000
DTEND;TZID=Europe/Tallinn:20230629T140000
DTSTAMP:20260419T225124
CREATED:20230601T085633Z
LAST-MODIFIED:20230601T085633Z
UID:718-1688032800-1688047200@laane-nigula.eelk.ee
SUMMARY:Annetusmüük
DESCRIPTION:
URL:https://laane-nigula.eelk.ee/syndmus/annetusmuuk-43/
CATEGORIES:Annetusmüük
END:VEVENT
BEGIN:VEVENT
DTSTART;TZID=Europe/Tallinn:20230701T100000
DTEND;TZID=Europe/Tallinn:20230701T140000
DTSTAMP:20260419T225124
CREATED:20230601T085948Z
LAST-MODIFIED:20230601T085948Z
UID:728-1688205600-1688220000@laane-nigula.eelk.ee
SUMMARY:Annetusmüük
DESCRIPTION:
URL:https://laane-nigula.eelk.ee/syndmus/annetusmuuk-48/
CATEGORIES:Annetusmüük
END:VEVENT
BEGIN:VEVENT
DTSTART;TZID=Europe/Tallinn:20230701T100000
DTEND;TZID=Europe/Tallinn:20230701T140000
DTSTAMP:20260419T225124
CREATED:20230601T103924Z
LAST-MODIFIED:20230601T103924Z
UID:906-1688205600-1688220000@laane-nigula.eelk.ee
SUMMARY:Annetusmüük
DESCRIPTION:
URL:https://laane-nigula.eelk.ee/syndmus/annetusmuuk-66/
CATEGORIES:Annetusmüük
END:VEVENT
BEGIN:VEVENT
DTSTART;TZID=Europe/Tallinn:20230705T100000
DTEND;TZID=Europe/Tallinn:20230705T160000
DTSTAMP:20260419T225124
CREATED:20230601T103120Z
LAST-MODIFIED:20230601T103120Z
UID:870-1688551200-1688572800@laane-nigula.eelk.ee
SUMMARY:Annetusmüük
DESCRIPTION:
URL:https://laane-nigula.eelk.ee/syndmus/annetusmuuk-47/
CATEGORIES:Annetusmüük
END:VEVENT
BEGIN:VEVENT
DTSTART;TZID=Europe/Tallinn:20230706T100000
DTEND;TZID=Europe/Tallinn:20230706T140000
DTSTAMP:20260419T225124
CREATED:20230601T103712Z
LAST-MODIFIED:20230601T103712Z
UID:888-1688637600-1688652000@laane-nigula.eelk.ee
SUMMARY:Annetusmüük
DESCRIPTION:
URL:https://laane-nigula.eelk.ee/syndmus/annetusmuuk-57/
CATEGORIES:Annetusmüük
END:VEVENT
BEGIN:VEVENT
DTSTART;TZID=Europe/Tallinn:20230708T100000
DTEND;TZID=Europe/Tallinn:20230708T140000
DTSTAMP:20260419T225124
CREATED:20230601T103935Z
LAST-MODIFIED:20230601T103935Z
UID:908-1688810400-1688824800@laane-nigula.eelk.ee
SUMMARY:Annetusmüük
DESCRIPTION:
URL:https://laane-nigula.eelk.ee/syndmus/annetusmuuk-67/
CATEGORIES:Annetusmüük
END:VEVENT
BEGIN:VEVENT
DTSTART;TZID=Europe/Tallinn:20230712T100000
DTEND;TZID=Europe/Tallinn:20230712T160000
DTSTAMP:20260419T225124
CREATED:20230601T103134Z
LAST-MODIFIED:20230601T103134Z
UID:872-1689156000-1689177600@laane-nigula.eelk.ee
SUMMARY:Annetusmüük
DESCRIPTION:
URL:https://laane-nigula.eelk.ee/syndmus/annetusmuuk-49/
CATEGORIES:Annetusmüük
END:VEVENT
BEGIN:VEVENT
DTSTART;TZID=Europe/Tallinn:20230713T100000
DTEND;TZID=Europe/Tallinn:20230713T140000
DTSTAMP:20260419T225124
CREATED:20230601T103723Z
LAST-MODIFIED:20230601T103723Z
UID:890-1689242400-1689256800@laane-nigula.eelk.ee
SUMMARY:Annetusmüük
DESCRIPTION:
URL:https://laane-nigula.eelk.ee/syndmus/annetusmuuk-58/
CATEGORIES:Annetusmüük
END:VEVENT
BEGIN:VEVENT
DTSTART;TZID=Europe/Tallinn:20230715T100000
DTEND;TZID=Europe/Tallinn:20230715T140000
DTSTAMP:20260419T225124
CREATED:20230601T103947Z
LAST-MODIFIED:20230601T103947Z
UID:910-1689415200-1689429600@laane-nigula.eelk.ee
SUMMARY:Annetusmüük
DESCRIPTION:
URL:https://laane-nigula.eelk.ee/syndmus/annetusmuuk-68/
CATEGORIES:Annetusmüük
END:VEVENT
BEGIN:VEVENT
DTSTART;TZID=Europe/Tallinn:20230719T100000
DTEND;TZID=Europe/Tallinn:20230719T160000
DTSTAMP:20260419T225124
CREATED:20230601T103145Z
LAST-MODIFIED:20230601T103145Z
UID:874-1689760800-1689782400@laane-nigula.eelk.ee
SUMMARY:Annetusmüük
DESCRIPTION:
URL:https://laane-nigula.eelk.ee/syndmus/annetusmuuk-50/
CATEGORIES:Annetusmüük
END:VEVENT
BEGIN:VEVENT
DTSTART;TZID=Europe/Tallinn:20230720T100000
DTEND;TZID=Europe/Tallinn:20230720T140000
DTSTAMP:20260419T225124
CREATED:20230601T103736Z
LAST-MODIFIED:20230601T103736Z
UID:892-1689847200-1689861600@laane-nigula.eelk.ee
SUMMARY:Annetusmüük
DESCRIPTION:
URL:https://laane-nigula.eelk.ee/syndmus/annetusmuuk-59/
CATEGORIES:Annetusmüük
END:VEVENT
BEGIN:VEVENT
DTSTART;TZID=Europe/Tallinn:20230722T100000
DTEND;TZID=Europe/Tallinn:20230722T140000
DTSTAMP:20260419T225124
CREATED:20230601T103958Z
LAST-MODIFIED:20230601T103958Z
UID:912-1690020000-1690034400@laane-nigula.eelk.ee
SUMMARY:Annetusmüük
DESCRIPTION:
URL:https://laane-nigula.eelk.ee/syndmus/annetusmuuk-69/
CATEGORIES:Annetusmüük
END:VEVENT
BEGIN:VEVENT
DTSTART;TZID=Europe/Tallinn:20230726T100000
DTEND;TZID=Europe/Tallinn:20230726T160000
DTSTAMP:20260419T225124
CREATED:20230601T103156Z
LAST-MODIFIED:20230601T103156Z
UID:876-1690365600-1690387200@laane-nigula.eelk.ee
SUMMARY:Annetusmüük
DESCRIPTION:
URL:https://laane-nigula.eelk.ee/syndmus/annetusmuuk-51/
CATEGORIES:Annetusmüük
END:VEVENT
BEGIN:VEVENT
DTSTART;TZID=Europe/Tallinn:20230727T100000
DTEND;TZID=Europe/Tallinn:20230727T140000
DTSTAMP:20260419T225124
CREATED:20230601T103746Z
LAST-MODIFIED:20230601T103746Z
UID:894-1690452000-1690466400@laane-nigula.eelk.ee
SUMMARY:Annetusmüük
DESCRIPTION:
URL:https://laane-nigula.eelk.ee/syndmus/annetusmuuk-60/
CATEGORIES:Annetusmüük
END:VEVENT
BEGIN:VEVENT
DTSTART;TZID=Europe/Tallinn:20230729T100000
DTEND;TZID=Europe/Tallinn:20230729T140000
DTSTAMP:20260419T225124
CREATED:20230601T104008Z
LAST-MODIFIED:20230601T104008Z
UID:914-1690624800-1690639200@laane-nigula.eelk.ee
SUMMARY:Annetusmüük
DESCRIPTION:
URL:https://laane-nigula.eelk.ee/syndmus/annetusmuuk-70/
CATEGORIES:Annetusmüük
END:VEVENT
BEGIN:VEVENT
DTSTART;TZID=Europe/Tallinn:20230802T100000
DTEND;TZID=Europe/Tallinn:20230802T160000
DTSTAMP:20260419T225124
CREATED:20230601T103447Z
LAST-MODIFIED:20230601T103643Z
UID:878-1690970400-1690992000@laane-nigula.eelk.ee
SUMMARY:Annetusmüük
DESCRIPTION:
URL:https://laane-nigula.eelk.ee/syndmus/annetusmuuk-52/
CATEGORIES:Annetusmüük
END:VEVENT
BEGIN:VEVENT
DTSTART;TZID=Europe/Tallinn:20230803T100000
DTEND;TZID=Europe/Tallinn:20230803T160000
DTSTAMP:20260419T225124
CREATED:20230601T103758Z
LAST-MODIFIED:20230601T103758Z
UID:896-1691056800-1691078400@laane-nigula.eelk.ee
SUMMARY:Annetusmüük
DESCRIPTION:
URL:https://laane-nigula.eelk.ee/syndmus/annetusmuuk-61/
CATEGORIES:Annetusmüük
END:VEVENT
BEGIN:VEVENT
DTSTART;TZID=Europe/Tallinn:20230805T100000
DTEND;TZID=Europe/Tallinn:20230805T140000
DTSTAMP:20260419T225124
CREATED:20230601T104019Z
LAST-MODIFIED:20230601T104019Z
UID:916-1691229600-1691244000@laane-nigula.eelk.ee
SUMMARY:Annetusmüük
DESCRIPTION:
URL:https://laane-nigula.eelk.ee/syndmus/annetusmuuk-71/
CATEGORIES:Annetusmüük
END:VEVENT
BEGIN:VEVENT
DTSTART;TZID=Europe/Tallinn:20230809T100000
DTEND;TZID=Europe/Tallinn:20230809T160000
DTSTAMP:20260419T225124
CREATED:20230601T103458Z
LAST-MODIFIED:20230601T103633Z
UID:880-1691575200-1691596800@laane-nigula.eelk.ee
SUMMARY:Annetusmüük
DESCRIPTION:
URL:https://laane-nigula.eelk.ee/syndmus/annetusmuuk-53/
CATEGORIES:Annetusmüük
END:VEVENT
BEGIN:VEVENT
DTSTART;TZID=Europe/Tallinn:20230810T100000
DTEND;TZID=Europe/Tallinn:20230810T140000
DTSTAMP:20260419T225124
CREATED:20230601T103808Z
LAST-MODIFIED:20230601T103808Z
UID:898-1691661600-1691676000@laane-nigula.eelk.ee
SUMMARY:Annetusmüük
DESCRIPTION:
URL:https://laane-nigula.eelk.ee/syndmus/annetusmuuk-62/
CATEGORIES:Annetusmüük
END:VEVENT
BEGIN:VEVENT
DTSTART;TZID=Europe/Tallinn:20230812T100000
DTEND;TZID=Europe/Tallinn:20230812T140000
DTSTAMP:20260419T225124
CREATED:20230601T104028Z
LAST-MODIFIED:20230601T104028Z
UID:918-1691834400-1691848800@laane-nigula.eelk.ee
SUMMARY:Annetusmüük
DESCRIPTION:
URL:https://laane-nigula.eelk.ee/syndmus/annetusmuuk-72/
CATEGORIES:Annetusmüük
END:VEVENT
END:VCALENDAR