BEGIN:VCALENDAR
VERSION:2.0
PRODID:-//EELK Lääne-Nigula kogudus - ECPv6.15.20//NONSGML v1.0//EN
CALSCALE:GREGORIAN
METHOD:PUBLISH
X-WR-CALNAME:EELK Lääne-Nigula kogudus
X-ORIGINAL-URL:https://laane-nigula.eelk.ee
X-WR-CALDESC:Events for EELK Lääne-Nigula kogudus
REFRESH-INTERVAL;VALUE=DURATION:PT1H
X-Robots-Tag:noindex
X-PUBLISHED-TTL:PT1H
BEGIN:VTIMEZONE
TZID:Europe/Tallinn
BEGIN:DAYLIGHT
TZOFFSETFROM:+0200
TZOFFSETTO:+0300
TZNAME:EEST
DTSTART:20220327T010000
END:DAYLIGHT
BEGIN:STANDARD
TZOFFSETFROM:+0300
TZOFFSETTO:+0200
TZNAME:EET
DTSTART:20221030T010000
END:STANDARD
BEGIN:DAYLIGHT
TZOFFSETFROM:+0200
TZOFFSETTO:+0300
TZNAME:EEST
DTSTART:20230326T010000
END:DAYLIGHT
BEGIN:STANDARD
TZOFFSETFROM:+0300
TZOFFSETTO:+0200
TZNAME:EET
DTSTART:20231029T010000
END:STANDARD
BEGIN:DAYLIGHT
TZOFFSETFROM:+0200
TZOFFSETTO:+0300
TZNAME:EEST
DTSTART:20240331T010000
END:DAYLIGHT
BEGIN:STANDARD
TZOFFSETFROM:+0300
TZOFFSETTO:+0200
TZNAME:EET
DTSTART:20241027T010000
END:STANDARD
END:VTIMEZONE
BEGIN:VEVENT
DTSTART;TZID=Europe/Tallinn:20230329T100000
DTEND;TZID=Europe/Tallinn:20230329T160000
DTSTAMP:20260420T065252
CREATED:20230228T184634Z
LAST-MODIFIED:20230228T184634Z
UID:463-1680084000-1680105600@laane-nigula.eelk.ee
SUMMARY:Annetusmüük
DESCRIPTION:
URL:https://laane-nigula.eelk.ee/syndmus/annetusmuuk-8/
CATEGORIES:Annetusmüük
END:VEVENT
BEGIN:VEVENT
DTSTART;TZID=Europe/Tallinn:20230401T100000
DTEND;TZID=Europe/Tallinn:20230401T140000
DTSTAMP:20260420T065252
CREATED:20230330T072535Z
LAST-MODIFIED:20230330T072535Z
UID:482-1680343200-1680357600@laane-nigula.eelk.ee
SUMMARY:Annetusmüük
DESCRIPTION:
URL:https://laane-nigula.eelk.ee/syndmus/annetusmuuk-13/
CATEGORIES:Annetusmüük
END:VEVENT
BEGIN:VEVENT
DTSTART;TZID=Europe/Tallinn:20230405T100000
DTEND;TZID=Europe/Tallinn:20230405T160000
DTSTAMP:20260420T065252
CREATED:20230330T072604Z
LAST-MODIFIED:20230330T072604Z
UID:484-1680688800-1680710400@laane-nigula.eelk.ee
SUMMARY:Annetusmüük
DESCRIPTION:
URL:https://laane-nigula.eelk.ee/syndmus/annetusmuuk-14/
CATEGORIES:Annetusmüük
END:VEVENT
BEGIN:VEVENT
DTSTART;TZID=Europe/Tallinn:20230412T100000
DTEND;TZID=Europe/Tallinn:20230412T160000
DTSTAMP:20260420T065252
CREATED:20230330T072635Z
LAST-MODIFIED:20230330T072645Z
UID:486-1681293600-1681315200@laane-nigula.eelk.ee
SUMMARY:Annetusmüük
DESCRIPTION:
URL:https://laane-nigula.eelk.ee/syndmus/annetusmuuk-15/
CATEGORIES:Annetusmüük
END:VEVENT
BEGIN:VEVENT
DTSTART;TZID=Europe/Tallinn:20230413T100000
DTEND;TZID=Europe/Tallinn:20230413T140000
DTSTAMP:20260420T065252
CREATED:20230330T072713Z
LAST-MODIFIED:20230330T072713Z
UID:488-1681380000-1681394400@laane-nigula.eelk.ee
SUMMARY:Annetusmüük
DESCRIPTION:
URL:https://laane-nigula.eelk.ee/syndmus/annetusmuuk-16/
CATEGORIES:Annetusmüük
END:VEVENT
BEGIN:VEVENT
DTSTART;TZID=Europe/Tallinn:20230415T100000
DTEND;TZID=Europe/Tallinn:20230415T140000
DTSTAMP:20260420T065252
CREATED:20230330T072740Z
LAST-MODIFIED:20230330T072740Z
UID:490-1681552800-1681567200@laane-nigula.eelk.ee
SUMMARY:Annetusmüük
DESCRIPTION:
URL:https://laane-nigula.eelk.ee/syndmus/annetusmuuk-17/
CATEGORIES:Annetusmüük
END:VEVENT
BEGIN:VEVENT
DTSTART;TZID=Europe/Tallinn:20230419T100000
DTEND;TZID=Europe/Tallinn:20230419T160000
DTSTAMP:20260420T065252
CREATED:20230330T072813Z
LAST-MODIFIED:20230330T072813Z
UID:492-1681898400-1681920000@laane-nigula.eelk.ee
SUMMARY:Annetusmüük
DESCRIPTION:
URL:https://laane-nigula.eelk.ee/syndmus/annetusmuuk-18/
CATEGORIES:Annetusmüük
END:VEVENT
BEGIN:VEVENT
DTSTART;TZID=Europe/Tallinn:20230420T100000
DTEND;TZID=Europe/Tallinn:20230420T140000
DTSTAMP:20260420T065252
CREATED:20230330T072844Z
LAST-MODIFIED:20230330T072940Z
UID:494-1681984800-1681999200@laane-nigula.eelk.ee
SUMMARY:Annetusmüük
DESCRIPTION:
URL:https://laane-nigula.eelk.ee/syndmus/annetusmuuk-19/
CATEGORIES:Annetusmüük
END:VEVENT
BEGIN:VEVENT
DTSTART;TZID=Europe/Tallinn:20230422T100000
DTEND;TZID=Europe/Tallinn:20230422T140000
DTSTAMP:20260420T065252
CREATED:20230330T072958Z
LAST-MODIFIED:20230330T072958Z
UID:497-1682157600-1682172000@laane-nigula.eelk.ee
SUMMARY:Annetusmüük
DESCRIPTION:
URL:https://laane-nigula.eelk.ee/syndmus/annetusmuuk-20/
CATEGORIES:Annetusmüük
END:VEVENT
BEGIN:VEVENT
DTSTART;TZID=Europe/Tallinn:20230426T100000
DTEND;TZID=Europe/Tallinn:20230426T160000
DTSTAMP:20260420T065252
CREATED:20230330T073022Z
LAST-MODIFIED:20230330T073022Z
UID:499-1682503200-1682524800@laane-nigula.eelk.ee
SUMMARY:Annetusmüük
DESCRIPTION:
URL:https://laane-nigula.eelk.ee/syndmus/annetusmuuk-21/
CATEGORIES:Annetusmüük
END:VEVENT
BEGIN:VEVENT
DTSTART;TZID=Europe/Tallinn:20230429T100000
DTEND;TZID=Europe/Tallinn:20230429T140000
DTSTAMP:20260420T065252
CREATED:20230330T073111Z
LAST-MODIFIED:20230330T073111Z
UID:502-1682762400-1682776800@laane-nigula.eelk.ee
SUMMARY:Annetusmüük
DESCRIPTION:
URL:https://laane-nigula.eelk.ee/syndmus/annetusmuuk-22/
CATEGORIES:Annetusmüük
END:VEVENT
BEGIN:VEVENT
DTSTART;TZID=Europe/Tallinn:20230503T100000
DTEND;TZID=Europe/Tallinn:20230503T160000
DTSTAMP:20260420T065252
CREATED:20230430T161404Z
LAST-MODIFIED:20230430T161404Z
UID:578-1683108000-1683129600@laane-nigula.eelk.ee
SUMMARY:Annetusmüük
DESCRIPTION:
URL:https://laane-nigula.eelk.ee/syndmus/annetusmuuk-23/
CATEGORIES:Annetusmüük
END:VEVENT
BEGIN:VEVENT
DTSTART;TZID=Europe/Tallinn:20230504T100000
DTEND;TZID=Europe/Tallinn:20230504T140000
DTSTAMP:20260420T065252
CREATED:20230430T161531Z
LAST-MODIFIED:20230430T161606Z
UID:582-1683194400-1683208800@laane-nigula.eelk.ee
SUMMARY:Annetusmüük
DESCRIPTION:
URL:https://laane-nigula.eelk.ee/syndmus/avatud-annetusmuuk/
CATEGORIES:Annetusmüük
END:VEVENT
BEGIN:VEVENT
DTSTART;TZID=Europe/Tallinn:20230506T100000
DTEND;TZID=Europe/Tallinn:20230506T140000
DTSTAMP:20260420T065252
CREATED:20230430T161553Z
LAST-MODIFIED:20230430T161553Z
UID:584-1683367200-1683381600@laane-nigula.eelk.ee
SUMMARY:Annetusmüük
DESCRIPTION:
URL:https://laane-nigula.eelk.ee/syndmus/annetusmuuk-24/
CATEGORIES:Annetusmüük
END:VEVENT
BEGIN:VEVENT
DTSTART;TZID=Europe/Tallinn:20230510T100000
DTEND;TZID=Europe/Tallinn:20230510T160000
DTSTAMP:20260420T065252
CREATED:20230430T161632Z
LAST-MODIFIED:20230430T161632Z
UID:587-1683712800-1683734400@laane-nigula.eelk.ee
SUMMARY:Annetusmüük
DESCRIPTION:
URL:https://laane-nigula.eelk.ee/syndmus/annetusmuuk-25/
CATEGORIES:Annetusmüük
END:VEVENT
BEGIN:VEVENT
DTSTART;TZID=Europe/Tallinn:20230511T100000
DTEND;TZID=Europe/Tallinn:20230511T140000
DTSTAMP:20260420T065252
CREATED:20230430T161657Z
LAST-MODIFIED:20230430T161657Z
UID:589-1683799200-1683813600@laane-nigula.eelk.ee
SUMMARY:Annetusmüük
DESCRIPTION:
URL:https://laane-nigula.eelk.ee/syndmus/annetusmuuk-26/
CATEGORIES:Annetusmüük
END:VEVENT
BEGIN:VEVENT
DTSTART;TZID=Europe/Tallinn:20230513T100000
DTEND;TZID=Europe/Tallinn:20230513T140000
DTSTAMP:20260420T065252
CREATED:20230430T161720Z
LAST-MODIFIED:20230430T161720Z
UID:591-1683972000-1683986400@laane-nigula.eelk.ee
SUMMARY:Annetusmüük
DESCRIPTION:
URL:https://laane-nigula.eelk.ee/syndmus/annetusmuuk-27/
CATEGORIES:Annetusmüük
END:VEVENT
BEGIN:VEVENT
DTSTART;TZID=Europe/Tallinn:20230517T100000
DTEND;TZID=Europe/Tallinn:20230517T160000
DTSTAMP:20260420T065252
CREATED:20230430T161751Z
LAST-MODIFIED:20230430T161751Z
UID:593-1684317600-1684339200@laane-nigula.eelk.ee
SUMMARY:Annetusmüük
DESCRIPTION:
URL:https://laane-nigula.eelk.ee/syndmus/annetusmuuk-28/
CATEGORIES:Annetusmüük
END:VEVENT
BEGIN:VEVENT
DTSTART;TZID=Europe/Tallinn:20230518T100000
DTEND;TZID=Europe/Tallinn:20230518T140000
DTSTAMP:20260420T065252
CREATED:20230430T161810Z
LAST-MODIFIED:20230430T161822Z
UID:595-1684404000-1684418400@laane-nigula.eelk.ee
SUMMARY:Annetusmüük
DESCRIPTION:
URL:https://laane-nigula.eelk.ee/syndmus/annetusmuuk-29/
CATEGORIES:Annetusmüük
END:VEVENT
BEGIN:VEVENT
DTSTART;TZID=Europe/Tallinn:20230520T100000
DTEND;TZID=Europe/Tallinn:20230520T140000
DTSTAMP:20260420T065252
CREATED:20230430T161838Z
LAST-MODIFIED:20230430T161838Z
UID:597-1684576800-1684591200@laane-nigula.eelk.ee
SUMMARY:Annetusmüük
DESCRIPTION:
URL:https://laane-nigula.eelk.ee/syndmus/annetusmuuk-30/
CATEGORIES:Annetusmüük
END:VEVENT
BEGIN:VEVENT
DTSTART;TZID=Europe/Tallinn:20230524T100000
DTEND;TZID=Europe/Tallinn:20230524T160000
DTSTAMP:20260420T065252
CREATED:20230430T161903Z
LAST-MODIFIED:20230430T161903Z
UID:599-1684922400-1684944000@laane-nigula.eelk.ee
SUMMARY:Annetusmüük
DESCRIPTION:
URL:https://laane-nigula.eelk.ee/syndmus/annetusmuuk-31/
CATEGORIES:Annetusmüük
END:VEVENT
BEGIN:VEVENT
DTSTART;TZID=Europe/Tallinn:20230525T100000
DTEND;TZID=Europe/Tallinn:20230525T140000
DTSTAMP:20260420T065252
CREATED:20230430T161921Z
LAST-MODIFIED:20230430T161921Z
UID:601-1685008800-1685023200@laane-nigula.eelk.ee
SUMMARY:Annetusmüük
DESCRIPTION:
URL:https://laane-nigula.eelk.ee/syndmus/annetusmuuk-32/
CATEGORIES:Annetusmüük
END:VEVENT
BEGIN:VEVENT
DTSTART;TZID=Europe/Tallinn:20230527T100000
DTEND;TZID=Europe/Tallinn:20230527T140000
DTSTAMP:20260420T065252
CREATED:20230430T161940Z
LAST-MODIFIED:20230430T161940Z
UID:603-1685181600-1685196000@laane-nigula.eelk.ee
SUMMARY:Annetusmüük
DESCRIPTION:
URL:https://laane-nigula.eelk.ee/syndmus/annetusmuuk-33/
CATEGORIES:Annetusmüük
END:VEVENT
BEGIN:VEVENT
DTSTART;TZID=Europe/Tallinn:20230531T100000
DTEND;TZID=Europe/Tallinn:20230531T160000
DTSTAMP:20260420T065252
CREATED:20230430T161957Z
LAST-MODIFIED:20230430T161957Z
UID:605-1685527200-1685548800@laane-nigula.eelk.ee
SUMMARY:Annetusmüük
DESCRIPTION:
URL:https://laane-nigula.eelk.ee/syndmus/annetusmuuk-34/
CATEGORIES:Annetusmüük
END:VEVENT
BEGIN:VEVENT
DTSTART;TZID=Europe/Tallinn:20230601T100000
DTEND;TZID=Europe/Tallinn:20230601T140000
DTSTAMP:20260420T065252
CREATED:20230601T085522Z
LAST-MODIFIED:20230601T085522Z
UID:710-1685613600-1685628000@laane-nigula.eelk.ee
SUMMARY:Annetusmüük
DESCRIPTION:
URL:https://laane-nigula.eelk.ee/syndmus/annetusmuuk-39/
CATEGORIES:Annetusmüük
END:VEVENT
BEGIN:VEVENT
DTSTART;TZID=Europe/Tallinn:20230603T100000
DTEND;TZID=Europe/Tallinn:20230603T140000
DTSTAMP:20260420T065252
CREATED:20230601T085700Z
LAST-MODIFIED:20230601T085700Z
UID:720-1685786400-1685800800@laane-nigula.eelk.ee
SUMMARY:Annetusmüük
DESCRIPTION:
URL:https://laane-nigula.eelk.ee/syndmus/annetusmuuk-44/
CATEGORIES:Annetusmüük
END:VEVENT
BEGIN:VEVENT
DTSTART;TZID=Europe/Tallinn:20230607T100000
DTEND;TZID=Europe/Tallinn:20230607T160000
DTSTAMP:20260420T065252
CREATED:20230601T085319Z
LAST-MODIFIED:20230601T085319Z
UID:702-1686132000-1686153600@laane-nigula.eelk.ee
SUMMARY:Annetusmüük
DESCRIPTION:
URL:https://laane-nigula.eelk.ee/syndmus/annetusmuuk-35/
CATEGORIES:Annetusmüük
END:VEVENT
BEGIN:VEVENT
DTSTART;TZID=Europe/Tallinn:20230608T100000
DTEND;TZID=Europe/Tallinn:20230608T140000
DTSTAMP:20260420T065252
CREATED:20230601T085535Z
LAST-MODIFIED:20230601T085535Z
UID:712-1686218400-1686232800@laane-nigula.eelk.ee
SUMMARY:Annetusmüük
DESCRIPTION:
URL:https://laane-nigula.eelk.ee/syndmus/annetusmuuk-40/
CATEGORIES:Annetusmüük
END:VEVENT
BEGIN:VEVENT
DTSTART;TZID=Europe/Tallinn:20230610T100000
DTEND;TZID=Europe/Tallinn:20230610T140000
DTSTAMP:20260420T065252
CREATED:20230601T085717Z
LAST-MODIFIED:20230601T085717Z
UID:722-1686391200-1686405600@laane-nigula.eelk.ee
SUMMARY:Annetusmüük
DESCRIPTION:
URL:https://laane-nigula.eelk.ee/syndmus/annetusmuuk-45/
CATEGORIES:Annetusmüük
END:VEVENT
BEGIN:VEVENT
DTSTART;TZID=Europe/Tallinn:20230614T100000
DTEND;TZID=Europe/Tallinn:20230614T160000
DTSTAMP:20260420T065252
CREATED:20230601T085344Z
LAST-MODIFIED:20230601T085344Z
UID:704-1686736800-1686758400@laane-nigula.eelk.ee
SUMMARY:Annetusmüük
DESCRIPTION:
URL:https://laane-nigula.eelk.ee/syndmus/annetusmuuk-36/
CATEGORIES:Annetusmüük
END:VEVENT
END:VCALENDAR